Workbook
Name exc_regeling_4wk_jn: 'Grondslagbepaling 4wk'!$B$8
Name exc_regeling_jn: 'Grondslagbepaling mnd'!$B$8
Name franchise2027: rekenwaarden!$L$3
Name franchise2028: rekenwaarden!$L$4
Name gekozen_premie_exc2027: rekenwaarden!$S$3
Name gekozen_premie_exc2028: rekenwaarden!$S$4
Name leeftijd_deelnemer: 'Grondslagbepaling mnd'!$B$9
Name leeftijd_deelnemer: 'Grondslagbepaling 4wk'!$B$9
Name leeftijd_partner: 'Grondslagbepaling mnd'!$B$10
Name leeftijd_partner: 'Grondslagbepaling 4wk'!$B$10
Name max_bijdrage_wkn_basis2027: rekenwaarden!$Q$3
Name max_bijdrage_wkn_basis2028: rekenwaarden!$Q$4
Name max_bijdrage_wkn_exc2027: rekenwaarden!$R$3
Name max_bijdrage_wkn_exc2028: rekenwaarden!$R$4
Name maxloon2027: rekenwaarden!$M$3
Name maxloon2028: rekenwaarden!$M$4
Name maxloonexc2027: rekenwaarden!$N$3
Name maxloonexc2028: rekenwaarden!$N$4
Name ploegendiensttoeslag2027: rekenwaarden!#REF!
Name ploegendiensttoeslag2028: rekenwaarden!#REF!
Name premiekort_ouderschapsverlof2027: rekenwaarden!$P$3
Name premiekort_ouderschapsverlof2028: rekenwaarden!$P$4
Name premiepct2027: rekenwaarden!$O$3
Name premiepct2028: rekenwaarden!$O$4
Name rekenwaarden_tabel: rekenwaarden!$K$3:$N$4

Sheet Toelichting
A1: Omschrijving | B1: Toelichting | D1: Uitgangspunten
A2: Soort grondslag | B2: De premieberekening wordt berekend op de aanlevering van een jaarsalaris
A3: Interpolatiemethode | B3: 1 = SV-dagen, 2 = kalenderdagen
A4: Verloningen per jaar | B4: 12 = maandelijks, 13 = 4 wekelijks
A5: Ingangsdatum dvb | B5: Laatste dag van dienstverband, in berekening inclusief
A6: Einddatum dvb | B6: Datum start dienstverband, in berekening inclusief
A7: Excedentregeling | B7: Geeft aan of een excedentregeling aanwezig is. Bij afwezigheid wordt er geen excedent grondslag bepaald.
A8: Leeftijd deelnemer | B8: De leeftijd van de deelnemer op 1 januari van het premiejaar, tbv ANW-hiaat premie
A9: Leeftijd partner | B9: De leeftijd van de partner van de deelnemer op 1 januari van het premiejaar, tbv ANW-hiaat premie
A10: Per periode
A11: Periode | B11: Periode in jaar, bij maandelijkse verloning zijn er 12 periodes en bij 4-wekelijkse verloning zijn er 13 periodes.
A12: Ingangsdatum | B12: Ingansdatum van de periode.
A13: Einddatum | B13: Einddatum van de periode.
A14: Peilloon (ft per jaar) | B14: Fulltime pensioengevend jaarsalaris - verplichte loonbestanddelen plus gekozen in variabel loon regeling, excl ploegendiensttoeslag
A15: Ploegen dienst toeslag | B15: Deel van de ploegendiensttoeslag dat meetelt in de Basisregeling. Dit zijn de verplichte delen volgens de cao plus gekozen in aanvullende ploegendiensttoeslag regeling
A16: Contract uren | B16: Het aantal uren van het vast dienstverband
A17: Uren voor regeling | B17: De pensioengevende uren per periode welke binnenkomen bij het pensioenfonds.
A18: Verlofuren voor regeling | B18: Het totaal aantal uren onbetaald verlof in de periode waarvoor met de Werknemer is afgesproken dat de pensioenopbouw wordt voortgezet.
A19: Voortzetting tijdens onbetaald ouderschapsverlof | B19: Indicatie of de uren voor onbetaald ouderschapsverlof worden voortgezet
A20: Verlof uren onbetaald ouderschapsverlof | B20: Het aantal uren onbetaald ouderschapsverlof
A21: Voortzetting tijdens overig onbetaald verlof | B21: Indicatie of de uren voor overig onbetaald verlof worden voortgezet
A22: Verlof uren overig onbetaald verlof | B22: Het aantal uren overig onbetaald verlof
... A33: deeltijdfactor onbetaald ouderschapsverlof | B33: De verhouding tussen het aantal uren Onbetaald Ouderschapsverlof en de het maximum aantal uren naar rato van de deelname.
A34: Salaris & grenswaarden
A35: FT jaarbasis ploegendiensttoeslag | B35: De ploegendiensttoelsag omgerekend naar een fulltime jaarsalaris.
A36: FT jaarsalaris incl ploegendiensttoeslag | B36: Het opgegeven salaris (peilloon (ft per jaar)) plus het fulltime jaarsalaris voor de ploegendiensttoeslag
A37: FT franchise | B37: Jaarlijks franchise uitgedrukt in een fulltime waarde
A38: FT max loon | B38: Jaarlijks maximum loon uitgedrukt in een fulltime waarde, bovengrens van de basis regeling en ondergrens van de basisregeling. De ploegendiensttoeslag is volledig onderdeel van de basisregeling, daarom wordt het maximum loon verhoogt met de ploegendiensttoeslag.
A39: FT max loon exc | B39: Jaarlijks fiscaal maximum loon uitgedrukt in een fulltime waarde, bovengrens van de excedent regeling.
A40: Basisregeling
A41: fulltime premiegrondslag basis | B41: Het opgegeven regelingloon wordt gemaximeerd op het maximum salaris dat geldt voor de Basisregeling minus de franchise.
A42: parttime premiegrondslag periode | B42: De grondslag per periode rekening houdend met het parttimerpercentage.
A43: parttime premiegrondslag onbetaald ouderschapsverlof per periode | B43: De grondslag per periode rekening houdend met het parttimerpercentage behorende bij de uren voortzetting oudershapsverlof.
A44: premie basisregeling | B44: De premie per periode
A45: premiekorting onbetaald ouderschapsverlof per periode | B45: De premiekorting voor het voortzetten van het ouderschapsverlof per periode
A46: totaal premie basisregeling periode | B46: De totale premie minus de premiekorting.
A47: Excedentregeling
A48: fulltime premiegrondslag excedent | B48: Het opgegeven regelingloon wordt gemaximeerd op het maximum fiscaal salaris dat geldt voor de Excedentregeling minus de maximum loon.
A49: premiegrondslag excedent periode | B49: De grondslag per periode rekening houdend met het parttimerpercentage.
A50: premie excedent periode | B50: De premie per periode voor excedent regeling.
A51: ANW-hiaat
A52: Verzekerd bedrag (gekozen) | B52: Door de Deelnemer gekozen verzekerd bedrag.
A53: Premie volgens tabel | B53: De premie per periode is afhankelijk van de leeftijd van de Deelnemer voor het bepalen van het Premietarief, de leeftijd van de partner van de Deelnemer voor het bepalen van het Koopsomtarief en het gekozen verzekerd bedrag.
A54: Samenvatting
A55: Premie basisregeling totaal | B55: De totaal verschuldigde premie voor de basisregeling
A56: Premie excedentregeling totaal | B56: De totaal verschuldigde premie voor de excedentregeling
A57: Premie ANW-hiaat | B57: De totaal verschuldigde premie voor de ANW-hiaat regeling
A58: Totaal | B58: De som van de bovenstaande premies

Sheet Grondslagbepaling mnd
A3: Soort grondslag | B3: jaarsalaris | H3: =IF(AND(H4="", H5=""), "", "Fout sheet:")
A4: Interpolatiemethode | B4: 2 | C4: --> | D4: 1 = SV-dagen, 2 = kalenderdagen | H4: =IF(AND($T$15:$T$38),"", "Gegevens komen niet overeen met dienstverbandlengte. Input wijzigen of ingang/einde dienstverband verplaatsen")
A5: Verloningen per jaar | B5: 12 | C5: --> | D5: 12 = maandelijks, 13 = 4 wekelijks | H5: =IF(B6<=B7,"", "Ingang dienstverband kan niet voor einddatum dienstverband liggen")
A6: Ingangsdatum dvb | B6: 46388
A7: Einddatum dvb | B7: 47097
A8: Excedentregeling | B8: TRUE | E8: = | F8: aan te passen veld
A9: Leeftijd deelnemer | B9: 51
A10: Leeftijd partner | B10: 44
D12: Aangeleverd salaris, uren en verlof | M12: Berekening voor gebroken periodes | U12: Parttimepercentages | W12: Fulltime rekenwaarden | AB12: Basisregeling | AC12: RegKnmrk | AD12: U0757-2010 | AH12: Excedentregeling | AJ12: U0757-2020 | AK12: ANW-hiaat | AM12: Samenvatting
D13: RegLn | E13: OnrTsl | G13: VerlofUReg | I13: UrenVerl (OSP) | K13: UrenVerl | L13: AantUNormWk
A14: periode | B14: ingangsdatum | C14: einddatum | D14: peilloon (ft per jaar) | E14: ploegen dienst toeslag | F14: uren voor regeling | G14: verlofuren voor regeling | H14: voortzetting tijdens onbetaald ouderschapsverlof | I14: verlof uren onbetaald ouderschapsverlof | J14: voortzetting tijdens overig onbetaald verlof | K14: verlof uren overig onbetaald verlof | L14: normuren per week | M14: startdatum | N14: einddatum | O14: gewerkte dagen in periode | P14: deel periode | Q14: deel van jaar berekening | R14: normuren periode | S14: uren voor regeling, gemaximeerd | T14: gegevens correct? | U14: deeltijdfactor regeling | V14: deeltijdfactor onbetaald ouderschapsverlof | W14: FT jaarbasis ploegendiensttoeslag | X14: FT jaarsalaris incl ploegendiensttoeslag | Y14: FT franchise | Z14: FT max loon | AA14: FT max loon exc | AB14: fulltime premiegrondslag basis | AC14: parttime premiegrondslag periode | AD14: parttime premiegrondslag onbetaald ouderschapsverlof per periode | AE14: premie basisregeling | AF14: premiekorting onbetaald ouderschapsverlof per periode | AG14: totaal premie basisregeling periode | AH14: fulltime premiegrondslag excedent | AI14: premiegrondslag excedent periode | AJ14: premie excedent periode | AK14: verzekerd bedrag (gekozen) | AL14: premie volgens tabel | AM14: premie basisregeling totaal | AN14: premie excedent-regeling totaal | AO14: premie ANW-hiaat | AP14: totaal
A15: =IF(AND($B$5=12, COUNTIF($A$14:A14, 12)>1), "",IF(OR(AND($B$5=12, A14=12),AND($B$5=13, A14=13), A14 = "Periode"), 1, A14+1)) -> 1 | B15: =IF(OR(IF($B$5=13, rekenwaarden!D3, rekenwaarden!I3)<$B$6,IF($B$5=13, rekenwaarden!C3, rekenwaarden!H3)>$B$7),"",IF(A15="", "", IF($B$5=13, rekenwaarden!C3, rekenwaarden!H3))) -> 46388 | C15: =IF(B15="", "", IF($B$5=13, rekenwaarden!D3, rekenwaarden!I3)) -> 46418 | D15: 23328 | E15: 1000 | F15: 138.67 | G15: 20 | H15: ja | I15: 20 | J15: nee | K15: 0 | L15: 40 | M15: =IF(OR(MAX($B$6, B15)>C15, MIN($B$7, C15)<B15),"", MAX($B$6, B15)) -> 46388 | N15: =IF(OR(MAX($B$6, B15)>C15, MIN($B$7, C15)<B15),"", MIN($B$7, C15)) -> 46418 | O15: =IF(M15="","",IF($B$4=2,N15-M15+1,NETWORKDAYS(M15, N15))) -> 31 | P15: =IF(M15="", "", O15 / IF($B$4=2,(C15-B15+1), NETWORKDAYS(B15,C15))) -> 1 | Q15: =IF(M15="","", IF($B$4=2,P15/$B$5, IF($B$4=1,(O15/NETWORKDAYS(DATE(YEAR(M15),1,1), DATE(YEAR(N15),12,31))),0) )) -> 0.083333333 | R15: =(IF(M15="", "", L15*IF($B$4=2, 52/$B$5*P15, O15/5))) -> 173.33333 | S15: =MIN(F15,R15) -> 138.67 | T15: =IF(M15<>"", AND(D15<>"", F15<>"", L15<>""), AND(D15="", F15="", L15="")) -> TRUE | U15: =S15/R15 -> 0.80001923 | V15: =IF(H15="ja",I15,0)/R15 -> 0.11538462 | W15: =(E15/U15)/Q15 -> 14999.639 | X15: =W15+D15 -> 38327.639 | Y15: =franchise2027 -> 19172 | Z15: =MIN(maxloon2027+W15, maxloonexc2027) -> 89999.639 | AA15: =maxloonexc2027 -> 137800 | AB15: =MIN(X15,Z15,AA15)-Y15 -> 19155.639 | AC15: =AB15*U15*Q15 -> 1277.0733 | AD15: =AB15*V15*Q15 -> 184.18884 | AE15: =AC15*premiepct2027 -> 357.32512 | AF15: =AD15*premiepct2027*premiekort_ouderschapsverlof2027 -> 25.768019 | AG15: =AE15-AF15 -> 331.5571 | AH15: =IF(exc_regeling_jn,MAX(MIN(X15,AA15)-Z15, 0),"") -> 0 | AI15: =IF(exc_regeling_jn,AH15*U15*Q15,"") -> 0 | AJ15: =IF(exc_regeling_jn,AI15*gekozen_premie_exc2027,"") -> 0 | AK15: 18000 | AL15: =AK15/1000*VLOOKUP(leeftijd_deelnemer,'premie ANW-hiaat'!A$2:C$54,2,0)*VLOOKUP(leeftijd_partner,'premie ANW-hiaat'!A$2:C$54,3,0)*Q15 -> 33.22215 | AM15: =AG15 -> 331.5571 | AN15: =IF(exc_regeling_jn,AJ15,"") -> 0 | AO15: =AL15 -> 33.22215 | AP15: =SUM(AM15:AO15) -> 364.77925
A16: =IF(AND($B$5=12, COUNTIF($A$14:A15, 12)>1), "",IF(OR(AND($B$5=12, A15=12),AND($B$5=13, A15=13), A15 = "Periode"), 1, A15+1)) -> 2 | B16: =IF(OR(IF($B$5=13, rekenwaarden!D4, rekenwaarden!I4)<$B$6,IF($B$5=13, rekenwaarden!C4, rekenwaarden!H4)>$B$7),"",IF(A16="", "", IF($B$5=13, rekenwaarden!C4, rekenwaarden!H4))) -> 46419 | C16: =IF(B16="", "", IF($B$5=13, rekenwaarden!D4, rekenwaarden!I4)) -> 46446 | D16: 23328 | E16: 1000 | F16: 138.67 | G16: 0 | H16: nee | I16: 0 | J16: nee | K16: 0 | L16: 40 | M16: =IF(OR(MAX($B$6, B16)>C16, MIN($B$7, C16)<B16),"", MAX($B$6, B16)) -> 46419 | N16: =IF(OR(MAX($B$6, B16)>C16, MIN($B$7, C16)<B16),"", MIN($B$7, C16)) -> 46446 | O16: =IF(M16="","",IF($B$4=2,N16-M16+1,NETWORKDAYS(M16, N16))) -> 28 | P16: =IF(M16="", "", O16 / IF($B$4=2,(C16-B16+1), NETWORKDAYS(B16,C16))) -> 1 | Q16: =IF(M16="","", IF($B$4=2,P16/$B$5, IF($B$4=1,(O16/NETWORKDAYS(DATE(YEAR(M16),1,1), DATE(YEAR(N16),12,31))),0) )) -> 0.083333333 | R16: =ROUND((IF(M16="", "", L16*IF($B$4=2, 52/$B$5*P16, O16/5))),2) -> 173.33 | S16: =MIN(F16,R16) -> 138.67 | T16: =IF(M16<>"", AND(D16<>"", F16<>"", L16<>""), AND(D16="", F16="", L16="")) -> TRUE | U16: =S16/R16 -> 0.80003462 | V16: =IF(H16="ja",I16,0)/R16 -> 0 | W16: =(E16/U16)/Q16 -> 14999.351 | X16: =W16+D16 -> 38327.351 | Y16: =franchise2027 -> 19172 | Z16: =MIN(maxloon2027+W16, maxloonexc2027) -> 89999.351 | AA16: =maxloonexc2027 -> 137800 | AB16: =MIN(X16,Z16,AA16)-Y16 -> 19155.351 | AC16: =AB16*U16*Q16 -> 1277.0787 | AD16: =AB16*V16*Q16 -> 0 | AE16: =AC16*premiepct2027 -> 357.32661 | AF16: =AD16*premiepct2027*premiekort_ouderschapsverlof2027 -> 0 | AG16: =AE16-AF16 -> 357.32661 | AH16: =IF(exc_regeling_jn,MAX(MIN(X16,AA16)-Z16, 0),"") -> 0 | AI16: =IF(exc_regeling_jn,AH16*U16*Q16,"") -> 0 | AJ16: =IF(exc_regeling_jn,AI16*gekozen_premie_exc2027,"") -> 0 | AK16: 18000 | AL16: =AK16/1000*VLOOKUP(leeftijd_deelnemer,'premie ANW-hiaat'!A$2:C$54,2,0)*VLOOKUP(leeftijd_partner,'premie ANW-hiaat'!A$2:C$54,3,0)*Q16 -> 33.22215 | AM16: =AG16 -> 357.32661 | AN16: =IF(exc_regeling_jn,AJ16,"") -> 0 | AO16: =AL16 -> 33.22215 | AP16: =SUM(AM16:AO16) -> 390.54876
A17: =IF(AND($B$5=12, COUNTIF($A$14:A16, 12)>1), "",IF(OR(AND($B$5=12, A16=12),AND($B$5=13, A16=13), A16 = "Periode"), 1, A16+1)) -> 3 | B17: =IF(OR(IF($B$5=13, rekenwaarden!D5, rekenwaarden!I5)<$B$6,IF($B$5=13, rekenwaarden!C5, rekenwaarden!H5)>$B$7),"",IF(A17="", "", IF($B$5=13, rekenwaarden!C5, rekenwaarden!H5))) -> 46447 | C17: =IF(B17="", "", IF($B$5=13, rekenwaarden!D5, rekenwaarden!I5)) -> 46477 | D17: 23328 | E17: 1000 | F17: 138.67 | G17: 0 | H17: nee | I17: 0 | J17: nee | K17: 0 | L17: 40 | M17: =IF(OR(MAX($B$6, B17)>C17, MIN($B$7, C17)<B17),"", MAX($B$6, B17)) -> 46447 | N17: =IF(OR(MAX($B$6, B17)>C17, MIN($B$7, C17)<B17),"", MIN($B$7, C17)) -> 46477 | O17: =IF(M17="","",IF($B$4=2,N17-M17+1,NETWORKDAYS(M17, N17))) -> 31 | P17: =IF(M17="", "", O17 / IF($B$4=2,(C17-B17+1), NETWORKDAYS(B17,C17))) -> 1 | Q17: =IF(M17="","", IF($B$4=2,P17/$B$5, IF($B$4=1,(O17/NETWORKDAYS(DATE(YEAR(M17),1,1), DATE(YEAR(N17),12,31))),0) )) -> 0.083333333 | R17: =ROUND((IF(M17="", "", L17*IF($B$4=2, 52/$B$5*P17, O17/5))),2) -> 173.33 | S17: =MIN(F17,R17) -> 138.67 | T17: =IF(M17<>"", AND(D17<>"", F17<>"", L17<>""), AND(D17="", F17="", L17="")) -> TRUE | U17: =S17/R17 -> 0.80003462 | V17: =IF(H17="ja",I17,0)/R17 -> 0 | W17: =(E17/U17)/Q17 -> 14999.351 | X17: =W17+D17 -> 38327.351 | Y17: =franchise2027 -> 19172 | Z17: =MIN(maxloon2027+W17, maxloonexc2027) -> 89999.351 | AA17: =maxloonexc2027 -> 137800 | AB17: =MIN(X17,Z17,AA17)-Y17 -> 19155.351 | AC17: =AB17*U17*Q17 -> 1277.0787 | AD17: =AB17*V17*Q17 -> 0 | AE17: =AC17*premiepct2027 -> 357.32661 | AF17: =AD17*premiepct2027*premiekort_ouderschapsverlof2027 -> 0 | AG17: =AE17-AF17 -> 357.32661 | AH17: =IF(exc_regeling_jn,MAX(MIN(X17,AA17)-Z17, 0),"") -> 0 | AI17: =IF(exc_regeling_jn,AH17*U17*Q17,"") -> 0 | AJ17: =IF(exc_regeling_jn,AI17*gekozen_premie_exc2027,"") -> 0 | AK17: 18000 | AL17: =AK17/1000*VLOOKUP(leeftijd_deelnemer,'premie ANW-hiaat'!A$2:C$54,2,0)*VLOOKUP(leeftijd_partner,'premie ANW-hiaat'!A$2:C$54,3,0)*Q17 -> 33.22215 | AM17: =AG17 -> 357.32661 | AN17: =IF(exc_regeling_jn,AJ17,"") -> 0 | AO17: =AL17 -> 33.22215 | AP17: =SUM(AM17:AO17) -> 390.54876
A18: =IF(AND($B$5=12, COUNTIF($A$14:A17, 12)>1), "",IF(OR(AND($B$5=12, A17=12),AND($B$5=13, A17=13), A17 = "Periode"), 1, A17+1)) -> 4 | B18: =IF(OR(IF($B$5=13, rekenwaarden!D6, rekenwaarden!I6)<$B$6,IF($B$5=13, rekenwaarden!C6, rekenwaarden!H6)>$B$7),"",IF(A18="", "", IF($B$5=13, rekenwaarden!C6, rekenwaarden!H6))) -> 46478 | C18: =IF(B18="", "", IF($B$5=13, rekenwaarden!D6, rekenwaarden!I6)) -> 46507 | D18: 23328 | E18: 1000 | F18: 138.67 | G18: 20 | H18: nee | I18: 20 | J18: ja | K18: 20 | L18: 40 | M18: =IF(OR(MAX($B$6, B18)>C18, MIN($B$7, C18)<B18),"", MAX($B$6, B18)) -> 46478 | N18: =IF(OR(MAX($B$6, B18)>C18, MIN($B$7, C18)<B18),"", MIN($B$7, C18)) -> 46507 | O18: =IF(M18="","",IF($B$4=2,N18-M18+1,NETWORKDAYS(M18, N18))) -> 30 | P18: =IF(M18="", "", O18 / IF($B$4=2,(C18-B18+1), NETWORKDAYS(B18,C18))) -> 1 | Q18: =IF(M18="","", IF($B$4=2,P18/$B$5, IF($B$4=1,(O18/NETWORKDAYS(DATE(YEAR(M18),1,1), DATE(YEAR(N18),12,31))),0) )) -> 0.083333333 | R18: =ROUND((IF(M18="", "", L18*IF($B$4=2, 52/$B$5*P18, O18/5))),2) -> 173.33 | S18: =MIN(F18,R18) -> 138.67 | T18: =IF(M18<>"", AND(D18<>"", F18<>"", L18<>""), AND(D18="", F18="", L18="")) -> TRUE | U18: =S18/R18 -> 0.80003462 | V18: =IF(H18="ja",I18,0)/R18 -> 0 | W18: =(E18/U18)/Q18 -> 14999.351 | X18: =W18+D18 -> 38327.351 | Y18: =franchise2027 -> 19172 | Z18: =MIN(maxloon2027+W18, maxloonexc2027) -> 89999.351 | AA18: =maxloonexc2027 -> 137800 | AB18: =MIN(X18,Z18,AA18)-Y18 -> 19155.351 | AC18: =AB18*U18*Q18 -> 1277.0787 | AD18: =AB18*V18*Q18 -> 0 | AE18: =AC18*premiepct2027 -> 357.32661 | AF18: =AD18*premiepct2027*premiekort_ouderschapsverlof2027 -> 0 | AG18: =AE18-AF18 -> 357.32661 | AH18: =IF(exc_regeling_jn,MAX(MIN(X18,AA18)-Z18, 0),"") -> 0 | AI18: =IF(exc_regeling_jn,AH18*U18*Q18,"") -> 0 | AJ18: =IF(exc_regeling_jn,AI18*gekozen_premie_exc2027,"") -> 0 | AK18: 18000 | AL18: =AK18/1000*VLOOKUP(leeftijd_deelnemer,'premie ANW-hiaat'!A$2:C$54,2,0)*VLOOKUP(leeftijd_partner,'premie ANW-hiaat'!A$2:C$54,3,0)*Q18 -> 33.22215 | AM18: =AG18 -> 357.32661 | AN18: =IF(exc_regeling_jn,AJ18,"") -> 0 | AO18: =AL18 -> 33.22215 | AP18: =SUM(AM18:AO18) -> 390.54876
A19: =IF(AND($B$5=12, COUNTIF($A$14:A18, 12)>1), "",IF(OR(AND($B$5=12, A18=12),AND($B$5=13, A18=13), A18 = "Periode"), 1, A18+1)) -> 5 | B19: =IF(OR(IF($B$5=13, rekenwaarden!D7, rekenwaarden!I7)<$B$6,IF($B$5=13, rekenwaarden!C7, rekenwaarden!H7)>$B$7),"",IF(A19="", "", IF($B$5=13, rekenwaarden!C7, rekenwaarden!H7))) -> 46508 | C19: =IF(B19="", "", IF($B$5=13, rekenwaarden!D7, rekenwaarden!I7)) -> 46538 | D19: 23328 | E19: 1000 | F19: 138.67 | G19: 40 | H19: ja | I19: 20 | J19: ja | K19: 20 | L19: 40 | M19: =IF(OR(MAX($B$6, B19)>C19, MIN($B$7, C19)<B19),"", MAX($B$6, B19)) -> 46508 | N19: =IF(OR(MAX($B$6, B19)>C19, MIN($B$7, C19)<B19),"", MIN($B$7, C19)) -> 46538 | O19: =IF(M19="","",IF($B$4=2,N19-M19+1,NETWORKDAYS(M19, N19))) -> 31 | P19: =IF(M19="", "", O19 / IF($B$4=2,(C19-B19+1), NETWORKDAYS(B19,C19))) -> 1 | Q19: =IF(M19="","", IF($B$4=2,P19/$B$5, IF($B$4=1,(O19/NETWORKDAYS(DATE(YEAR(M19),1,1), DATE(YEAR(N19),12,31))),0) )) -> 0.083333333 | R19: =ROUND((IF(M19="", "", L19*IF($B$4=2, 52/$B$5*P19, O19/5))),2) -> 173.33 | S19: =MIN(F19,R19) -> 138.67 | T19: =IF(M19<>"", AND(D19<>"", F19<>"", L19<>""), AND(D19="", F19="", L19="")) -> TRUE | U19: =S19/R19 -> 0.80003462 | V19: =IF(H19="ja",I19,0)/R19 -> 0.11538683 | W19: =(E19/U19)/Q19 -> 14999.351 | X19: =W19+D19 -> 38327.351 | Y19: =franchise2027 -> 19172 | Z19: =MIN(maxloon2027+W19, maxloonexc2027) -> 89999.351 | AA19: =maxloonexc2027 -> 137800 | AB19: =MIN(X19,Z19,AA19)-Y19 -> 19155.351 | AC19: =AB19*U19*Q19 -> 1277.0787 | AD19: =AB19*V19*Q19 -> 184.18961 | AE19: =AC19*premiepct2027 -> 357.32661 | AF19: =AD19*premiepct2027*premiekort_ouderschapsverlof2027 -> 25.768126 | AG19: =AE19-AF19 -> 331.55848 | AH19: =IF(exc_regeling_jn,MAX(MIN(X19,AA19)-Z19, 0),"") -> 0 | AI19: =IF(exc_regeling_jn,AH19*U19*Q19,"") -> 0 | AJ19: =IF(exc_regeling_jn,AI19*gekozen_premie_exc2027,"") -> 0 | AK19: 18000 | AL19: =AK19/1000*VLOOKUP(leeftijd_deelnemer,'premie ANW-hiaat'!A$2:C$54,2,0)*VLOOKUP(leeftijd_partner,'premie ANW-hiaat'!A$2:C$54,3,0)*Q19 -> 33.22215 | AM19: =AG19 -> 331.55848 | AN19: =IF(exc_regeling_jn,AJ19,"") -> 0 | AO19: =AL19 -> 33.22215 | AP19: =SUM(AM19:AO19) -> 364.78063
A20: =IF(AND($B$5=12, COUNTIF($A$14:A19, 12)>1), "",IF(OR(AND($B$5=12, A19=12),AND($B$5=13, A19=13), A19 = "Periode"), 1, A19+1)) -> 6 | B20: =IF(OR(IF($B$5=13, rekenwaarden!D8, rekenwaarden!I8)<$B$6,IF($B$5=13, rekenwaarden!C8, rekenwaarden!H8)>$B$7),"",IF(A20="", "", IF($B$5=13, rekenwaarden!C8, rekenwaarden!H8))) -> 46539 | C20: =IF(B20="", "", IF($B$5=13, rekenwaarden!D8, rekenwaarden!I8)) -> 46568 | D20: 23328 | E20: 1000 | F20: 138.67 | G20: 20 | H20: nee | I20: 20 | J20: ja | K20: 20 | L20: 40 | M20: =IF(OR(MAX($B$6, B20)>C20, MIN($B$7, C20)<B20),"", MAX($B$6, B20)) -> 46539 | N20: =IF(OR(MAX($B$6, B20)>C20, MIN($B$7, C20)<B20),"", MIN($B$7, C20)) -> 46568 | O20: =IF(M20="","",IF($B$4=2,N20-M20+1,NETWORKDAYS(M20, N20))) -> 30 | P20: =IF(M20="", "", O20 / IF($B$4=2,(C20-B20+1), NETWORKDAYS(B20,C20))) -> 1 | Q20: =IF(M20="","", IF($B$4=2,P20/$B$5, IF($B$4=1,(O20/NETWORKDAYS(DATE(YEAR(M20),1,1), DATE(YEAR(N20),12,31))),0) )) -> 0.083333333 | R20: =ROUND((IF(M20="", "", L20*IF($B$4=2, 52/$B$5*P20, O20/5))),2) -> 173.33 | S20: =MIN(F20,R20) -> 138.67 | T20: =IF(M20<>"", AND(D20<>"", F20<>"", L20<>""), AND(D20="", F20="", L20="")) -> TRUE | U20: =S20/R20 -> 0.80003462 | V20: =IF(H20="ja",I20,0)/R20 -> 0 | W20: =(E20/U20)/Q20 -> 14999.351 | X20: =W20+D20 -> 38327.351 | Y20: =franchise2027 -> 19172 | Z20: =MIN(maxloon2027+W20, maxloonexc2027) -> 89999.351 | AA20: =maxloonexc2027 -> 137800 | AB20: =MIN(X20,Z20,AA20)-Y20 -> 19155.351 | AC20: =AB20*U20*Q20 -> 1277.0787 | AD20: =AB20*V20*Q20 -> 0 | AE20: =AC20*premiepct2027 -> 357.32661 | AF20: =AD20*premiepct2027*premiekort_ouderschapsverlof2027 -> 0 | AG20: =AE20-AF20 -> 357.32661 | AH20: =IF(exc_regeling_jn,MAX(MIN(X20,AA20)-Z20, 0),"") -> 0 | AI20: =IF(exc_regeling_jn,AH20*U20*Q20,"") -> 0 | AJ20: =IF(exc_regeling_jn,AI20*gekozen_premie_exc2027,"") -> 0 | AK20: 18000 | AL20: =AK20/1000*VLOOKUP(leeftijd_deelnemer,'premie ANW-hiaat'!A$2:C$54,2,0)*VLOOKUP(leeftijd_partner,'premie ANW-hiaat'!A$2:C$54,3,0)*Q20 -> 33.22215 | AM20: =AG20 -> 357.32661 | AN20: =IF(exc_regeling_jn,AJ20,"") -> 0 | AO20: =AL20 -> 33.22215 | AP20: =SUM(AM20:AO20) -> 390.54876
A21: =IF(AND($B$5=12, COUNTIF($A$14:A20, 12)>1), "",IF(OR(AND($B$5=12, A20=12),AND($B$5=13, A20=13), A20 = "Periode"), 1, A20+1)) -> 7 | B21: =IF(OR(IF($B$5=13, rekenwaarden!D9, rekenwaarden!I9)<$B$6,IF($B$5=13, rekenwaarden!C9, rekenwaarden!H9)>$B$7),"",IF(A21="", "", IF($B$5=13, rekenwaarden!C9, rekenwaarden!H9))) -> 46569 | C21: =IF(B21="", "", IF($B$5=13, rekenwaarden!D9, rekenwaarden!I9)) -> 46599 | D21: 23328 | E21: 1000 | F21: 138.67 | G21: 20 | H21: ja | I21: 20 | J21: nee | K21: 20 | L21: 40 | M21: =IF(OR(MAX($B$6, B21)>C21, MIN($B$7, C21)<B21),"", MAX($B$6, B21)) -> 46569 | N21: =IF(OR(MAX($B$6, B21)>C21, MIN($B$7, C21)<B21),"", MIN($B$7, C21)) -> 46599 | O21: =IF(M21="","",IF($B$4=2,N21-M21+1,NETWORKDAYS(M21, N21))) -> 31 | P21: =IF(M21="", "", O21 / IF($B$4=2,(C21-B21+1), NETWORKDAYS(B21,C21))) -> 1 | Q21: =IF(M21="","", IF($B$4=2,P21/$B$5, IF($B$4=1,(O21/NETWORKDAYS(DATE(YEAR(M21),1,1), DATE(YEAR(N21),12,31))),0) )) -> 0.083333333 | R21: =ROUND((IF(M21="", "", L21*IF($B$4=2, 52/$B$5*P21, O21/5))),2) -> 173.33 | S21: =MIN(F21,R21) -> 138.67 | T21: =IF(M21<>"", AND(D21<>"", F21<>"", L21<>""), AND(D21="", F21="", L21="")) -> TRUE | U21: =S21/R21 -> 0.80003462 | V21: =IF(H21="ja",I21,0)/R21 -> 0.11538683 | W21: =(E21/U21)/Q21 -> 14999.351 | X21: =W21+D21 -> 38327.351 | Y21: =franchise2027 -> 19172 | Z21: =MIN(maxloon2027+W21, maxloonexc2027) -> 89999.351 | AA21: =maxloonexc2027 -> 137800 | AB21: =MIN(X21,Z21,AA21)-Y21 -> 19155.351 | AC21: =AB21*U21*Q21 -> 1277.0787 | AD21: =AB21*V21*Q21 -> 184.18961 | AE21: =AC21*premiepct2027 -> 357.32661 | AF21: =AD21*premiepct2027*premiekort_ouderschapsverlof2027 -> 25.768126 | AG21: =AE21-AF21 -> 331.55848 | AH21: =IF(exc_regeling_jn,MAX(MIN(X21,AA21)-Z21, 0),"") -> 0 | AI21: =IF(exc_regeling_jn,AH21*U21*Q21,"") -> 0 | AJ21: =IF(exc_regeling_jn,AI21*gekozen_premie_exc2027,"") -> 0 | AK21: 18000 | AL21: =AK21/1000*VLOOKUP(leeftijd_deelnemer,'premie ANW-hiaat'!A$2:C$54,2,0)*VLOOKUP(leeftijd_partner,'premie ANW-hiaat'!A$2:C$54,3,0)*Q21 -> 33.22215 | AM21: =AG21 -> 331.55848 | AN21: =IF(exc_regeling_jn,AJ21,"") -> 0 | AO21: =AL21 -> 33.22215 | AP21: =SUM(AM21:AO21) -> 364.78063
A22: =IF(AND($B$5=12, COUNTIF($A$14:A21, 12)>1), "",IF(OR(AND($B$5=12, A21=12),AND($B$5=13, A21=13), A21 = "Periode"), 1, A21+1)) -> 8 | B22: =IF(OR(IF($B$5=13, rekenwaarden!D10, rekenwaarden!I10)<$B$6,IF($B$5=13, rekenwaarden!C10, rekenwaarden!H10)>$B$7),"",IF(A22="", "", IF($B$5=13, rekenwaarden!C10, rekenwaarden!H10))) -> 46600 | C22: =IF(B22="", "", IF($B$5=13, rekenwaarden!D10, rekenwaarden!I10)) -> 46630 | D22: 23328 | E22: 1000 | F22: 138.67 | G22: 40 | H22: ja | I22: 40 | J22: nee | K22: 0 | L22: 40 | M22: =IF(OR(MAX($B$6, B22)>C22, MIN($B$7, C22)<B22),"", MAX($B$6, B22)) -> 46600 | N22: =IF(OR(MAX($B$6, B22)>C22, MIN($B$7, C22)<B22),"", MIN($B$7, C22)) -> 46630 | O22: =IF(M22="","",IF($B$4=2,N22-M22+1,NETWORKDAYS(M22, N22))) -> 31 | P22: =IF(M22="", "", O22 / IF($B$4=2,(C22-B22+1), NETWORKDAYS(B22,C22))) -> 1 | Q22: =IF(M22="","", IF($B$4=2,P22/$B$5, IF($B$4=1,(O22/NETWORKDAYS(DATE(YEAR(M22),1,1), DATE(YEAR(N22),12,31))),0) )) -> 0.083333333 | R22: =ROUND((IF(M22="", "", L22*IF($B$4=2, 52/$B$5*P22, O22/5))),2) -> 173.33 | S22: =MIN(F22,R22) -> 138.67 | T22: =IF(M22<>"", AND(D22<>"", F22<>"", L22<>""), AND(D22="", F22="", L22="")) -> TRUE | U22: =S22/R22 -> 0.80003462 | V22: =IF(H22="ja",I22,0)/R22 -> 0.23077367 | W22: =(E22/U22)/Q22 -> 14999.351 | X22: =W22+D22 -> 38327.351 | Y22: =franchise2027 -> 19172 | Z22: =MIN(maxloon2027+W22, maxloonexc2027) -> 89999.351 | AA22: =maxloonexc2027 -> 137800 | AB22: =MIN(X22,Z22,AA22)-Y22 -> 19155.351 | AC22: =AB22*U22*Q22 -> 1277.0787 | AD22: =AB22*V22*Q22 -> 368.37922 | AE22: =AC22*premiepct2027 -> 357.32661 | AF22: =AD22*premiepct2027*premiekort_ouderschapsverlof2027 -> 51.536253 | AG22: =AE22-AF22 -> 305.79036 | AH22: =IF(exc_regeling_jn,MAX(MIN(X22,AA22)-Z22, 0),"") -> 0 | AI22: =IF(exc_regeling_jn,AH22*U22*Q22,"") -> 0 | AJ22: =IF(exc_regeling_jn,AI22*gekozen_premie_exc2027,"") -> 0 | AK22: 18000 | AL22: =AK22/1000*VLOOKUP(leeftijd_deelnemer,'premie ANW-hiaat'!A$2:C$54,2,0)*VLOOKUP(leeftijd_partner,'premie ANW-hiaat'!A$2:C$54,3,0)*Q22 -> 33.22215 | AM22: =AG22 -> 305.79036 | AN22: =IF(exc_regeling_jn,AJ22,"") -> 0 | AO22: =AL22 -> 33.22215 | AP22: =SUM(AM22:AO22) -> 339.01251
A23: =IF(AND($B$5=12, COUNTIF($A$14:A22, 12)>1), "",IF(OR(AND($B$5=12, A22=12),AND($B$5=13, A22=13), A22 = "Periode"), 1, A22+1)) -> 9 | B23: =IF(OR(IF($B$5=13, rekenwaarden!D11, rekenwaarden!I11)<$B$6,IF($B$5=13, rekenwaarden!C11, rekenwaarden!H11)>$B$7),"",IF(A23="", "", IF($B$5=13, rekenwaarden!C11, rekenwaarden!H11))) -> 46631 | C23: =IF(B23="", "", IF($B$5=13, rekenwaarden!D11, rekenwaarden!I11)) -> 46660 | D23: 23328 | E23: 1000 | F23: 138.67 | G23: 0 | H23: nee | I23: 0 | J23: nee | K23: 0 | L23: 40 | M23: =IF(OR(MAX($B$6, B23)>C23, MIN($B$7, C23)<B23),"", MAX($B$6, B23)) -> 46631 | N23: =IF(OR(MAX($B$6, B23)>C23, MIN($B$7, C23)<B23),"", MIN($B$7, C23)) -> 46660 | O23: =IF(M23="","",IF($B$4=2,N23-M23+1,NETWORKDAYS(M23, N23))) -> 30 | P23: =IF(M23="", "", O23 / IF($B$4=2,(C23-B23+1), NETWORKDAYS(B23,C23))) -> 1 | Q23: =IF(M23="","", IF($B$4=2,P23/$B$5, IF($B$4=1,(O23/NETWORKDAYS(DATE(YEAR(M23),1,1), DATE(YEAR(N23),12,31))),0) )) -> 0.083333333 | R23: =ROUND((IF(M23="", "", L23*IF($B$4=2, 52/$B$5*P23, O23/5))),2) -> 173.33 | S23: =MIN(F23,R23) -> 138.67 | T23: =IF(M23<>"", AND(D23<>"", F23<>"", L23<>""), AND(D23="", F23="", L23="")) -> TRUE | U23: =S23/R23 -> 0.80003462 | V23: =IF(H23="ja",I23,0)/R23 -> 0 | W23: =(E23/U23)/Q23 -> 14999.351 | X23: =W23+D23 -> 38327.351 | Y23: =franchise2027 -> 19172 | Z23: =MIN(maxloon2027+W23, maxloonexc2027) -> 89999.351 | AA23: =maxloonexc2027 -> 137800 | AB23: =MIN(X23,Z23,AA23)-Y23 -> 19155.351 | AC23: =AB23*U23*Q23 -> 1277.0787 | AD23: =AB23*V23*Q23 -> 0 | AE23: =AC23*premiepct2027 -> 357.32661 | AF23: =AD23*premiepct2027*premiekort_ouderschapsverlof2027 -> 0 | AG23: =AE23-AF23 -> 357.32661 | AH23: =IF(exc_regeling_jn,MAX(MIN(X23,AA23)-Z23, 0),"") -> 0 | AI23: =IF(exc_regeling_jn,AH23*U23*Q23,"") -> 0 | AJ23: =IF(exc_regeling_jn,AI23*gekozen_premie_exc2027,"") -> 0 | AK23: 18000 | AL23: =AK23/1000*VLOOKUP(leeftijd_deelnemer,'premie ANW-hiaat'!A$2:C$54,2,0)*VLOOKUP(leeftijd_partner,'premie ANW-hiaat'!A$2:C$54,3,0)*Q23 -> 33.22215 | AM23: =AG23 -> 357.32661 | AN23: =IF(exc_regeling_jn,AJ23,"") -> 0 | AO23: =AL23 -> 33.22215 | AP23: =SUM(AM23:AO23) -> 390.54876
A24: =IF(AND($B$5=12, COUNTIF($A$14:A23, 12)>1), "",IF(OR(AND($B$5=12, A23=12),AND($B$5=13, A23=13), A23 = "Periode"), 1, A23+1)) -> 10 | B24: =IF(OR(IF($B$5=13, rekenwaarden!D12, rekenwaarden!I12)<$B$6,IF($B$5=13, rekenwaarden!C12, rekenwaarden!H12)>$B$7),"",IF(A24="", "", IF($B$5=13, rekenwaarden!C12, rekenwaarden!H12))) -> 46661 | C24: =IF(B24="", "", IF($B$5=13, rekenwaarden!D12, rekenwaarden!I12)) -> 46691 | D24: 23328 | E24: 1000 | F24: 138.67 | G24: 0 | H24: nee | I24: 0 | J24: nee | K24: 0 | L24: 40 | M24: =IF(OR(MAX($B$6, B24)>C24, MIN($B$7, C24)<B24),"", MAX($B$6, B24)) -> 46661 | N24: =IF(OR(MAX($B$6, B24)>C24, MIN($B$7, C24)<B24),"", MIN($B$7, C24)) -> 46691 | O24: =IF(M24="","",IF($B$4=2,N24-M24+1,NETWORKDAYS(M24, N24))) -> 31 | P24: =IF(M24="", "", O24 / IF($B$4=2,(C24-B24+1), NETWORKDAYS(B24,C24))) -> 1 | Q24: =IF(M24="","", IF($B$4=2,P24/$B$5, IF($B$4=1,(O24/NETWORKDAYS(DATE(YEAR(M24),1,1), DATE(YEAR(N24),12,31))),0) )) -> 0.083333333 | R24: =ROUND((IF(M24="", "", L24*IF($B$4=2, 52/$B$5*P24, O24/5))),2) -> 173.33 | S24: =MIN(F24,R24) -> 138.67 | T24: =IF(M24<>"", AND(D24<>"", F24<>"", L24<>""), AND(D24="", F24="", L24="")) -> TRUE | U24: =S24/R24 -> 0.80003462 | V24: =IF(H24="ja",I24,0)/R24 -> 0 | W24: =(E24/U24)/Q24 -> 14999.351 | X24: =W24+D24 -> 38327.351 | Y24: =franchise2027 -> 19172 | Z24: =MIN(maxloon2027+W24, maxloonexc2027) -> 89999.351 | AA24: =maxloonexc2027 -> 137800 | AB24: =MIN(X24,Z24,AA24)-Y24 -> 19155.351 | AC24: =AB24*U24*Q24 -> 1277.0787 | AD24: =AB24*V24*Q24 -> 0 | AE24: =AC24*premiepct2027 -> 357.32661 | AF24: =AD24*premiepct2027*premiekort_ouderschapsverlof2027 -> 0 | AG24: =AE24-AF24 -> 357.32661 | AH24: =IF(exc_regeling_jn,MAX(MIN(X24,AA24)-Z24, 0),"") -> 0 | AI24: =IF(exc_regeling_jn,AH24*U24*Q24,"") -> 0 | AJ24: =IF(exc_regeling_jn,AI24*gekozen_premie_exc2027,"") -> 0 | AK24: 18000 | AL24: =AK24/1000*VLOOKUP(leeftijd_deelnemer,'premie ANW-hiaat'!A$2:C$54,2,0)*VLOOKUP(leeftijd_partner,'premie ANW-hiaat'!A$2:C$54,3,0)*Q24 -> 33.22215 | AM24: =AG24 -> 357.32661 | AN24: =IF(exc_regeling_jn,AJ24,"") -> 0 | AO24: =AL24 -> 33.22215 | AP24: =SUM(AM24:AO24) -> 390.54876
A25: =IF(AND($B$5=12, COUNTIF($A$14:A24, 12)>1), "",IF(OR(AND($B$5=12, A24=12),AND($B$5=13, A24=13), A24 = "Periode"), 1, A24+1)) -> 11 | B25: =IF(OR(IF($B$5=13, rekenwaarden!D13, rekenwaarden!I13)<$B$6,IF($B$5=13, rekenwaarden!C13, rekenwaarden!H13)>$B$7),"",IF(A25="", "", IF($B$5=13, rekenwaarden!C13, rekenwaarden!H13))) -> 46692 | C25: =IF(B25="", "", IF($B$5=13, rekenwaarden!D13, rekenwaarden!I13)) -> 46721 | D25: 23328 | E25: 1000 | F25: 138.67 | G25: 0 | H25: nee | I25: 0 | J25: nee | K25: 0 | L25: 40 | M25: =IF(OR(MAX($B$6, B25)>C25, MIN($B$7, C25)<B25),"", MAX($B$6, B25)) -> 46692 | N25: =IF(OR(MAX($B$6, B25)>C25, MIN($B$7, C25)<B25),"", MIN($B$7, C25)) -> 46721 | O25: =IF(M25="","",IF($B$4=2,N25-M25+1,NETWORKDAYS(M25, N25))) -> 30 | P25: =IF(M25="", "", O25 / IF($B$4=2,(C25-B25+1), NETWORKDAYS(B25,C25))) -> 1 | Q25: =IF(M25="","", IF($B$4=2,P25/$B$5, IF($B$4=1,(O25/NETWORKDAYS(DATE(YEAR(M25),1,1), DATE(YEAR(N25),12,31))),0) )) -> 0.083333333 | R25: =ROUND((IF(M25="", "", L25*IF($B$4=2, 52/$B$5*P25, O25/5))),2) -> 173.33 | S25: =MIN(F25,R25) -> 138.67 | T25: =IF(M25<>"", AND(D25<>"", F25<>"", L25<>""), AND(D25="", F25="", L25="")) -> TRUE | U25: =S25/R25 -> 0.80003462 | V25: =IF(H25="ja",I25,0)/R25 -> 0 | W25: =(E25/U25)/Q25 -> 14999.351 | X25: =W25+D25 -> 38327.351 | Y25: =franchise2027 -> 19172 | Z25: =MIN(maxloon2027+W25, maxloonexc2027) -> 89999.351 | AA25: =maxloonexc2027 -> 137800 | AB25: =MIN(X25,Z25,AA25)-Y25 -> 19155.351 | AC25: =AB25*U25*Q25 -> 1277.0787 | AD25: =AB25*V25*Q25 -> 0 | AE25: =AC25*premiepct2027 -> 357.32661 | AF25: =AD25*premiepct2027*premiekort_ouderschapsverlof2027 -> 0 | AG25: =AE25-AF25 -> 357.32661 | AH25: =IF(exc_regeling_jn,MAX(MIN(X25,AA25)-Z25, 0),"") -> 0 | AI25: =IF(exc_regeling_jn,AH25*U25*Q25,"") -> 0 | AJ25: =IF(exc_regeling_jn,AI25*gekozen_premie_exc2027,"") -> 0 | AK25: 18000 | AL25: =AK25/1000*VLOOKUP(leeftijd_deelnemer,'premie ANW-hiaat'!A$2:C$54,2,0)*VLOOKUP(leeftijd_partner,'premie ANW-hiaat'!A$2:C$54,3,0)*Q25 -> 33.22215 | AM25: =AG25 -> 357.32661 | AN25: =IF(exc_regeling_jn,AJ25,"") -> 0 | AO25: =AL25 -> 33.22215 | AP25: =SUM(AM25:AO25) -> 390.54876
A26: =IF(AND($B$5=12, COUNTIF($A$14:A25, 12)>1), "",IF(OR(AND($B$5=12, A25=12),AND($B$5=13, A25=13), A25 = "Periode"), 1, A25+1)) -> 12 | B26: =IF(OR(IF($B$5=13, rekenwaarden!D14, rekenwaarden!I14)<$B$6,IF($B$5=13, rekenwaarden!C14, rekenwaarden!H14)>$B$7),"",IF(A26="", "", IF($B$5=13, rekenwaarden!C14, rekenwaarden!H14))) -> 46722 | C26: =IF(B26="", "", IF($B$5=13, rekenwaarden!D14, rekenwaarden!I14)) -> 46752 | D26: 23328 | E26: 1000 | F26: 138.67 | G26: 0 | H26: nee | I26: 0 | J26: nee | K26: 0 | L26: 40 | M26: =IF(OR(MAX($B$6, B26)>C26, MIN($B$7, C26)<B26),"", MAX($B$6, B26)) -> 46722 | N26: =IF(OR(MAX($B$6, B26)>C26, MIN($B$7, C26)<B26),"", MIN($B$7, C26)) -> 46752 | O26: =IF(M26="","",IF($B$4=2,N26-M26+1,NETWORKDAYS(M26, N26))) -> 31 | P26: =IF(M26="", "", O26 / IF($B$4=2,(C26-B26+1), NETWORKDAYS(B26,C26))) -> 1 | Q26: =IF(M26="","", IF($B$4=2,P26/$B$5, IF($B$4=1,(O26/NETWORKDAYS(DATE(YEAR(M26),1,1), DATE(YEAR(N26),12,31))),0) )) -> 0.083333333 | R26: =ROUND((IF(M26="", "", L26*IF($B$4=2, 52/$B$5*P26, O26/5))),2) -> 173.33 | S26: =MIN(F26,R26) -> 138.67 | T26: =IF(M26<>"", AND(D26<>"", F26<>"", L26<>""), AND(D26="", F26="", L26="")) -> TRUE | U26: =S26/R26 -> 0.80003462 | V26: =IF(H26="ja",I26,0)/R26 -> 0 | W26: =(E26/U26)/Q26 -> 14999.351 | X26: =W26+D26 -> 38327.351 | Y26: =franchise2027 -> 19172 | Z26: =MIN(maxloon2027+W26, maxloonexc2027) -> 89999.351 | AA26: =maxloonexc2027 -> 137800 | AB26: =MIN(X26,Z26,AA26)-Y26 -> 19155.351 | AC26: =AB26*U26*Q26 -> 1277.0787 | AD26: =AB26*V26*Q26 -> 0 | AE26: =AC26*premiepct2027 -> 357.32661 | AF26: =AD26*premiepct2027*premiekort_ouderschapsverlof2027 -> 0 | AG26: =AE26-AF26 -> 357.32661 | AH26: =IF(exc_regeling_jn,MAX(MIN(X26,AA26)-Z26, 0),"") -> 0 | AI26: =IF(exc_regeling_jn,AH26*U26*Q26,"") -> 0 | AJ26: =IF(exc_regeling_jn,AI26*gekozen_premie_exc2027,"") -> 0 | AK26: 18000 | AL26: =AK26/1000*VLOOKUP(leeftijd_deelnemer,'premie ANW-hiaat'!A$2:C$54,2,0)*VLOOKUP(leeftijd_partner,'premie ANW-hiaat'!A$2:C$54,3,0)*Q26 -> 33.22215 | AM26: =AG26 -> 357.32661 | AN26: =IF(exc_regeling_jn,AJ26,"") -> 0 | AO26: =AL26 -> 33.22215 | AP26: =SUM(AM26:AO26) -> 390.54876
A27: =IF(AND($B$5=12, COUNTIF($A$14:A26, 12)>1), "",IF(OR(AND($B$5=12, A26=12),AND($B$5=13, A26=13), A26 = "Periode"), 1, A26+1)) -> 1 | B27: =IF(OR(IF($B$5=13, rekenwaarden!D15, rekenwaarden!I15)<$B$6,IF($B$5=13, rekenwaarden!C15, rekenwaarden!H15)>$B$7),"",IF(A27="", "", IF($B$5=13, rekenwaarden!C15, rekenwaarden!H15))) -> 46753 | C27: =IF(B27="", "", IF($B$5=13, rekenwaarden!D15, rekenwaarden!I15)) -> 46783 | D27: 25000 | E27: 2000 | F27: 173.33 | G27: 0 | H27: nee | I27: 0 | J27: nee | K27: 0 | L27: 40 | M27: =IF(OR(MAX($B$6, B27)>C27, MIN($B$7, C27)<B27),"", MAX($B$6, B27)) -> 46753 | N27: =IF(OR(MAX($B$6, B27)>C27, MIN($B$7, C27)<B27),"", MIN($B$7, C27)) -> 46783 | O27: =IF(M27="","",IF($B$4=2,N27-M27+1,NETWORKDAYS(M27, N27))) -> 31 | P27: =IF(M27="", "", O27 / IF($B$4=2,(C27-B27+1), NETWORKDAYS(B27,C27))) -> 1 | Q27: =IF(M27="","", IF($B$4=2,P27/$B$5, IF($B$4=1,(O27/NETWORKDAYS(DATE(YEAR(M27),1,1), DATE(YEAR(N27),12,31))),0) )) -> 0.083333333 | R27: =ROUND((IF(M27="", "", L27*IF($B$4=2, 52/$B$5*P27, O27/5))),2) -> 173.33 | S27: =MIN(F27,R27) -> 173.33 | T27: =IF(M27<>"", AND(D27<>"", F27<>"", L27<>""), AND(D27="", F27="", L27="")) -> TRUE | U27: =S27/R27 -> 1 | V27: =IF(H27="ja",I27,0)/R27 -> 0 | W27: =(E27/U27)/Q27 -> 24000 | X27: =W27+D27 -> 49000 | Y27: =franchise2028 -> 19172 | Z27: =MIN(maxloon2028+W27, maxloonexc2028) -> 119000 | AA27: =maxloonexc2028 -> 137800 | AB27: =MIN(X27,Z27,AA27)-Y27 -> 29828 | AC27: =AB27*U27*Q27 -> 2485.6667 | AD27: =AB27*V27*Q27 -> 0 | AE27: =AC27*premiepct2028 -> 695.48953 | AF27: =AD27*premiepct2028*premiekort_ouderschapsverlof2028 -> 0 | AG27: =AE27-AF27 -> 695.48953 | AH27: =IF(exc_regeling_jn,MAX(MIN(X27,AA27)-Z27, 0),"") -> 0 | AI27: =IF(exc_regeling_jn,AH27*U27*Q27,"") -> 0 | AJ27: =IF(exc_regeling_jn,AI27*gekozen_premie_exc2028,"") -> 0 | AK27: 18000 | AL27: =AK27/1000*VLOOKUP(leeftijd_deelnemer+1,'premie ANW-hiaat'!A$2:C$54,2,0)*VLOOKUP(leeftijd_partner+1,'premie ANW-hiaat'!A$2:C$54,3,0)*Q27 -> 36.012555 | AM27: =AG27 -> 695.48953 | AN27: =IF(exc_regeling_jn,AJ27,"") -> 0 | AO27: =AL27 -> 36.012555 | AP27: =SUM(AM27:AO27) -> 731.50209
A28: =IF(AND($B$5=12, COUNTIF($A$14:A27, 12)>1), "",IF(OR(AND($B$5=12, A27=12),AND($B$5=13, A27=13), A27 = "Periode"), 1, A27+1)) -> 2 | B28: =IF(OR(IF($B$5=13, rekenwaarden!D16, rekenwaarden!I16)<$B$6,IF($B$5=13, rekenwaarden!C16, rekenwaarden!H16)>$B$7),"",IF(A28="", "", IF($B$5=13, rekenwaarden!C16, rekenwaarden!H16))) -> 46784 | C28: =IF(B28="", "", IF($B$5=13, rekenwaarden!D16, rekenwaarden!I16)) -> 46812 | D28: 25000 | E28: 2000 | F28: 173.33 | G28: 0 | H28: nee | I28: 0 | J28: nee | K28: 0 | L28: 40 | M28: =IF(OR(MAX($B$6, B28)>C28, MIN($B$7, C28)<B28),"", MAX($B$6, B28)) -> 46784 | N28: =IF(OR(MAX($B$6, B28)>C28, MIN($B$7, C28)<B28),"", MIN($B$7, C28)) -> 46812 | O28: =IF(M28="","",IF($B$4=2,N28-M28+1,NETWORKDAYS(M28, N28))) -> 29 | P28: =IF(M28="", "", O28 / IF($B$4=2,(C28-B28+1), NETWORKDAYS(B28,C28))) -> 1 | Q28: =IF(M28="","", IF($B$4=2,P28/$B$5, IF($B$4=1,(O28/NETWORKDAYS(DATE(YEAR(M28),1,1), DATE(YEAR(N28),12,31))),0) )) -> 0.083333333 | R28: =ROUND((IF(M28="", "", L28*IF($B$4=2, 52/$B$5*P28, O28/5))),2) -> 173.33 | S28: =MIN(F28,R28) -> 173.33 | T28: =IF(M28<>"", AND(D28<>"", F28<>"", L28<>""), AND(D28="", F28="", L28="")) -> TRUE | U28: =S28/R28 -> 1 | V28: =IF(H28="ja",I28,0)/R28 -> 0 | W28: =(E28/U28)/Q28 -> 24000 | X28: =W28+D28 -> 49000 | Y28: =franchise2028 -> 19172 | Z28: =MIN(maxloon2028+W28, maxloonexc2028) -> 119000 | AA28: =maxloonexc2028 -> 137800 | AB28: =MIN(X28,Z28,AA28)-Y28 -> 29828 | AC28: =AB28*U28*Q28 -> 2485.6667 | AD28: =AB28*V28*Q28 -> 0 | AE28: =AC28*premiepct2028 -> 695.48953 | AF28: =AD28*premiepct2028*premiekort_ouderschapsverlof2028 -> 0 | AG28: =AE28-AF28 -> 695.48953 | AH28: =IF(exc_regeling_jn,MAX(MIN(X28,AA28)-Z28, 0),"") -> 0 | AI28: =IF(exc_regeling_jn,AH28*U28*Q28,"") -> 0 | AJ28: =IF(exc_regeling_jn,AI28*gekozen_premie_exc2028,"") -> 0 | AK28: 18000 | AL28: =AK28/1000*VLOOKUP(leeftijd_deelnemer+1,'premie ANW-hiaat'!A$2:C$54,2,0)*VLOOKUP(leeftijd_partner+1,'premie ANW-hiaat'!A$2:C$54,3,0)*Q28 -> 36.012555 | AM28: =AG28 -> 695.48953 | AN28: =IF(exc_regeling_jn,AJ28,"") -> 0 | AO28: =AL28 -> 36.012555 | AP28: =SUM(AM28:AO28) -> 731.50209
A29: =IF(AND($B$5=12, COUNTIF($A$14:A28, 12)>1), "",IF(OR(AND($B$5=12, A28=12),AND($B$5=13, A28=13), A28 = "Periode"), 1, A28+1)) -> 3 | B29: =IF(OR(IF($B$5=13, rekenwaarden!D17, rekenwaarden!I17)<$B$6,IF($B$5=13, rekenwaarden!C17, rekenwaarden!H17)>$B$7),"",IF(A29="", "", IF($B$5=13, rekenwaarden!C17, rekenwaarden!H17))) -> 46813 | C29: =IF(B29="", "", IF($B$5=13, rekenwaarden!D17, rekenwaarden!I17)) -> 46843 | D29: 25000 | E29: 2000 | F29: 173.33 | G29: 40 | H29: ja | I29: 40 | J29: nee | K29: 0 | L29: 40 | M29: =IF(OR(MAX($B$6, B29)>C29, MIN($B$7, C29)<B29),"", MAX($B$6, B29)) -> 46813 | N29: =IF(OR(MAX($B$6, B29)>C29, MIN($B$7, C29)<B29),"", MIN($B$7, C29)) -> 46843 | O29: =IF(M29="","",IF($B$4=2,N29-M29+1,NETWORKDAYS(M29, N29))) -> 31 | P29: =IF(M29="", "", O29 / IF($B$4=2,(C29-B29+1), NETWORKDAYS(B29,C29))) -> 1 | Q29: =IF(M29="","", IF($B$4=2,P29/$B$5, IF($B$4=1,(O29/NETWORKDAYS(DATE(YEAR(M29),1,1), DATE(YEAR(N29),12,31))),0) )) -> 0.083333333 | R29: =ROUND((IF(M29="", "", L29*IF($B$4=2, 52/$B$5*P29, O29/5))),2) -> 173.33 | S29: =MIN(F29,R29) -> 173.33 | T29: =IF(M29<>"", AND(D29<>"", F29<>"", L29<>""), AND(D29="", F29="", L29="")) -> TRUE | U29: =S29/R29 -> 1 | V29: =IF(H29="ja",I29,0)/R29 -> 0.23077367 | W29: =(E29/U29)/Q29 -> 24000 | X29: =W29+D29 -> 49000 | Y29: =franchise2028 -> 19172 | Z29: =MIN(maxloon2028+W29, maxloonexc2028) -> 119000 | AA29: =maxloonexc2028 -> 137800 | AB29: =MIN(X29,Z29,AA29)-Y29 -> 29828 | AC29: =AB29*U29*Q29 -> 2485.6667 | AD29: =AB29*V29*Q29 -> 573.62642 | AE29: =AC29*premiepct2028 -> 695.48953 | AF29: =AD29*premiepct2028*premiekort_ouderschapsverlof2028 -> 80.250336 | AG29: =AE29-AF29 -> 615.2392 | AH29: =IF(exc_regeling_jn,MAX(MIN(X29,AA29)-Z29, 0),"") -> 0 | AI29: =IF(exc_regeling_jn,AH29*U29*Q29,"") -> 0 | AJ29: =IF(exc_regeling_jn,AI29*gekozen_premie_exc2028,"") -> 0 | AK29: 18000 | AL29: =AK29/1000*VLOOKUP(leeftijd_deelnemer+1,'premie ANW-hiaat'!A$2:C$54,2,0)*VLOOKUP(leeftijd_partner+1,'premie ANW-hiaat'!A$2:C$54,3,0)*Q29 -> 36.012555 | AM29: =AG29 -> 615.2392 | AN29: =IF(exc_regeling_jn,AJ29,"") -> 0 | AO29: =AL29 -> 36.012555 | AP29: =SUM(AM29:AO29) -> 651.25175
A30: =IF(AND($B$5=12, COUNTIF($A$14:A29, 12)>1), "",IF(OR(AND($B$5=12, A29=12),AND($B$5=13, A29=13), A29 = "Periode"), 1, A29+1)) -> 4 | B30: =IF(OR(IF($B$5=13, rekenwaarden!D18, rekenwaarden!I18)<$B$6,IF($B$5=13, rekenwaarden!C18, rekenwaarden!H18)>$B$7),"",IF(A30="", "", IF($B$5=13, rekenwaarden!C18, rekenwaarden!H18))) -> 46844 | C30: =IF(B30="", "", IF($B$5=13, rekenwaarden!D18, rekenwaarden!I18)) -> 46873 | D30: 25000 | E30: 2000 | F30: 113.33 | G30: 60 | H30: nee | I30: 60 | J30: nee | K30: 0 | L30: 40 | M30: =IF(OR(MAX($B$6, B30)>C30, MIN($B$7, C30)<B30),"", MAX($B$6, B30)) -> 46844 | N30: =IF(OR(MAX($B$6, B30)>C30, MIN($B$7, C30)<B30),"", MIN($B$7, C30)) -> 46873 | O30: =IF(M30="","",IF($B$4=2,N30-M30+1,NETWORKDAYS(M30, N30))) -> 30 | P30: =IF(M30="", "", O30 / IF($B$4=2,(C30-B30+1), NETWORKDAYS(B30,C30))) -> 1 | Q30: =IF(M30="","", IF($B$4=2,P30/$B$5, IF($B$4=1,(O30/NETWORKDAYS(DATE(YEAR(M30),1,1), DATE(YEAR(N30),12,31))),0) )) -> 0.083333333 | R30: =ROUND((IF(M30="", "", L30*IF($B$4=2, 52/$B$5*P30, O30/5))),2) -> 173.33 | S30: =MIN(F30,R30) -> 113.33 | T30: =IF(M30<>"", AND(D30<>"", F30<>"", L30<>""), AND(D30="", F30="", L30="")) -> TRUE | U30: =S30/R30 -> 0.6538395 | V30: =IF(H30="ja",I30,0)/R30 -> 0 | W30: =(E30/U30)/Q30 -> 36706.256 | X30: =W30+D30 -> 61706.256 | Y30: =franchise2028 -> 19172 | Z30: =MIN(maxloon2028+W30, maxloonexc2028) -> 131706.26 | AA30: =maxloonexc2028 -> 137800 | AB30: =MIN(X30,Z30,AA30)-Y30 -> 42534.256 | AC30: =AB30*U30*Q30 -> 2317.548 | AD30: =AB30*V30*Q30 -> 0 | AE30: =AC30*premiepct2028 -> 648.44994 | AF30: =AD30*premiepct2028*premiekort_ouderschapsverlof2028 -> 0 | AG30: =AE30-AF30 -> 648.44994 | AH30: =IF(exc_regeling_jn,MAX(MIN(X30,AA30)-Z30, 0),"") -> 0 | AI30: =IF(exc_regeling_jn,AH30*U30*Q30,"") -> 0 | AJ30: =IF(exc_regeling_jn,AI30*gekozen_premie_exc2028,"") -> 0 | AK30: 18000 | AL30: =AK30/1000*VLOOKUP(leeftijd_deelnemer+1,'premie ANW-hiaat'!A$2:C$54,2,0)*VLOOKUP(leeftijd_partner+1,'premie ANW-hiaat'!A$2:C$54,3,0)*Q30 -> 36.012555 | AM30: =AG30 -> 648.44994 | AN30: =IF(exc_regeling_jn,AJ30,"") -> 0 | AO30: =AL30 -> 36.012555 | AP30: =SUM(AM30:AO30) -> 684.4625
A31: =IF(AND($B$5=12, COUNTIF($A$14:A30, 12)>1), "",IF(OR(AND($B$5=12, A30=12),AND($B$5=13, A30=13), A30 = "Periode"), 1, A30+1)) -> 5 | B31: =IF(OR(IF($B$5=13, rekenwaarden!D19, rekenwaarden!I19)<$B$6,IF($B$5=13, rekenwaarden!C19, rekenwaarden!H19)>$B$7),"",IF(A31="", "", IF($B$5=13, rekenwaarden!C19, rekenwaarden!H19))) -> 46874 | C31: =IF(B31="", "", IF($B$5=13, rekenwaarden!D19, rekenwaarden!I19)) -> 46904 | D31: 25000 | E31: 1250 | F31: 173.33 | G31: 0 | H31: nee | I31: 40 | J31: nee | K31: 0 | L31: 40 | M31: =IF(OR(MAX($B$6, B31)>C31, MIN($B$7, C31)<B31),"", MAX($B$6, B31)) -> 46874 | N31: =IF(OR(MAX($B$6, B31)>C31, MIN($B$7, C31)<B31),"", MIN($B$7, C31)) -> 46904 | O31: =IF(M31="","",IF($B$4=2,N31-M31+1,NETWORKDAYS(M31, N31))) -> 31 | P31: =IF(M31="", "", O31 / IF($B$4=2,(C31-B31+1), NETWORKDAYS(B31,C31))) -> 1 | Q31: =IF(M31="","", IF($B$4=2,P31/$B$5, IF($B$4=1,(O31/NETWORKDAYS(DATE(YEAR(M31),1,1), DATE(YEAR(N31),12,31))),0) )) -> 0.083333333 | R31: =ROUND((IF(M31="", "", L31*IF($B$4=2, 52/$B$5*P31, O31/5))),2) -> 173.33 | S31: =MIN(F31,R31) -> 173.33 | T31: =IF(M31<>"", AND(D31<>"", F31<>"", L31<>""), AND(D31="", F31="", L31="")) -> TRUE | U31: =S31/R31 -> 1 | V31: =IF(H31="ja",I31,0)/R31 -> 0 | W31: =(E31/U31)/Q31 -> 15000 | X31: =W31+D31 -> 40000 | Y31: =franchise2028 -> 19172 | Z31: =MIN(maxloon2028+W31, maxloonexc2028) -> 110000 | AA31: =maxloonexc2028 -> 137800 | AB31: =MIN(X31,Z31,AA31)-Y31 -> 20828 | AC31: =AB31*U31*Q31 -> 1735.6667 | AD31: =AB31*V31*Q31 -> 0 | AE31: =AC31*premiepct2028 -> 485.63953 | AF31: =AD31*premiepct2028*premiekort_ouderschapsverlof2028 -> 0 | AG31: =AE31-AF31 -> 485.63953 | AH31: =IF(exc_regeling_jn,MAX(MIN(X31,AA31)-Z31, 0),"") -> 0 | AI31: =IF(exc_regeling_jn,AH31*U31*Q31,"") -> 0 | AJ31: =IF(exc_regeling_jn,AI31*gekozen_premie_exc2028,"") -> 0 | AK31: 18000 | AL31: =AK31/1000*VLOOKUP(leeftijd_deelnemer+1,'premie ANW-hiaat'!A$2:C$54,2,0)*VLOOKUP(leeftijd_partner+1,'premie ANW-hiaat'!A$2:C$54,3,0)*Q31 -> 36.012555 | AM31: =AG31 -> 485.63953 | AN31: =IF(exc_regeling_jn,AJ31,"") -> 0 | AO31: =AL31 -> 36.012555 | AP31: =SUM(AM31:AO31) -> 521.65209
A32: =IF(AND($B$5=12, COUNTIF($A$14:A31, 12)>1), "",IF(OR(AND($B$5=12, A31=12),AND($B$5=13, A31=13), A31 = "Periode"), 1, A31+1)) -> 6 | B32: =IF(OR(IF($B$5=13, rekenwaarden!D20, rekenwaarden!I20)<$B$6,IF($B$5=13, rekenwaarden!C20, rekenwaarden!H20)>$B$7),"",IF(A32="", "", IF($B$5=13, rekenwaarden!C20, rekenwaarden!H20))) -> 46905 | C32: =IF(B32="", "", IF($B$5=13, rekenwaarden!D20, rekenwaarden!I20)) -> 46934 | D32: 25000 | E32: 3750 | F32: 173.33 | G32: 0 | H32: nee | I32: 0 | J32: nee | K32: 0 | L32: 40 | M32: =IF(OR(MAX($B$6, B32)>C32, MIN($B$7, C32)<B32),"", MAX($B$6, B32)) -> 46905 | N32: =IF(OR(MAX($B$6, B32)>C32, MIN($B$7, C32)<B32),"", MIN($B$7, C32)) -> 46934 | O32: =IF(M32="","",IF($B$4=2,N32-M32+1,NETWORKDAYS(M32, N32))) -> 30 | P32: =IF(M32="", "", O32 / IF($B$4=2,(C32-B32+1), NETWORKDAYS(B32,C32))) -> 1 | Q32: =IF(M32="","", IF($B$4=2,P32/$B$5, IF($B$4=1,(O32/NETWORKDAYS(DATE(YEAR(M32),1,1), DATE(YEAR(N32),12,31))),0) )) -> 0.083333333 | R32: =ROUND((IF(M32="", "", L32*IF($B$4=2, 52/$B$5*P32, O32/5))),2) -> 173.33 | S32: =MIN(F32,R32) -> 173.33 | T32: =IF(M32<>"", AND(D32<>"", F32<>"", L32<>""), AND(D32="", F32="", L32="")) -> TRUE | U32: =S32/R32 -> 1 | V32: =IF(H32="ja",I32,0)/R32 -> 0 | W32: =(E32/U32)/Q32 -> 45000 | X32: =W32+D32 -> 70000 | Y32: =franchise2028 -> 19172 | Z32: =MIN(maxloon2028+W32, maxloonexc2028) -> 137800 | AA32: =maxloonexc2028 -> 137800 | AB32: =MIN(X32,Z32,AA32)-Y32 -> 50828 | AC32: =AB32*U32*Q32 -> 4235.6667 | AD32: =AB32*V32*Q32 -> 0 | AE32: =AC32*premiepct2028 -> 1185.1395 | AF32: =AD32*premiepct2028*premiekort_ouderschapsverlof2028 -> 0 | AG32: =AE32-AF32 -> 1185.1395 | AH32: =IF(exc_regeling_jn,MAX(MIN(X32,AA32)-Z32, 0),"") -> 0 | AI32: =IF(exc_regeling_jn,AH32*U32*Q32,"") -> 0 | AJ32: =IF(exc_regeling_jn,AI32*gekozen_premie_exc2028,"") -> 0 | AK32: 18000 | AL32: =AK32/1000*VLOOKUP(leeftijd_deelnemer+1,'premie ANW-hiaat'!A$2:C$54,2,0)*VLOOKUP(leeftijd_partner+1,'premie ANW-hiaat'!A$2:C$54,3,0)*Q32 -> 36.012555 | AM32: =AG32 -> 1185.1395 | AN32: =IF(exc_regeling_jn,AJ32,"") -> 0 | AO32: =AL32 -> 36.012555 | AP32: =SUM(AM32:AO32) -> 1221.1521
A33: =IF(AND($B$5=12, COUNTIF($A$14:A32, 12)>1), "",IF(OR(AND($B$5=12, A32=12),AND($B$5=13, A32=13), A32 = "Periode"), 1, A32+1)) -> 7 | B33: =IF(OR(IF($B$5=13, rekenwaarden!D21, rekenwaarden!I21)<$B$6,IF($B$5=13, rekenwaarden!C21, rekenwaarden!H21)>$B$7),"",IF(A33="", "", IF($B$5=13, rekenwaarden!C21, rekenwaarden!H21))) -> 46935 | C33: =IF(B33="", "", IF($B$5=13, rekenwaarden!D21, rekenwaarden!I21)) -> 46965 | D33: 25000 | E33: 3750 | F33: 173.33 | G33: 0 | H33: nee | I33: 0 | J33: nee | K33: 0 | L33: 40 | M33: =IF(OR(MAX($B$6, B33)>C33, MIN($B$7, C33)<B33),"", MAX($B$6, B33)) -> 46935 | N33: =IF(OR(MAX($B$6, B33)>C33, MIN($B$7, C33)<B33),"", MIN($B$7, C33)) -> 46965 | O33: =IF(M33="","",IF($B$4=2,N33-M33+1,NETWORKDAYS(M33, N33))) -> 31 | P33: =IF(M33="", "", O33 / IF($B$4=2,(C33-B33+1), NETWORKDAYS(B33,C33))) -> 1 | Q33: =IF(M33="","", IF($B$4=2,P33/$B$5, IF($B$4=1,(O33/NETWORKDAYS(DATE(YEAR(M33),1,1), DATE(YEAR(N33),12,31))),0) )) -> 0.083333333 | R33: =ROUND((IF(M33="", "", L33*IF($B$4=2, 52/$B$5*P33, O33/5))),2) -> 173.33 | S33: =MIN(F33,R33) -> 173.33 | T33: =IF(M33<>"", AND(D33<>"", F33<>"", L33<>""), AND(D33="", F33="", L33="")) -> TRUE | U33: =S33/R33 -> 1 | V33: =IF(H33="ja",I33,0)/R33 -> 0 | W33: =(E33/U33)/Q33 -> 45000 | X33: =W33+D33 -> 70000 | Y33: =franchise2028 -> 19172 | Z33: =MIN(maxloon2028+W33, maxloonexc2028) -> 137800 | AA33: =maxloonexc2028 -> 137800 | AB33: =MIN(X33,Z33,AA33)-Y33 -> 50828 | AC33: =AB33*U33*Q33 -> 4235.6667 | AD33: =AB33*V33*Q33 -> 0 | AE33: =AC33*premiepct2028 -> 1185.1395 | AF33: =AD33*premiepct2028*premiekort_ouderschapsverlof2028 -> 0 | AG33: =AE33-AF33 -> 1185.1395 | AH33: =IF(exc_regeling_jn,MAX(MIN(X33,AA33)-Z33, 0),"") -> 0 | AI33: =IF(exc_regeling_jn,AH33*U33*Q33,"") -> 0 | AJ33: =IF(exc_regeling_jn,AI33*gekozen_premie_exc2028,"") -> 0 | AK33: 18000 | AL33: =AK33/1000*VLOOKUP(leeftijd_deelnemer+1,'premie ANW-hiaat'!A$2:C$54,2,0)*VLOOKUP(leeftijd_partner+1,'premie ANW-hiaat'!A$2:C$54,3,0)*Q33 -> 36.012555 | AM33: =AG33 -> 1185.1395 | AN33: =IF(exc_regeling_jn,AJ33,"") -> 0 | AO33: =AL33 -> 36.012555 | AP33: =SUM(AM33:AO33) -> 1221.1521
A34: =IF(AND($B$5=12, COUNTIF($A$14:A33, 12)>1), "",IF(OR(AND($B$5=12, A33=12),AND($B$5=13, A33=13), A33 = "Periode"), 1, A33+1)) -> 8 | B34: =IF(OR(IF($B$5=13, rekenwaarden!D22, rekenwaarden!I22)<$B$6,IF($B$5=13, rekenwaarden!C22, rekenwaarden!H22)>$B$7),"",IF(A34="", "", IF($B$5=13, rekenwaarden!C22, rekenwaarden!H22))) -> 46966 | C34: =IF(B34="", "", IF($B$5=13, rekenwaarden!D22, rekenwaarden!I22)) -> 46996 | D34: 25000 | E34: 250 | F34: 173.33 | G34: 0 | H34: nee | I34: 0 | J34: nee | K34: 0 | L34: 40 | M34: =IF(OR(MAX($B$6, B34)>C34, MIN($B$7, C34)<B34),"", MAX($B$6, B34)) -> 46966 | N34: =IF(OR(MAX($B$6, B34)>C34, MIN($B$7, C34)<B34),"", MIN($B$7, C34)) -> 46996 | O34: =IF(M34="","",IF($B$4=2,N34-M34+1,NETWORKDAYS(M34, N34))) -> 31 | P34: =IF(M34="", "", O34 / IF($B$4=2,(C34-B34+1), NETWORKDAYS(B34,C34))) -> 1 | Q34: =IF(M34="","", IF($B$4=2,P34/$B$5, IF($B$4=1,(O34/NETWORKDAYS(DATE(YEAR(M34),1,1), DATE(YEAR(N34),12,31))),0) )) -> 0.083333333 | R34: =ROUND((IF(M34="", "", L34*IF($B$4=2, 52/$B$5*P34, O34/5))),2) -> 173.33 | S34: =MIN(F34,R34) -> 173.33 | T34: =IF(M34<>"", AND(D34<>"", F34<>"", L34<>""), AND(D34="", F34="", L34="")) -> TRUE | U34: =S34/R34 -> 1 | V34: =IF(H34="ja",I34,0)/R34 -> 0 | W34: =(E34/U34)/Q34 -> 3000 | X34: =W34+D34 -> 28000 | Y34: =franchise2028 -> 19172 | Z34: =MIN(maxloon2028+W34, maxloonexc2028) -> 98000 | AA34: =maxloonexc2028 -> 137800 | AB34: =MIN(X34,Z34,AA34)-Y34 -> 8828 | AC34: =AB34*U34*Q34 -> 735.66667 | AD34: =AB34*V34*Q34 -> 0 | AE34: =AC34*premiepct2028 -> 205.83953 | AF34: =AD34*premiepct2028*premiekort_ouderschapsverlof2028 -> 0 | AG34: =AE34-AF34 -> 205.83953 | AH34: =IF(exc_regeling_jn,MAX(MIN(X34,AA34)-Z34, 0),"") -> 0 | AI34: =IF(exc_regeling_jn,AH34*U34*Q34,"") -> 0 | AJ34: =IF(exc_regeling_jn,AI34*gekozen_premie_exc2028,"") -> 0 | AK34: 18000 | AL34: =AK34/1000*VLOOKUP(leeftijd_deelnemer+1,'premie ANW-hiaat'!A$2:C$54,2,0)*VLOOKUP(leeftijd_partner+1,'premie ANW-hiaat'!A$2:C$54,3,0)*Q34 -> 36.012555 | AM34: =AG34 -> 205.83953 | AN34: =IF(exc_regeling_jn,AJ34,"") -> 0 | AO34: =AL34 -> 36.012555 | AP34: =SUM(AM34:AO34) -> 241.85209
A35: =IF(AND($B$5=12, COUNTIF($A$14:A34, 12)>1), "",IF(OR(AND($B$5=12, A34=12),AND($B$5=13, A34=13), A34 = "Periode"), 1, A34+1)) -> 9 | B35: =IF(OR(IF($B$5=13, rekenwaarden!D23, rekenwaarden!I23)<$B$6,IF($B$5=13, rekenwaarden!C23, rekenwaarden!H23)>$B$7),"",IF(A35="", "", IF($B$5=13, rekenwaarden!C23, rekenwaarden!H23))) -> 46997 | C35: =IF(B35="", "", IF($B$5=13, rekenwaarden!D23, rekenwaarden!I23)) -> 47026 | D35: 25000 | E35: 250 | F35: 173.33 | G35: 0 | H35: nee | I35: 0 | J35: nee | K35: 0 | L35: 40 | M35: =IF(OR(MAX($B$6, B35)>C35, MIN($B$7, C35)<B35),"", MAX($B$6, B35)) -> 46997 | N35: =IF(OR(MAX($B$6, B35)>C35, MIN($B$7, C35)<B35),"", MIN($B$7, C35)) -> 47026 | O35: =IF(M35="","",IF($B$4=2,N35-M35+1,NETWORKDAYS(M35, N35))) -> 30 | P35: =IF(M35="", "", O35 / IF($B$4=2,(C35-B35+1), NETWORKDAYS(B35,C35))) -> 1 | Q35: =IF(M35="","", IF($B$4=2,P35/$B$5, IF($B$4=1,(O35/NETWORKDAYS(DATE(YEAR(M35),1,1), DATE(YEAR(N35),12,31))),0) )) -> 0.083333333 | R35: =ROUND((IF(M35="", "", L35*IF($B$4=2, 52/$B$5*P35, O35/5))),2) -> 173.33 | S35: =MIN(F35,R35) -> 173.33 | T35: =IF(M35<>"", AND(D35<>"", F35<>"", L35<>""), AND(D35="", F35="", L35="")) -> TRUE | U35: =S35/R35 -> 1 | V35: =IF(H35="ja",I35,0)/R35 -> 0 | W35: =(E35/U35)/Q35 -> 3000 | X35: =W35+D35 -> 28000 | Y35: =franchise2028 -> 19172 | Z35: =MIN(maxloon2028+W35, maxloonexc2028) -> 98000 | AA35: =maxloonexc2028 -> 137800 | AB35: =MIN(X35,Z35,AA35)-Y35 -> 8828 | AC35: =AB35*U35*Q35 -> 735.66667 | AD35: =AB35*V35*Q35 -> 0 | AE35: =AC35*premiepct2028 -> 205.83953 | AF35: =AD35*premiepct2028*premiekort_ouderschapsverlof2028 -> 0 | AG35: =AE35-AF35 -> 205.83953 | AH35: =IF(exc_regeling_jn,MAX(MIN(X35,AA35)-Z35, 0),"") -> 0 | AI35: =IF(exc_regeling_jn,AH35*U35*Q35,"") -> 0 | AJ35: =IF(exc_regeling_jn,AI35*gekozen_premie_exc2028,"") -> 0 | AK35: 18000 | AL35: =AK35/1000*VLOOKUP(leeftijd_deelnemer+1,'premie ANW-hiaat'!A$2:C$54,2,0)*VLOOKUP(leeftijd_partner+1,'premie ANW-hiaat'!A$2:C$54,3,0)*Q35 -> 36.012555 | AM35: =AG35 -> 205.83953 | AN35: =IF(exc_regeling_jn,AJ35,"") -> 0 | AO35: =AL35 -> 36.012555 | AP35: =SUM(AM35:AO35) -> 241.85209
A36: =IF(AND($B$5=12, COUNTIF($A$14:A35, 12)>1), "",IF(OR(AND($B$5=12, A35=12),AND($B$5=13, A35=13), A35 = "Periode"), 1, A35+1)) -> 10 | B36: =IF(OR(IF($B$5=13, rekenwaarden!D24, rekenwaarden!I24)<$B$6,IF($B$5=13, rekenwaarden!C24, rekenwaarden!H24)>$B$7),"",IF(A36="", "", IF($B$5=13, rekenwaarden!C24, rekenwaarden!H24))) -> 47027 | C36: =IF(B36="", "", IF($B$5=13, rekenwaarden!D24, rekenwaarden!I24)) -> 47057 | D36: 25000 | E36: 0 | F36: 173.33 | G36: 0 | H36: nee | I36: 0 | J36: nee | K36: 0 | L36: 40 | M36: =IF(OR(MAX($B$6, B36)>C36, MIN($B$7, C36)<B36),"", MAX($B$6, B36)) -> 47027 | N36: =IF(OR(MAX($B$6, B36)>C36, MIN($B$7, C36)<B36),"", MIN($B$7, C36)) -> 47057 | O36: =IF(M36="","",IF($B$4=2,N36-M36+1,NETWORKDAYS(M36, N36))) -> 31 | P36: =IF(M36="", "", O36 / IF($B$4=2,(C36-B36+1), NETWORKDAYS(B36,C36))) -> 1 | Q36: =IF(M36="","", IF($B$4=2,P36/$B$5, IF($B$4=1,(O36/NETWORKDAYS(DATE(YEAR(M36),1,1), DATE(YEAR(N36),12,31))),0) )) -> 0.083333333 | R36: =ROUND((IF(M36="", "", L36*IF($B$4=2, 52/$B$5*P36, O36/5))),2) -> 173.33 | S36: =MIN(F36,R36) -> 173.33 | T36: =IF(M36<>"", AND(D36<>"", F36<>"", L36<>""), AND(D36="", F36="", L36="")) -> TRUE | U36: =S36/R36 -> 1 | V36: =IF(H36="ja",I36,0)/R36 -> 0 | W36: =(E36/U36)/Q36 -> 0 | X36: =W36+D36 -> 25000 | Y36: =franchise2028 -> 19172 | Z36: =MIN(maxloon2028+W36, maxloonexc2028) -> 95000 | AA36: =maxloonexc2028 -> 137800 | AB36: =MIN(X36,Z36,AA36)-Y36 -> 5828 | AC36: =AB36*U36*Q36 -> 485.66667 | AD36: =AB36*V36*Q36 -> 0 | AE36: =AC36*premiepct2028 -> 135.88953 | AF36: =AD36*premiepct2028*premiekort_ouderschapsverlof2028 -> 0 | AG36: =AE36-AF36 -> 135.88953 | AH36: =IF(exc_regeling_jn,MAX(MIN(X36,AA36)-Z36, 0),"") -> 0 | AI36: =IF(exc_regeling_jn,AH36*U36*Q36,"") -> 0 | AJ36: =IF(exc_regeling_jn,AI36*gekozen_premie_exc2028,"") -> 0 | AK36: 18000 | AL36: =AK36/1000*VLOOKUP(leeftijd_deelnemer+1,'premie ANW-hiaat'!A$2:C$54,2,0)*VLOOKUP(leeftijd_partner+1,'premie ANW-hiaat'!A$2:C$54,3,0)*Q36 -> 36.012555 | AM36: =AG36 -> 135.88953 | AN36: =IF(exc_regeling_jn,AJ36,"") -> 0 | AO36: =AL36 -> 36.012555 | AP36: =SUM(AM36:AO36) -> 171.90209
A37: =IF(AND($B$5=12, COUNTIF($A$14:A36, 12)>1), "",IF(OR(AND($B$5=12, A36=12),AND($B$5=13, A36=13), A36 = "Periode"), 1, A36+1)) -> 11 | B37: =IF(OR(IF($B$5=13, rekenwaarden!D25, rekenwaarden!I25)<$B$6,IF($B$5=13, rekenwaarden!C25, rekenwaarden!H25)>$B$7),"",IF(A37="", "", IF($B$5=13, rekenwaarden!C25, rekenwaarden!H25))) -> 47058 | C37: =IF(B37="", "", IF($B$5=13, rekenwaarden!D25, rekenwaarden!I25)) -> 47087 | D37: 25000 | E37: 0 | F37: 173.33 | G37: 0 | H37: nee | I37: 0 | J37: nee | K37: 0 | L37: 40 | M37: =IF(OR(MAX($B$6, B37)>C37, MIN($B$7, C37)<B37),"", MAX($B$6, B37)) -> 47058 | N37: =IF(OR(MAX($B$6, B37)>C37, MIN($B$7, C37)<B37),"", MIN($B$7, C37)) -> 47087 | O37: =IF(M37="","",IF($B$4=2,N37-M37+1,NETWORKDAYS(M37, N37))) -> 30 | P37: =IF(M37="", "", O37 / IF($B$4=2,(C37-B37+1), NETWORKDAYS(B37,C37))) -> 1 | Q37: =IF(M37="","", IF($B$4=2,P37/$B$5, IF($B$4=1,(O37/NETWORKDAYS(DATE(YEAR(M37),1,1), DATE(YEAR(N37),12,31))),0) )) -> 0.083333333 | R37: =ROUND((IF(M37="", "", L37*IF($B$4=2, 52/$B$5*P37, O37/5))),2) -> 173.33 | S37: =MIN(F37,R37) -> 173.33 | T37: =IF(M37<>"", AND(D37<>"", F37<>"", L37<>""), AND(D37="", F37="", L37="")) -> TRUE | U37: =S37/R37 -> 1 | V37: =IF(H37="ja",I37,0)/R37 -> 0 | W37: =(E37/U37)/Q37 -> 0 | X37: =W37+D37 -> 25000 | Y37: =franchise2028 -> 19172 | Z37: =MIN(maxloon2028+W37, maxloonexc2028) -> 95000 | AA37: =maxloonexc2028 -> 137800 | AB37: =MIN(X37,Z37,AA37)-Y37 -> 5828 | AC37: =AB37*U37*Q37 -> 485.66667 | AD37: =AB37*V37*Q37 -> 0 | AE37: =AC37*premiepct2028 -> 135.88953 | AF37: =AD37*premiepct2028*premiekort_ouderschapsverlof2028 -> 0 | AG37: =AE37-AF37 -> 135.88953 | AH37: =IF(exc_regeling_jn,MAX(MIN(X37,AA37)-Z37, 0),"") -> 0 | AI37: =IF(exc_regeling_jn,AH37*U37*Q37,"") -> 0 | AJ37: =IF(exc_regeling_jn,AI37*gekozen_premie_exc2028,"") -> 0 | AK37: 18000 | AL37: =AK37/1000*VLOOKUP(leeftijd_deelnemer+1,'premie ANW-hiaat'!A$2:C$54,2,0)*VLOOKUP(leeftijd_partner+1,'premie ANW-hiaat'!A$2:C$54,3,0)*Q37 -> 36.012555 | AM37: =AG37 -> 135.88953 | AN37: =IF(exc_regeling_jn,AJ37,"") -> 0 | AO37: =AL37 -> 36.012555 | AP37: =SUM(AM37:AO37) -> 171.90209
A38: =IF(AND($B$5=12, COUNTIF($A$14:A37, 12)>1), "",IF(OR(AND($B$5=12, A37=12),AND($B$5=13, A37=13), A37 = "Periode"), 1, A37+1)) -> 12 | B38: =IF(OR(IF($B$5=13, rekenwaarden!D26, rekenwaarden!I26)<$B$6,IF($B$5=13, rekenwaarden!C26, rekenwaarden!H26)>$B$7),"",IF(A38="", "", IF($B$5=13, rekenwaarden!C26, rekenwaarden!H26))) -> 47088 | C38: =IF(B38="", "", IF($B$5=13, rekenwaarden!D26, rekenwaarden!I26)) -> 47118 | D38: 25000 | E38: 0 | F38: 173.33 | G38: 0 | H38: nee | I38: 0 | J38: nee | K38: 0 | L38: 40 | M38: =IF(OR(MAX($B$6, B38)>C38, MIN($B$7, C38)<B38),"", MAX($B$6, B38)) -> 47088 | N38: =IF(OR(MAX($B$6, B38)>C38, MIN($B$7, C38)<B38),"", MIN($B$7, C38)) -> 47097 | O38: =IF(M38="","",IF($B$4=2,N38-M38+1,NETWORKDAYS(M38, N38))) -> 10 | P38: =IF(M38="", "", O38 / IF($B$4=2,(C38-B38+1), NETWORKDAYS(B38,C38))) -> 0.32258065 | Q38: =IF(M38="","", IF($B$4=2,P38/$B$5, IF($B$4=1,(O38/NETWORKDAYS(DATE(YEAR(M38),1,1), DATE(YEAR(N38),12,31))),0) )) -> 0.02688172 | R38: =ROUND((IF(M38="", "", L38*IF($B$4=2, 52/$B$5*P38, O38/5))),2) -> 55.91 | S38: =MIN(F38,R38) -> 55.91 | T38: =IF(M38<>"", AND(D38<>"", F38<>"", L38<>""), AND(D38="", F38="", L38="")) -> TRUE | U38: =S38/R38 -> 1 | V38: =IF(H38="ja",I38,0)/R38 -> 0 | W38: =(E38/U38)/Q38 -> 0 | X38: =W38+D38 -> 25000 | Y38: =franchise2028 -> 19172 | Z38: =MIN(maxloon2028+W38, maxloonexc2028) -> 95000 | AA38: =maxloonexc2028 -> 137800 | AB38: =MIN(X38,Z38,AA38)-Y38 -> 5828 | AC38: =AB38*U38*Q38 -> 156.66667 | AD38: =AB38*V38*Q38 -> 0 | AE38: =AC38*premiepct2028 -> 43.835333 | AF38: =AD38*premiepct2028*premiekort_ouderschapsverlof2028 -> 0 | AG38: =AE38-AF38 -> 43.835333 | AH38: =IF(exc_regeling_jn,MAX(MIN(X38,AA38)-Z38, 0),"") -> 0 | AI38: =IF(exc_regeling_jn,AH38*U38*Q38,"") -> 0 | AJ38: =IF(exc_regeling_jn,AI38*gekozen_premie_exc2028,"") -> 0 | AK38: 18000 | AL38: =AK38/1000*VLOOKUP(leeftijd_deelnemer+1,'premie ANW-hiaat'!A$2:C$54,2,0)*VLOOKUP(leeftijd_partner+1,'premie ANW-hiaat'!A$2:C$54,3,0)*Q38 -> 11.616953 | AM38: =AG38 -> 43.835333 | AN38: =IF(exc_regeling_jn,AJ38,"") -> 0 | AO38: =AL38 -> 11.616953 | AP38: =SUM(AM38:AO38) -> 55.452287

Sheet Grondslagbepaling 4wk
A3: Soort grondslag | B3: jaarsalaris | H3: =IF(AND(H4="", H5=""), "", "Fout sheet:")
A4: Interpolatiemethode | B4: 2 | C4: --> | D4: 1 = SV-dagen, 2 = kalenderdagen | H4: =IF(AND($T$15:$T$40),"", "Gegevens komen niet overeen met dienstverbandlengte. Input wijzigen of ingang/einde dienstverband verplaatsen")
A5: Verloningen per jaar | B5: 13 | C5: --> | D5: 12 = maandelijks, 13 = 4 wekelijks | H5: =IF(B6<=B7,"", "Ingang dienstverband kan niet voor einddatum dienstverband liggen")
A6: Ingangsdatum dvb | B6: 46402
A7: Einddatum dvb | B7: 47097
A8: Excedentregeling | B8: TRUE | E8: = | F8: aan te passen veld
A9: Leeftijd deelnemer | B9: 51
A10: Leeftijd partner | B10: 44
D12: Aangeleverd salaris, uren en verlof | M12: Berekening voor gebroken periodes | U12: Parttimepercentages | AB12: Basisregeling | AC12: RegKnmrk | AD12: U0757-2010 | AH12: Excedentregeling | AJ12: U0757-2020 | AK12: ANW-hiaat | AM12: Samenvatting
D13: RegLn | E13: OnrTsl | G13: VerlofUReg | I13: UrenVerl (OSP) | K13: UrenVerl | L13: AantUNormWk | U13: PtPerc
A14: periode | B14: ingangsdatum | C14: einddatum | D14: peilloon (ft per jaar) | E14: ploegen dienst toeslag | F14: uren voor regeling | G14: verlofuren voor regeling | H14: voortzetting tijdens onbetaald ouderschaps-verlof | I14: verlof uren onbetaald ouderschaps-verlof | J14: voortzetting tijdens overig onbetaald verlof | K14: verlof uren overig onbetaald verlof | L14: normuren per week | M14: startdatum | N14: einddatum | O14: gewerkte dagen in periode | P14: deel periode | Q14: deel van jaar berekening | R14: normuren periode | S14: uren voor regeling, gemaximeerd | T14: gegevens correct? | U14: deeltijdfactor regeling | V14: deeltijdfactor onbetaald ouderschapsverlof | W14: FT jaarbasis ploegendiensttoeslag | X14: FT jaarsalaris incl ploegendiensttoeslag | Y14: FT franchise | Z14: FT max loon | AA14: FT max loon exc | AB14: fulltime premiegrondslag basis | AC14: parttime premiegrondslag periode | AD14: parttime premiegrondslag onbetaald ouderschapsverlof per periode | AE14: premie basisregeling | AF14: premiekorting onbetaald ouderschapsverlof per periode | AG14: totaal premie basisregeling periode | AH14: fulltime premiegrondslag excedent | AI14: premiegrondslag excedent periode | AJ14: premie excedent periode | AK14: verzekerd bedrag (gekozen) | AL14: premie volgens tabel | AM14: premie basisregeling totaal | AN14: premie excedent-regeling totaal | AO14: premie ANW-hiaat | AP14: totaal
A15: =IF(AND($B$5=12, COUNTIF($A$14:A14, 12)>1), "",IF(OR(AND($B$5=12, A14=12),AND($B$5=13, A14=13), A14 = "Periode"), 1, A14+1)) -> 1 | B15: =IF(OR(IF($B$5=13, rekenwaarden!D3, rekenwaarden!I3)<$B$6,IF($B$5=13, rekenwaarden!C3, rekenwaarden!H3)>$B$7),"",IF(A15="", "", IF($B$5=13, rekenwaarden!C3, rekenwaarden!H3))) -> 46388 | C15: =IF(B15="", "", IF($B$5=13, rekenwaarden!D3, rekenwaarden!I3)) -> 46418 | D15: 120000 | E15: 1200 | F15: 60 | G15: 0 | H15: nee | I15: 0 | J15: nee | K15: 0 | L15: 40 | M15: =IF(OR(MAX($B$6, B15)>C15, MIN($B$7, C15)<B15),"", MAX($B$6, B15)) -> 46402 | N15: =IF(OR(MAX($B$6, B15)>C15, MIN($B$7, C15)<B15),"", MIN($B$7, C15)) -> 46418 | O15: =IF(M15="","",IF($B$4=2,N15-M15+1,NETWORKDAYS(M15, N15))) -> 17 | P15: =IF(M15="", "", O15 / IF($B$4=2,(C15-B15+1), NETWORKDAYS(B15,C15))) -> 0.5483871 | Q15: =IF(M15="","", IF($B$4=2,P15/$B$5, IF($B$4=1,(O15/NETWORKDAYS(DATE(YEAR(M15),1,1), DATE(YEAR(N15),12,31))),0) )) -> 0.042183623 | R15: =IF(M15="", "", L15*IF($B$4=2, 52/$B$5*P15, O15/5)) -> 87.741935 | S15: =MIN(F15,R15) -> 60 | T15: =IF(M15<>"", AND(D15<>"", F15<>"", L15<>""), AND(D15="", F15="", L15="")) -> TRUE | U15: =S15/R15 -> 0.68382353 | V15: =IF(H15="ja",I15,0)/R15 -> 0 | W15: =(E15/U15)/Q15 -> 41600 | X15: =W15+D15 -> 161600 | Y15: =franchise2027 -> 19172 | Z15: =MIN(maxloon2027+W15, maxloonexc2027) -> 116600 | AA15: =maxloonexc2027 -> 137800 | AB15: =MIN(X15,Z15,AA15)-Y15 -> 97428 | AC15: =AB15*U15*Q15 -> 2810.4231 | AD15: =AB15*V15*Q15 -> 0 | AE15: =AC15*premiepct2027 -> 786.35638 | AF15: =AD15*premiepct2027*premiekort_ouderschapsverlof2027 -> 0 | AG15: =AE15-AF15 -> 786.35638 | AH15: =IF(exc_regeling_jn,MAX(MIN(X15,AA15)-Z15, 0),"") -> 21200 | AI15: =IF(exc_regeling_jn,AH15*U15*Q15,"") -> 611.53846 | AJ15: =IF(exc_regeling_jn,AI15*gekozen_premie_exc2027,"") -> 171.10846 | AK15: 18000 | AL15: =AK15/1000*VLOOKUP(leeftijd_deelnemer,'premie ANW-hiaat'!A$2:C$54,2,0)*VLOOKUP(leeftijd_partner,'premie ANW-hiaat'!A$2:C$54,3,0)*Q15 -> 16.817168 | AM15: =AG15 -> 786.35638 | AN15: =IF(exc_regeling_jn,AJ15,"") -> 171.10846 | AO15: =AL15 -> 16.817168 | AP15: =SUM(AM15:AO15) -> 974.28201
A16: =IF(AND($B$5=12, COUNTIF($A$14:A15, 12)>1), "",IF(OR(AND($B$5=12, A15=12),AND($B$5=13, A15=13), A15 = "Periode"), 1, A15+1)) -> 2 | B16: =IF(OR(IF($B$5=13, rekenwaarden!D4, rekenwaarden!I4)<$B$6,IF($B$5=13, rekenwaarden!C4, rekenwaarden!H4)>$B$7),"",IF(A16="", "", IF($B$5=13, rekenwaarden!C4, rekenwaarden!H4))) -> 46419 | C16: =IF(B16="", "", IF($B$5=13, rekenwaarden!D4, rekenwaarden!I4)) -> 46446 | D16: 120000 | E16: 1200 | F16: 120 | G16: 0 | H16: nee | I16: 0 | J16: nee | K16: 0 | L16: 40 | M16: =IF(OR(MAX($B$6, B16)>C16, MIN($B$7, C16)<B16),"", MAX($B$6, B16)) -> 46419 | N16: =IF(OR(MAX($B$6, B16)>C16, MIN($B$7, C16)<B16),"", MIN($B$7, C16)) -> 46446 | O16: =IF(M16="","",IF($B$4=2,N16-M16+1,NETWORKDAYS(M16, N16))) -> 28 | P16: =IF(M16="", "", O16 / IF($B$4=2,(C16-B16+1), NETWORKDAYS(B16,C16))) -> 1 | Q16: =IF(M16="","", IF($B$4=2,P16/$B$5, IF($B$4=1,(O16/NETWORKDAYS(DATE(YEAR(M16),1,1), DATE(YEAR(N16),12,31))),0) )) -> 0.076923077 | R16: =IF(M16="", "", L16*IF($B$4=2, 52/$B$5*P16, O16/5)) -> 160 | S16: =MIN(F16,R16) -> 120 | T16: =IF(M16<>"", AND(D16<>"", F16<>"", L16<>""), AND(D16="", F16="", L16="")) -> TRUE | U16: =S16/R16 -> 0.75 | V16: =IF(H16="ja",I16,0)/R16 -> 0 | W16: =(E16/U16)/Q16 -> 20800 | X16: =W16+D16 -> 140800 | Y16: =franchise2027 -> 19172 | Z16: =MIN(maxloon2027+W16, maxloonexc2027) -> 95800 | AA16: =maxloonexc2027 -> 137800 | AB16: =MIN(X16,Z16,AA16)-Y16 -> 76628 | AC16: =AB16*U16*Q16 -> 4420.8462 | AD16: =AB16*V16*Q16 -> 0 | AE16: =AC16*premiepct2027 -> 1236.9528 | AF16: =AD16*premiepct2027*premiekort_ouderschapsverlof2027 -> 0 | AG16: =AE16-AF16 -> 1236.9528 | AH16: =IF(exc_regeling_jn,MAX(MIN(X16,AA16)-Z16, 0),"") -> 42000 | AI16: =IF(exc_regeling_jn,AH16*U16*Q16,"") -> 2423.0769 | AJ16: =IF(exc_regeling_jn,AI16*gekozen_premie_exc2027,"") -> 677.97692 | AK16: 18000 | AL16: =AK16/1000*VLOOKUP(leeftijd_deelnemer,'premie ANW-hiaat'!A$2:C$54,2,0)*VLOOKUP(leeftijd_partner,'premie ANW-hiaat'!A$2:C$54,3,0)*Q16 -> 30.6666 | AM16: =AG16 -> 1236.9528 | AN16: =IF(exc_regeling_jn,AJ16,"") -> 677.97692 | AO16: =AL16 -> 30.6666 | AP16: =SUM(AM16:AO16) -> 1945.5963
A17: =IF(AND($B$5=12, COUNTIF($A$14:A16, 12)>1), "",IF(OR(AND($B$5=12, A16=12),AND($B$5=13, A16=13), A16 = "Periode"), 1, A16+1)) -> 3 | B17: =IF(OR(IF($B$5=13, rekenwaarden!D5, rekenwaarden!I5)<$B$6,IF($B$5=13, rekenwaarden!C5, rekenwaarden!H5)>$B$7),"",IF(A17="", "", IF($B$5=13, rekenwaarden!C5, rekenwaarden!H5))) -> 46447 | C17: =IF(B17="", "", IF($B$5=13, rekenwaarden!D5, rekenwaarden!I5)) -> 46474 | D17: 120000 | E17: 1200 | F17: 120 | G17: 0 | H17: nee | I17: 0 | J17: nee | K17: 0 | L17: 40 | M17: =IF(OR(MAX($B$6, B17)>C17, MIN($B$7, C17)<B17),"", MAX($B$6, B17)) -> 46447 | N17: =IF(OR(MAX($B$6, B17)>C17, MIN($B$7, C17)<B17),"", MIN($B$7, C17)) -> 46474 | O17: =IF(M17="","",IF($B$4=2,N17-M17+1,NETWORKDAYS(M17, N17))) -> 28 | P17: =IF(M17="", "", O17 / IF($B$4=2,(C17-B17+1), NETWORKDAYS(B17,C17))) -> 1 | Q17: =IF(M17="","", IF($B$4=2,P17/$B$5, IF($B$4=1,(O17/NETWORKDAYS(DATE(YEAR(M17),1,1), DATE(YEAR(N17),12,31))),0) )) -> 0.076923077 | R17: =IF(M17="", "", L17*IF($B$4=2, 52/$B$5*P17, O17/5)) -> 160 | S17: =MIN(F17,R17) -> 120 | T17: =IF(M17<>"", AND(D17<>"", F17<>"", L17<>""), AND(D17="", F17="", L17="")) -> TRUE | U17: =S17/R17 -> 0.75 | V17: =IF(H17="ja",I17,0)/R17 -> 0 | W17: =(E17/U17)/Q17 -> 20800 | X17: =W17+D17 -> 140800 | Y17: =franchise2027 -> 19172 | Z17: =MIN(maxloon2027+W17, maxloonexc2027) -> 95800 | AA17: =maxloonexc2027 -> 137800 | AB17: =MIN(X17,Z17,AA17)-Y17 -> 76628 | AC17: =AB17*U17*Q17 -> 4420.8462 | AD17: =AB17*V17*Q17 -> 0 | AE17: =AC17*premiepct2027 -> 1236.9528 | AF17: =AD17*premiepct2027*premiekort_ouderschapsverlof2027 -> 0 | AG17: =AE17-AF17 -> 1236.9528 | AH17: =IF(exc_regeling_jn,MAX(MIN(X17,AA17)-Z17, 0),"") -> 42000 | AI17: =IF(exc_regeling_jn,AH17*U17*Q17,"") -> 2423.0769 | AJ17: =IF(exc_regeling_jn,AI17*gekozen_premie_exc2027,"") -> 677.97692 | AK17: 18000 | AL17: =AK17/1000*VLOOKUP(leeftijd_deelnemer,'premie ANW-hiaat'!A$2:C$54,2,0)*VLOOKUP(leeftijd_partner,'premie ANW-hiaat'!A$2:C$54,3,0)*Q17 -> 30.6666 | AM17: =AG17 -> 1236.9528 | AN17: =IF(exc_regeling_jn,AJ17,"") -> 677.97692 | AO17: =AL17 -> 30.6666 | AP17: =SUM(AM17:AO17) -> 1945.5963
A18: =IF(AND($B$5=12, COUNTIF($A$14:A17, 12)>1), "",IF(OR(AND($B$5=12, A17=12),AND($B$5=13, A17=13), A17 = "Periode"), 1, A17+1)) -> 4 | B18: =IF(OR(IF($B$5=13, rekenwaarden!D6, rekenwaarden!I6)<$B$6,IF($B$5=13, rekenwaarden!C6, rekenwaarden!H6)>$B$7),"",IF(A18="", "", IF($B$5=13, rekenwaarden!C6, rekenwaarden!H6))) -> 46475 | C18: =IF(B18="", "", IF($B$5=13, rekenwaarden!D6, rekenwaarden!I6)) -> 46502 | D18: 120000 | E18: 1000 | F18: 100 | G18: 20 | H18: nee | I18: 20 | J18: ja | K18: 20 | L18: 40 | M18: =IF(OR(MAX($B$6, B18)>C18, MIN($B$7, C18)<B18),"", MAX($B$6, B18)) -> 46475 | N18: =IF(OR(MAX($B$6, B18)>C18, MIN($B$7, C18)<B18),"", MIN($B$7, C18)) -> 46502 | O18: =IF(M18="","",IF($B$4=2,N18-M18+1,NETWORKDAYS(M18, N18))) -> 28 | P18: =IF(M18="", "", O18 / IF($B$4=2,(C18-B18+1), NETWORKDAYS(B18,C18))) -> 1 | Q18: =IF(M18="","", IF($B$4=2,P18/$B$5, IF($B$4=1,(O18/NETWORKDAYS(DATE(YEAR(M18),1,1), DATE(YEAR(N18),12,31))),0) )) -> 0.076923077 | R18: =IF(M18="", "", L18*IF($B$4=2, 52/$B$5*P18, O18/5)) -> 160 | S18: =MIN(F18,R18) -> 100 | T18: =IF(M18<>"", AND(D18<>"", F18<>"", L18<>""), AND(D18="", F18="", L18="")) -> TRUE | U18: =S18/R18 -> 0.625 | V18: =IF(H18="ja",I18,0)/R18 -> 0 | W18: =(E18/U18)/Q18 -> 20800 | X18: =W18+D18 -> 140800 | Y18: =franchise2027 -> 19172 | Z18: =MIN(maxloon2027+W18, maxloonexc2027) -> 95800 | AA18: =maxloonexc2027 -> 137800 | AB18: =MIN(X18,Z18,AA18)-Y18 -> 76628 | AC18: =AB18*U18*Q18 -> 3684.0385 | AD18: =AB18*V18*Q18 -> 0 | AE18: =AC18*premiepct2027 -> 1030.794 | AF18: =AD18*premiepct2027*premiekort_ouderschapsverlof2027 -> 0 | AG18: =AE18-AF18 -> 1030.794 | AH18: =IF(exc_regeling_jn,MAX(MIN(X18,AA18)-Z18, 0),"") -> 42000 | AI18: =IF(exc_regeling_jn,AH18*U18*Q18,"") -> 2019.2308 | AJ18: =IF(exc_regeling_jn,AI18*gekozen_premie_exc2027,"") -> 564.98077 | AK18: 18000 | AL18: =AK18/1000*VLOOKUP(leeftijd_deelnemer,'premie ANW-hiaat'!A$2:C$54,2,0)*VLOOKUP(leeftijd_partner,'premie ANW-hiaat'!A$2:C$54,3,0)*Q18 -> 30.6666 | AM18: =AG18 -> 1030.794 | AN18: =IF(exc_regeling_jn,AJ18,"") -> 564.98077 | AO18: =AL18 -> 30.6666 | AP18: =SUM(AM18:AO18) -> 1626.4413
A19: =IF(AND($B$5=12, COUNTIF($A$14:A18, 12)>1), "",IF(OR(AND($B$5=12, A18=12),AND($B$5=13, A18=13), A18 = "Periode"), 1, A18+1)) -> 5 | B19: =IF(OR(IF($B$5=13, rekenwaarden!D7, rekenwaarden!I7)<$B$6,IF($B$5=13, rekenwaarden!C7, rekenwaarden!H7)>$B$7),"",IF(A19="", "", IF($B$5=13, rekenwaarden!C7, rekenwaarden!H7))) -> 46503 | C19: =IF(B19="", "", IF($B$5=13, rekenwaarden!D7, rekenwaarden!I7)) -> 46530 | D19: 120000 | E19: 1200 | F19: 120 | G19: 40 | H19: ja | I19: 10 | J19: ja | K19: 30 | L19: 40 | M19: =IF(OR(MAX($B$6, B19)>C19, MIN($B$7, C19)<B19),"", MAX($B$6, B19)) -> 46503 | N19: =IF(OR(MAX($B$6, B19)>C19, MIN($B$7, C19)<B19),"", MIN($B$7, C19)) -> 46530 | O19: =IF(M19="","",IF($B$4=2,N19-M19+1,NETWORKDAYS(M19, N19))) -> 28 | P19: =IF(M19="", "", O19 / IF($B$4=2,(C19-B19+1), NETWORKDAYS(B19,C19))) -> 1 | Q19: =IF(M19="","", IF($B$4=2,P19/$B$5, IF($B$4=1,(O19/NETWORKDAYS(DATE(YEAR(M19),1,1), DATE(YEAR(N19),12,31))),0) )) -> 0.076923077 | R19: =IF(M19="", "", L19*IF($B$4=2, 52/$B$5*P19, O19/5)) -> 160 | S19: =MIN(F19,R19) -> 120 | T19: =IF(M19<>"", AND(D19<>"", F19<>"", L19<>""), AND(D19="", F19="", L19="")) -> TRUE | U19: =S19/R19 -> 0.75 | V19: =IF(H19="ja",I19,0)/R19 -> 0.0625 | W19: =(E19/U19)/Q19 -> 20800 | X19: =W19+D19 -> 140800 | Y19: =franchise2027 -> 19172 | Z19: =MIN(maxloon2027+W19, maxloonexc2027) -> 95800 | AA19: =maxloonexc2027 -> 137800 | AB19: =MIN(X19,Z19,AA19)-Y19 -> 76628 | AC19: =AB19*U19*Q19 -> 4420.8462 | AD19: =AB19*V19*Q19 -> 368.40385 | AE19: =AC19*premiepct2027 -> 1236.9528 | AF19: =AD19*premiepct2027*premiekort_ouderschapsverlof2027 -> 51.539698 | AG19: =AE19-AF19 -> 1185.4131 | AH19: =IF(exc_regeling_jn,MAX(MIN(X19,AA19)-Z19, 0),"") -> 42000 | AI19: =IF(exc_regeling_jn,AH19*U19*Q19,"") -> 2423.0769 | AJ19: =IF(exc_regeling_jn,AI19*gekozen_premie_exc2027,"") -> 677.97692 | AK19: 18000 | AL19: =AK19/1000*VLOOKUP(leeftijd_deelnemer,'premie ANW-hiaat'!A$2:C$54,2,0)*VLOOKUP(leeftijd_partner,'premie ANW-hiaat'!A$2:C$54,3,0)*Q19 -> 30.6666 | AM19: =AG19 -> 1185.4131 | AN19: =IF(exc_regeling_jn,AJ19,"") -> 677.97692 | AO19: =AL19 -> 30.6666 | AP19: =SUM(AM19:AO19) -> 1894.0566
A20: =IF(AND($B$5=12, COUNTIF($A$14:A19, 12)>1), "",IF(OR(AND($B$5=12, A19=12),AND($B$5=13, A19=13), A19 = "Periode"), 1, A19+1)) -> 6 | B20: =IF(OR(IF($B$5=13, rekenwaarden!D8, rekenwaarden!I8)<$B$6,IF($B$5=13, rekenwaarden!C8, rekenwaarden!H8)>$B$7),"",IF(A20="", "", IF($B$5=13, rekenwaarden!C8, rekenwaarden!H8))) -> 46531 | C20: =IF(B20="", "", IF($B$5=13, rekenwaarden!D8, rekenwaarden!I8)) -> 46558 | D20: 120000 | E20: 1000 | F20: 100 | G20: 20 | H20: nee | I20: 20 | J20: ja | K20: 20 | L20: 40 | M20: =IF(OR(MAX($B$6, B20)>C20, MIN($B$7, C20)<B20),"", MAX($B$6, B20)) -> 46531 | N20: =IF(OR(MAX($B$6, B20)>C20, MIN($B$7, C20)<B20),"", MIN($B$7, C20)) -> 46558 | O20: =IF(M20="","",IF($B$4=2,N20-M20+1,NETWORKDAYS(M20, N20))) -> 28 | P20: =IF(M20="", "", O20 / IF($B$4=2,(C20-B20+1), NETWORKDAYS(B20,C20))) -> 1 | Q20: =IF(M20="","", IF($B$4=2,P20/$B$5, IF($B$4=1,(O20/NETWORKDAYS(DATE(YEAR(M20),1,1), DATE(YEAR(N20),12,31))),0) )) -> 0.076923077 | R20: =IF(M20="", "", L20*IF($B$4=2, 52/$B$5*P20, O20/5)) -> 160 | S20: =MIN(F20,R20) -> 100 | T20: =IF(M20<>"", AND(D20<>"", F20<>"", L20<>""), AND(D20="", F20="", L20="")) -> TRUE | U20: =S20/R20 -> 0.625 | V20: =IF(H20="ja",I20,0)/R20 -> 0 | W20: =(E20/U20)/Q20 -> 20800 | X20: =W20+D20 -> 140800 | Y20: =franchise2027 -> 19172 | Z20: =MIN(maxloon2027+W20, maxloonexc2027) -> 95800 | AA20: =maxloonexc2027 -> 137800 | AB20: =MIN(X20,Z20,AA20)-Y20 -> 76628 | AC20: =AB20*U20*Q20 -> 3684.0385 | AD20: =AB20*V20*Q20 -> 0 | AE20: =AC20*premiepct2027 -> 1030.794 | AF20: =AD20*premiepct2027*premiekort_ouderschapsverlof2027 -> 0 | AG20: =AE20-AF20 -> 1030.794 | AH20: =IF(exc_regeling_jn,MAX(MIN(X20,AA20)-Z20, 0),"") -> 42000 | AI20: =IF(exc_regeling_jn,AH20*U20*Q20,"") -> 2019.2308 | AJ20: =IF(exc_regeling_jn,AI20*gekozen_premie_exc2027,"") -> 564.98077 | AK20: 18000 | AL20: =AK20/1000*VLOOKUP(leeftijd_deelnemer,'premie ANW-hiaat'!A$2:C$54,2,0)*VLOOKUP(leeftijd_partner,'premie ANW-hiaat'!A$2:C$54,3,0)*Q20 -> 30.6666 | AM20: =AG20 -> 1030.794 | AN20: =IF(exc_regeling_jn,AJ20,"") -> 564.98077 | AO20: =AL20 -> 30.6666 | AP20: =SUM(AM20:AO20) -> 1626.4413
A21: =IF(AND($B$5=12, COUNTIF($A$14:A20, 12)>1), "",IF(OR(AND($B$5=12, A20=12),AND($B$5=13, A20=13), A20 = "Periode"), 1, A20+1)) -> 7 | B21: =IF(OR(IF($B$5=13, rekenwaarden!D9, rekenwaarden!I9)<$B$6,IF($B$5=13, rekenwaarden!C9, rekenwaarden!H9)>$B$7),"",IF(A21="", "", IF($B$5=13, rekenwaarden!C9, rekenwaarden!H9))) -> 46559 | C21: =IF(B21="", "", IF($B$5=13, rekenwaarden!D9, rekenwaarden!I9)) -> 46586 | D21: 120000 | E21: 1000 | F21: 100 | G21: 20 | H21: ja | I21: 20 | J21: nee | K21: 20 | L21: 40 | M21: =IF(OR(MAX($B$6, B21)>C21, MIN($B$7, C21)<B21),"", MAX($B$6, B21)) -> 46559 | N21: =IF(OR(MAX($B$6, B21)>C21, MIN($B$7, C21)<B21),"", MIN($B$7, C21)) -> 46586 | O21: =IF(M21="","",IF($B$4=2,N21-M21+1,NETWORKDAYS(M21, N21))) -> 28 | P21: =IF(M21="", "", O21 / IF($B$4=2,(C21-B21+1), NETWORKDAYS(B21,C21))) -> 1 | Q21: =IF(M21="","", IF($B$4=2,P21/$B$5, IF($B$4=1,(O21/NETWORKDAYS(DATE(YEAR(M21),1,1), DATE(YEAR(N21),12,31))),0) )) -> 0.076923077 | R21: =IF(M21="", "", L21*IF($B$4=2, 52/$B$5*P21, O21/5)) -> 160 | S21: =MIN(F21,R21) -> 100 | T21: =IF(M21<>"", AND(D21<>"", F21<>"", L21<>""), AND(D21="", F21="", L21="")) -> TRUE | U21: =S21/R21 -> 0.625 | V21: =IF(H21="ja",I21,0)/R21 -> 0.125 | W21: =(E21/U21)/Q21 -> 20800 | X21: =W21+D21 -> 140800 | Y21: =franchise2027 -> 19172 | Z21: =MIN(maxloon2027+W21, maxloonexc2027) -> 95800 | AA21: =maxloonexc2027 -> 137800 | AB21: =MIN(X21,Z21,AA21)-Y21 -> 76628 | AC21: =AB21*U21*Q21 -> 3684.0385 | AD21: =AB21*V21*Q21 -> 736.80769 | AE21: =AC21*premiepct2027 -> 1030.794 | AF21: =AD21*premiepct2027*premiekort_ouderschapsverlof2027 -> 103.0794 | AG21: =AE21-AF21 -> 927.71457 | AH21: =IF(exc_regeling_jn,MAX(MIN(X21,AA21)-Z21, 0),"") -> 42000 | AI21: =IF(exc_regeling_jn,AH21*U21*Q21,"") -> 2019.2308 | AJ21: =IF(exc_regeling_jn,AI21*gekozen_premie_exc2027,"") -> 564.98077 | AK21: 18000 | AL21: =AK21/1000*VLOOKUP(leeftijd_deelnemer,'premie ANW-hiaat'!A$2:C$54,2,0)*VLOOKUP(leeftijd_partner,'premie ANW-hiaat'!A$2:C$54,3,0)*Q21 -> 30.6666 | AM21: =AG21 -> 927.71457 | AN21: =IF(exc_regeling_jn,AJ21,"") -> 564.98077 | AO21: =AL21 -> 30.6666 | AP21: =SUM(AM21:AO21) -> 1523.3619
A22: =IF(AND($B$5=12, COUNTIF($A$14:A21, 12)>1), "",IF(OR(AND($B$5=12, A21=12),AND($B$5=13, A21=13), A21 = "Periode"), 1, A21+1)) -> 8 | B22: =IF(OR(IF($B$5=13, rekenwaarden!D10, rekenwaarden!I10)<$B$6,IF($B$5=13, rekenwaarden!C10, rekenwaarden!H10)>$B$7),"",IF(A22="", "", IF($B$5=13, rekenwaarden!C10, rekenwaarden!H10))) -> 46587 | C22: =IF(B22="", "", IF($B$5=13, rekenwaarden!D10, rekenwaarden!I10)) -> 46614 | D22: 120000 | E22: 1200 | F22: 120 | G22: 40 | H22: ja | I22: 40 | J22: nee | K22: 0 | L22: 40 | M22: =IF(OR(MAX($B$6, B22)>C22, MIN($B$7, C22)<B22),"", MAX($B$6, B22)) -> 46587 | N22: =IF(OR(MAX($B$6, B22)>C22, MIN($B$7, C22)<B22),"", MIN($B$7, C22)) -> 46614 | O22: =IF(M22="","",IF($B$4=2,N22-M22+1,NETWORKDAYS(M22, N22))) -> 28 | P22: =IF(M22="", "", O22 / IF($B$4=2,(C22-B22+1), NETWORKDAYS(B22,C22))) -> 1 | Q22: =IF(M22="","", IF($B$4=2,P22/$B$5, IF($B$4=1,(O22/NETWORKDAYS(DATE(YEAR(M22),1,1), DATE(YEAR(N22),12,31))),0) )) -> 0.076923077 | R22: =IF(M22="", "", L22*IF($B$4=2, 52/$B$5*P22, O22/5)) -> 160 | S22: =MIN(F22,R22) -> 120 | T22: =IF(M22<>"", AND(D22<>"", F22<>"", L22<>""), AND(D22="", F22="", L22="")) -> TRUE | U22: =S22/R22 -> 0.75 | V22: =IF(H22="ja",I22,0)/R22 -> 0.25 | W22: =(E22/U22)/Q22 -> 20800 | X22: =W22+D22 -> 140800 | Y22: =franchise2027 -> 19172 | Z22: =MIN(maxloon2027+W22, maxloonexc2027) -> 95800 | AA22: =maxloonexc2027 -> 137800 | AB22: =MIN(X22,Z22,AA22)-Y22 -> 76628 | AC22: =AB22*U22*Q22 -> 4420.8462 | AD22: =AB22*V22*Q22 -> 1473.6154 | AE22: =AC22*premiepct2027 -> 1236.9528 | AF22: =AD22*premiepct2027*premiekort_ouderschapsverlof2027 -> 206.15879 | AG22: =AE22-AF22 -> 1030.794 | AH22: =IF(exc_regeling_jn,MAX(MIN(X22,AA22)-Z22, 0),"") -> 42000 | AI22: =IF(exc_regeling_jn,AH22*U22*Q22,"") -> 2423.0769 | AJ22: =IF(exc_regeling_jn,AI22*gekozen_premie_exc2027,"") -> 677.97692 | AK22: 18000 | AL22: =AK22/1000*VLOOKUP(leeftijd_deelnemer,'premie ANW-hiaat'!A$2:C$54,2,0)*VLOOKUP(leeftijd_partner,'premie ANW-hiaat'!A$2:C$54,3,0)*Q22 -> 30.6666 | AM22: =AG22 -> 1030.794 | AN22: =IF(exc_regeling_jn,AJ22,"") -> 677.97692 | AO22: =AL22 -> 30.6666 | AP22: =SUM(AM22:AO22) -> 1739.4375
A23: =IF(AND($B$5=12, COUNTIF($A$14:A22, 12)>1), "",IF(OR(AND($B$5=12, A22=12),AND($B$5=13, A22=13), A22 = "Periode"), 1, A22+1)) -> 9 | B23: =IF(OR(IF($B$5=13, rekenwaarden!D11, rekenwaarden!I11)<$B$6,IF($B$5=13, rekenwaarden!C11, rekenwaarden!H11)>$B$7),"",IF(A23="", "", IF($B$5=13, rekenwaarden!C11, rekenwaarden!H11))) -> 46615 | C23: =IF(B23="", "", IF($B$5=13, rekenwaarden!D11, rekenwaarden!I11)) -> 46642 | D23: 120000 | E23: 0 | F23: 120 | G23: 0 | H23: nee | I23: 0 | J23: nee | K23: 0 | L23: 40 | M23: =IF(OR(MAX($B$6, B23)>C23, MIN($B$7, C23)<B23),"", MAX($B$6, B23)) -> 46615 | N23: =IF(OR(MAX($B$6, B23)>C23, MIN($B$7, C23)<B23),"", MIN($B$7, C23)) -> 46642 | O23: =IF(M23="","",IF($B$4=2,N23-M23+1,NETWORKDAYS(M23, N23))) -> 28 | P23: =IF(M23="", "", O23 / IF($B$4=2,(C23-B23+1), NETWORKDAYS(B23,C23))) -> 1 | Q23: =IF(M23="","", IF($B$4=2,P23/$B$5, IF($B$4=1,(O23/NETWORKDAYS(DATE(YEAR(M23),1,1), DATE(YEAR(N23),12,31))),0) )) -> 0.076923077 | R23: =IF(M23="", "", L23*IF($B$4=2, 52/$B$5*P23, O23/5)) -> 160 | S23: =MIN(F23,R23) -> 120 | T23: =IF(M23<>"", AND(D23<>"", F23<>"", L23<>""), AND(D23="", F23="", L23="")) -> TRUE | U23: =S23/R23 -> 0.75 | V23: =IF(H23="ja",I23,0)/R23 -> 0 | W23: =(E23/U23)/Q23 -> 0 | X23: =W23+D23 -> 120000 | Y23: =franchise2027 -> 19172 | Z23: =MIN(maxloon2027+W23, maxloonexc2027) -> 75000 | AA23: =maxloonexc2027 -> 137800 | AB23: =MIN(X23,Z23,AA23)-Y23 -> 55828 | AC23: =AB23*U23*Q23 -> 3220.8462 | AD23: =AB23*V23*Q23 -> 0 | AE23: =AC23*premiepct2027 -> 901.19275 | AF23: =AD23*premiepct2027*premiekort_ouderschapsverlof2027 -> 0 | AG23: =AE23-AF23 -> 901.19275 | AH23: =IF(exc_regeling_jn,MAX(MIN(X23,AA23)-Z23, 0),"") -> 45000 | AI23: =IF(exc_regeling_jn,AH23*U23*Q23,"") -> 2596.1538 | AJ23: =IF(exc_regeling_jn,AI23*gekozen_premie_exc2027,"") -> 726.40385 | AK23: 18000 | AL23: =AK23/1000*VLOOKUP(leeftijd_deelnemer,'premie ANW-hiaat'!A$2:C$54,2,0)*VLOOKUP(leeftijd_partner,'premie ANW-hiaat'!A$2:C$54,3,0)*Q23 -> 30.6666 | AM23: =AG23 -> 901.19275 | AN23: =IF(exc_regeling_jn,AJ23,"") -> 726.40385 | AO23: =AL23 -> 30.6666 | AP23: =SUM(AM23:AO23) -> 1658.2632
A24: =IF(AND($B$5=12, COUNTIF($A$14:A23, 12)>1), "",IF(OR(AND($B$5=12, A23=12),AND($B$5=13, A23=13), A23 = "Periode"), 1, A23+1)) -> 10 | B24: =IF(OR(IF($B$5=13, rekenwaarden!D12, rekenwaarden!I12)<$B$6,IF($B$5=13, rekenwaarden!C12, rekenwaarden!H12)>$B$7),"",IF(A24="", "", IF($B$5=13, rekenwaarden!C12, rekenwaarden!H12))) -> 46643 | C24: =IF(B24="", "", IF($B$5=13, rekenwaarden!D12, rekenwaarden!I12)) -> 46670 | D24: 120000 | E24: 0 | F24: 120 | G24: 0 | H24: nee | I24: 0 | J24: nee | K24: 0 | L24: 40 | M24: =IF(OR(MAX($B$6, B24)>C24, MIN($B$7, C24)<B24),"", MAX($B$6, B24)) -> 46643 | N24: =IF(OR(MAX($B$6, B24)>C24, MIN($B$7, C24)<B24),"", MIN($B$7, C24)) -> 46670 | O24: =IF(M24="","",IF($B$4=2,N24-M24+1,NETWORKDAYS(M24, N24))) -> 28 | P24: =IF(M24="", "", O24 / IF($B$4=2,(C24-B24+1), NETWORKDAYS(B24,C24))) -> 1 | Q24: =IF(M24="","", IF($B$4=2,P24/$B$5, IF($B$4=1,(O24/NETWORKDAYS(DATE(YEAR(M24),1,1), DATE(YEAR(N24),12,31))),0) )) -> 0.076923077 | R24: =IF(M24="", "", L24*IF($B$4=2, 52/$B$5*P24, O24/5)) -> 160 | S24: =MIN(F24,R24) -> 120 | T24: =IF(M24<>"", AND(D24<>"", F24<>"", L24<>""), AND(D24="", F24="", L24="")) -> TRUE | U24: =S24/R24 -> 0.75 | V24: =IF(H24="ja",I24,0)/R24 -> 0 | W24: =(E24/U24)/Q24 -> 0 | X24: =W24+D24 -> 120000 | Y24: =franchise2027 -> 19172 | Z24: =MIN(maxloon2027+W24, maxloonexc2027) -> 75000 | AA24: =maxloonexc2027 -> 137800 | AB24: =MIN(X24,Z24,AA24)-Y24 -> 55828 | AC24: =AB24*U24*Q24 -> 3220.8462 | AD24: =AB24*V24*Q24 -> 0 | AE24: =AC24*premiepct2027 -> 901.19275 | AF24: =AD24*premiepct2027*premiekort_ouderschapsverlof2027 -> 0 | AG24: =AE24-AF24 -> 901.19275 | AH24: =IF(exc_regeling_jn,MAX(MIN(X24,AA24)-Z24, 0),"") -> 45000 | AI24: =IF(exc_regeling_jn,AH24*U24*Q24,"") -> 2596.1538 | AJ24: =IF(exc_regeling_jn,AI24*gekozen_premie_exc2027,"") -> 726.40385 | AK24: 18000 | AL24: =AK24/1000*VLOOKUP(leeftijd_deelnemer,'premie ANW-hiaat'!A$2:C$54,2,0)*VLOOKUP(leeftijd_partner,'premie ANW-hiaat'!A$2:C$54,3,0)*Q24 -> 30.6666 | AM24: =AG24 -> 901.19275 | AN24: =IF(exc_regeling_jn,AJ24,"") -> 726.40385 | AO24: =AL24 -> 30.6666 | AP24: =SUM(AM24:AO24) -> 1658.2632
A25: =IF(AND($B$5=12, COUNTIF($A$14:A24, 12)>1), "",IF(OR(AND($B$5=12, A24=12),AND($B$5=13, A24=13), A24 = "Periode"), 1, A24+1)) -> 11 | B25: =IF(OR(IF($B$5=13, rekenwaarden!D13, rekenwaarden!I13)<$B$6,IF($B$5=13, rekenwaarden!C13, rekenwaarden!H13)>$B$7),"",IF(A25="", "", IF($B$5=13, rekenwaarden!C13, rekenwaarden!H13))) -> 46671 | C25: =IF(B25="", "", IF($B$5=13, rekenwaarden!D13, rekenwaarden!I13)) -> 46698 | D25: 120000 | E25: 0 | F25: 120 | G25: 0 | H25: nee | I25: 0 | J25: nee | K25: 0 | L25: 40 | M25: =IF(OR(MAX($B$6, B25)>C25, MIN($B$7, C25)<B25),"", MAX($B$6, B25)) -> 46671 | N25: =IF(OR(MAX($B$6, B25)>C25, MIN($B$7, C25)<B25),"", MIN($B$7, C25)) -> 46698 | O25: =IF(M25="","",IF($B$4=2,N25-M25+1,NETWORKDAYS(M25, N25))) -> 28 | P25: =IF(M25="", "", O25 / IF($B$4=2,(C25-B25+1), NETWORKDAYS(B25,C25))) -> 1 | Q25: =IF(M25="","", IF($B$4=2,P25/$B$5, IF($B$4=1,(O25/NETWORKDAYS(DATE(YEAR(M25),1,1), DATE(YEAR(N25),12,31))),0) )) -> 0.076923077 | R25: =IF(M25="", "", L25*IF($B$4=2, 52/$B$5*P25, O25/5)) -> 160 | S25: =MIN(F25,R25) -> 120 | T25: =IF(M25<>"", AND(D25<>"", F25<>"", L25<>""), AND(D25="", F25="", L25="")) -> TRUE | U25: =S25/R25 -> 0.75 | V25: =IF(H25="ja",I25,0)/R25 -> 0 | W25: =(E25/U25)/Q25 -> 0 | X25: =W25+D25 -> 120000 | Y25: =franchise2027 -> 19172 | Z25: =MIN(maxloon2027+W25, maxloonexc2027) -> 75000 | AA25: =maxloonexc2027 -> 137800 | AB25: =MIN(X25,Z25,AA25)-Y25 -> 55828 | AC25: =AB25*U25*Q25 -> 3220.8462 | AD25: =AB25*V25*Q25 -> 0 | AE25: =AC25*premiepct2027 -> 901.19275 | AF25: =AD25*premiepct2027*premiekort_ouderschapsverlof2027 -> 0 | AG25: =AE25-AF25 -> 901.19275 | AH25: =IF(exc_regeling_jn,MAX(MIN(X25,AA25)-Z25, 0),"") -> 45000 | AI25: =IF(exc_regeling_jn,AH25*U25*Q25,"") -> 2596.1538 | AJ25: =IF(exc_regeling_jn,AI25*gekozen_premie_exc2027,"") -> 726.40385 | AK25: 18000 | AL25: =AK25/1000*VLOOKUP(leeftijd_deelnemer,'premie ANW-hiaat'!A$2:C$54,2,0)*VLOOKUP(leeftijd_partner,'premie ANW-hiaat'!A$2:C$54,3,0)*Q25 -> 30.6666 | AM25: =AG25 -> 901.19275 | AN25: =IF(exc_regeling_jn,AJ25,"") -> 726.40385 | AO25: =AL25 -> 30.6666 | AP25: =SUM(AM25:AO25) -> 1658.2632
A26: =IF(AND($B$5=12, COUNTIF($A$14:A25, 12)>1), "",IF(OR(AND($B$5=12, A25=12),AND($B$5=13, A25=13), A25 = "Periode"), 1, A25+1)) -> 12 | B26: =IF(OR(IF($B$5=13, rekenwaarden!D14, rekenwaarden!I14)<$B$6,IF($B$5=13, rekenwaarden!C14, rekenwaarden!H14)>$B$7),"",IF(A26="", "", IF($B$5=13, rekenwaarden!C14, rekenwaarden!H14))) -> 46699 | C26: =IF(B26="", "", IF($B$5=13, rekenwaarden!D14, rekenwaarden!I14)) -> 46726 | D26: 120000 | E26: 0 | F26: 120 | G26: 0 | H26: nee | I26: 0 | J26: nee | K26: 0 | L26: 40 | M26: =IF(OR(MAX($B$6, B26)>C26, MIN($B$7, C26)<B26),"", MAX($B$6, B26)) -> 46699 | N26: =IF(OR(MAX($B$6, B26)>C26, MIN($B$7, C26)<B26),"", MIN($B$7, C26)) -> 46726 | O26: =IF(M26="","",IF($B$4=2,N26-M26+1,NETWORKDAYS(M26, N26))) -> 28 | P26: =IF(M26="", "", O26 / IF($B$4=2,(C26-B26+1), NETWORKDAYS(B26,C26))) -> 1 | Q26: =IF(M26="","", IF($B$4=2,P26/$B$5, IF($B$4=1,(O26/NETWORKDAYS(DATE(YEAR(M26),1,1), DATE(YEAR(N26),12,31))),0) )) -> 0.076923077 | R26: =IF(M26="", "", L26*IF($B$4=2, 52/$B$5*P26, O26/5)) -> 160 | S26: =MIN(F26,R26) -> 120 | T26: =IF(M26<>"", AND(D26<>"", F26<>"", L26<>""), AND(D26="", F26="", L26="")) -> TRUE | U26: =S26/R26 -> 0.75 | V26: =IF(H26="ja",I26,0)/R26 -> 0 | W26: =(E26/U26)/Q26 -> 0 | X26: =W26+D26 -> 120000 | Y26: =franchise2027 -> 19172 | Z26: =MIN(maxloon2027+W26, maxloonexc2027) -> 75000 | AA26: =maxloonexc2027 -> 137800 | AB26: =MIN(X26,Z26,AA26)-Y26 -> 55828 | AC26: =AB26*U26*Q26 -> 3220.8462 | AD26: =AB26*V26*Q26 -> 0 | AE26: =AC26*premiepct2027 -> 901.19275 | AF26: =AD26*premiepct2027*premiekort_ouderschapsverlof2027 -> 0 | AG26: =AE26-AF26 -> 901.19275 | AH26: =IF(exc_regeling_jn,MAX(MIN(X26,AA26)-Z26, 0),"") -> 45000 | AI26: =IF(exc_regeling_jn,AH26*U26*Q26,"") -> 2596.1538 | AJ26: =IF(exc_regeling_jn,AI26*gekozen_premie_exc2027,"") -> 726.40385 | AK26: 18000 | AL26: =AK26/1000*VLOOKUP(leeftijd_deelnemer,'premie ANW-hiaat'!A$2:C$54,2,0)*VLOOKUP(leeftijd_partner,'premie ANW-hiaat'!A$2:C$54,3,0)*Q26 -> 30.6666 | AM26: =AG26 -> 901.19275 | AN26: =IF(exc_regeling_jn,AJ26,"") -> 726.40385 | AO26: =AL26 -> 30.6666 | AP26: =SUM(AM26:AO26) -> 1658.2632
A27: =IF(AND($B$5=12, COUNTIF($A$14:A26, 12)>1), "",IF(OR(AND($B$5=12, A26=12),AND($B$5=13, A26=13), A26 = "Periode"), 1, A26+1)) -> 13 | B27: =IF(OR(IF($B$5=13, rekenwaarden!D15, rekenwaarden!I15)<$B$6,IF($B$5=13, rekenwaarden!C15, rekenwaarden!H15)>$B$7),"",IF(A27="", "", IF($B$5=13, rekenwaarden!C15, rekenwaarden!H15))) -> 46727 | C27: =IF(B27="", "", IF($B$5=13, rekenwaarden!D15, rekenwaarden!I15)) -> 46752 | D27: 120000 | E27: 500 | F27: 190 | G27: 0 | H27: nee | I27: 0 | J27: nee | K27: 0 | L27: 40 | M27: =IF(OR(MAX($B$6, B27)>C27, MIN($B$7, C27)<B27),"", MAX($B$6, B27)) -> 46727 | N27: =IF(OR(MAX($B$6, B27)>C27, MIN($B$7, C27)<B27),"", MIN($B$7, C27)) -> 46752 | O27: =IF(M27="","",IF($B$4=2,N27-M27+1,NETWORKDAYS(M27, N27))) -> 26 | P27: =IF(M27="", "", O27 / IF($B$4=2,(C27-B27+1), NETWORKDAYS(B27,C27))) -> 1 | Q27: =IF(M27="","", IF($B$4=2,P27/$B$5, IF($B$4=1,(O27/NETWORKDAYS(DATE(YEAR(M27),1,1), DATE(YEAR(N27),12,31))),0) )) -> 0.076923077 | R27: =IF(M27="", "", L27*IF($B$4=2, 52/$B$5*P27, O27/5)) -> 160 | S27: =MIN(F27,R27) -> 160 | T27: =IF(M27<>"", AND(D27<>"", F27<>"", L27<>""), AND(D27="", F27="", L27="")) -> TRUE | U27: =S27/R27 -> 1 | V27: =IF(H27="ja",I27,0)/R27 -> 0 | W27: =(E27/U27)/Q27 -> 6500 | X27: =W27+D27 -> 126500 | Y27: =franchise2027 -> 19172 | Z27: =MIN(maxloon2027+W27, maxloonexc2027) -> 81500 | AA27: =maxloonexc2027 -> 137800 | AB27: =MIN(X27,Z27,AA27)-Y27 -> 62328 | AC27: =AB27*U27*Q27 -> 4794.4615 | AD27: =AB27*V27*Q27 -> 0 | AE27: =AC27*premiepct2027 -> 1341.4903 | AF27: =AD27*premiepct2027*premiekort_ouderschapsverlof2027 -> 0 | AG27: =AE27-AF27 -> 1341.4903 | AH27: =IF(exc_regeling_jn,MAX(MIN(X27,AA27)-Z27, 0),"") -> 45000 | AI27: =IF(exc_regeling_jn,AH27*U27*Q27,"") -> 3461.5385 | AJ27: =IF(exc_regeling_jn,AI27*gekozen_premie_exc2027,"") -> 968.53846 | AK27: 18000 | AL27: =AK27/1000*VLOOKUP(leeftijd_deelnemer,'premie ANW-hiaat'!A$2:C$54,2,0)*VLOOKUP(leeftijd_partner,'premie ANW-hiaat'!A$2:C$54,3,0)*Q27 -> 30.6666 | AM27: =AG27 -> 1341.4903 | AN27: =IF(exc_regeling_jn,AJ27,"") -> 968.53846 | AO27: =AL27 -> 30.6666 | AP27: =SUM(AM27:AO27) -> 2340.6954
A28: =IF(AND($B$5=12, COUNTIF($A$14:A27, 12)>1), "",IF(OR(AND($B$5=12, A27=12),AND($B$5=13, A27=13), A27 = "Periode"), 1, A27+1)) -> 1 | B28: =IF(OR(IF($B$5=13, rekenwaarden!D16, rekenwaarden!I16)<$B$6,IF($B$5=13, rekenwaarden!C16, rekenwaarden!H16)>$B$7),"",IF(A28="", "", IF($B$5=13, rekenwaarden!C16, rekenwaarden!H16))) -> 46753 | C28: =IF(B28="", "", IF($B$5=13, rekenwaarden!D16, rekenwaarden!I16)) -> 46782 | D28: 140000 | E28: 0 | F28: 100 | G28: 0 | H28: nee | I28: 0 | J28: nee | K28: 0 | L28: 40 | M28: =IF(OR(MAX($B$6, B28)>C28, MIN($B$7, C28)<B28),"", MAX($B$6, B28)) -> 46753 | N28: =IF(OR(MAX($B$6, B28)>C28, MIN($B$7, C28)<B28),"", MIN($B$7, C28)) -> 46782 | O28: =IF(M28="","",IF($B$4=2,N28-M28+1,NETWORKDAYS(M28, N28))) -> 30 | P28: =IF(M28="", "", O28 / IF($B$4=2,(C28-B28+1), NETWORKDAYS(B28,C28))) -> 1 | Q28: =IF(M28="","", IF($B$4=2,P28/$B$5, IF($B$4=1,(O28/NETWORKDAYS(DATE(YEAR(M28),1,1), DATE(YEAR(N28),12,31))),0) )) -> 0.076923077 | R28: =IF(M28="", "", L28*IF($B$4=2, 52/$B$5*P28, O28/5)) -> 160 | S28: =MIN(F28,R28) -> 100 | T28: =IF(M28<>"", AND(D28<>"", F28<>"", L28<>""), AND(D28="", F28="", L28="")) -> TRUE | U28: =S28/R28 -> 0.625 | V28: =IF(H28="ja",I28,0)/R28 -> 0 | W28: =(E28/U28)/Q28 -> 0 | X28: =W28+D28 -> 140000 | Y28: =franchise2028 -> 19172 | Z28: =MIN(maxloon2028+W28, maxloonexc2028) -> 95000 | AA28: =maxloonexc2028 -> 137800 | AB28: =MIN(X28,Z28,AA28)-Y28 -> 75828 | AC28: =AB28*U28*Q28 -> 3645.5769 | AD28: =AB28*V28*Q28 -> 0 | AE28: =AC28*premiepct2028 -> 1020.0324 | AF28: =AD28*premiepct2028*premiekort_ouderschapsverlof2028 -> 0 | AG28: =AE28-AF28 -> 1020.0324 | AH28: =IF(exc_regeling_jn,MAX(MIN(X28,AA28)-Z28, 0),"") -> 42800 | AI28: =IF(exc_regeling_jn,AH28*U28*Q28,"") -> 2057.6923 | AJ28: =IF(exc_regeling_jn,AI28*gekozen_premie_exc2028,"") -> 575.74231 | AK28: 18000 | AL28: =AK28/1000*VLOOKUP(leeftijd_deelnemer+1,'premie ANW-hiaat'!A$2:C$54,2,0)*VLOOKUP(leeftijd_partner+1,'premie ANW-hiaat'!A$2:C$54,3,0)*Q28 -> 33.242358 | AM28: =AG28 -> 1020.0324 | AN28: =IF(exc_regeling_jn,AJ28,"") -> 575.74231 | AO28: =AL28 -> 33.242358 | AP28: =SUM(AM28:AO28) -> 1629.0171
A29: =IF(AND($B$5=12, COUNTIF($A$14:A28, 12)>1), "",IF(OR(AND($B$5=12, A28=12),AND($B$5=13, A28=13), A28 = "Periode"), 1, A28+1)) -> 2 | B29: =IF(OR(IF($B$5=13, rekenwaarden!D17, rekenwaarden!I17)<$B$6,IF($B$5=13, rekenwaarden!C17, rekenwaarden!H17)>$B$7),"",IF(A29="", "", IF($B$5=13, rekenwaarden!C17, rekenwaarden!H17))) -> 46783 | C29: =IF(B29="", "", IF($B$5=13, rekenwaarden!D17, rekenwaarden!I17)) -> 46810 | D29: 140000 | E29: 0 | F29: 100 | G29: 0 | H29: nee | I29: 0 | J29: nee | K29: 0 | L29: 40 | M29: =IF(OR(MAX($B$6, B29)>C29, MIN($B$7, C29)<B29),"", MAX($B$6, B29)) -> 46783 | N29: =IF(OR(MAX($B$6, B29)>C29, MIN($B$7, C29)<B29),"", MIN($B$7, C29)) -> 46810 | O29: =IF(M29="","",IF($B$4=2,N29-M29+1,NETWORKDAYS(M29, N29))) -> 28 | P29: =IF(M29="", "", O29 / IF($B$4=2,(C29-B29+1), NETWORKDAYS(B29,C29))) -> 1 | Q29: =IF(M29="","", IF($B$4=2,P29/$B$5, IF($B$4=1,(O29/NETWORKDAYS(DATE(YEAR(M29),1,1), DATE(YEAR(N29),12,31))),0) )) -> 0.076923077 | R29: =IF(M29="", "", L29*IF($B$4=2, 52/$B$5*P29, O29/5)) -> 160 | S29: =MIN(F29,R29) -> 100 | T29: =IF(M29<>"", AND(D29<>"", F29<>"", L29<>""), AND(D29="", F29="", L29="")) -> TRUE | U29: =S29/R29 -> 0.625 | V29: =IF(H29="ja",I29,0)/R29 -> 0 | W29: =(E29/U29)/Q29 -> 0 | X29: =W29+D29 -> 140000 | Y29: =franchise2028 -> 19172 | Z29: =MIN(maxloon2028+W29, maxloonexc2028) -> 95000 | AA29: =maxloonexc2028 -> 137800 | AB29: =MIN(X29,Z29,AA29)-Y29 -> 75828 | AC29: =AB29*U29*Q29 -> 3645.5769 | AD29: =AB29*V29*Q29 -> 0 | AE29: =AC29*premiepct2028 -> 1020.0324 | AF29: =AD29*premiepct2028*premiekort_ouderschapsverlof2028 -> 0 | AG29: =AE29-AF29 -> 1020.0324 | AH29: =IF(exc_regeling_jn,MAX(MIN(X29,AA29)-Z29, 0),"") -> 42800 | AI29: =IF(exc_regeling_jn,AH29*U29*Q29,"") -> 2057.6923 | AJ29: =IF(exc_regeling_jn,AI29*gekozen_premie_exc2028,"") -> 575.74231 | AK29: 18000 | AL29: =AK29/1000*VLOOKUP(leeftijd_deelnemer+1,'premie ANW-hiaat'!A$2:C$54,2,0)*VLOOKUP(leeftijd_partner+1,'premie ANW-hiaat'!A$2:C$54,3,0)*Q29 -> 33.242358 | AM29: =AG29 -> 1020.0324 | AN29: =IF(exc_regeling_jn,AJ29,"") -> 575.74231 | AO29: =AL29 -> 33.242358 | AP29: =SUM(AM29:AO29) -> 1629.0171
A30: =IF(AND($B$5=12, COUNTIF($A$14:A29, 12)>1), "",IF(OR(AND($B$5=12, A29=12),AND($B$5=13, A29=13), A29 = "Periode"), 1, A29+1)) -> 3 | B30: =IF(OR(IF($B$5=13, rekenwaarden!D18, rekenwaarden!I18)<$B$6,IF($B$5=13, rekenwaarden!C18, rekenwaarden!H18)>$B$7),"",IF(A30="", "", IF($B$5=13, rekenwaarden!C18, rekenwaarden!H18))) -> 46811 | C30: =IF(B30="", "", IF($B$5=13, rekenwaarden!D18, rekenwaarden!I18)) -> 46838 | D30: 140000 | E30: 1250 | F30: 100 | G30: 0 | H30: nee | I30: 0 | J30: nee | K30: 0 | L30: 40 | M30: =IF(OR(MAX($B$6, B30)>C30, MIN($B$7, C30)<B30),"", MAX($B$6, B30)) -> 46811 | N30: =IF(OR(MAX($B$6, B30)>C30, MIN($B$7, C30)<B30),"", MIN($B$7, C30)) -> 46838 | O30: =IF(M30="","",IF($B$4=2,N30-M30+1,NETWORKDAYS(M30, N30))) -> 28 | P30: =IF(M30="", "", O30 / IF($B$4=2,(C30-B30+1), NETWORKDAYS(B30,C30))) -> 1 | Q30: =IF(M30="","", IF($B$4=2,P30/$B$5, IF($B$4=1,(O30/NETWORKDAYS(DATE(YEAR(M30),1,1), DATE(YEAR(N30),12,31))),0) )) -> 0.076923077 | R30: =IF(M30="", "", L30*IF($B$4=2, 52/$B$5*P30, O30/5)) -> 160 | S30: =MIN(F30,R30) -> 100 | T30: =IF(M30<>"", AND(D30<>"", F30<>"", L30<>""), AND(D30="", F30="", L30="")) -> TRUE | U30: =S30/R30 -> 0.625 | V30: =IF(H30="ja",I30,0)/R30 -> 0 | W30: =(E30/U30)/Q30 -> 26000 | X30: =W30+D30 -> 166000 | Y30: =franchise2028 -> 19172 | Z30: =MIN(maxloon2028+W30, maxloonexc2028) -> 121000 | AA30: =maxloonexc2028 -> 137800 | AB30: =MIN(X30,Z30,AA30)-Y30 -> 101828 | AC30: =AB30*U30*Q30 -> 4895.5769 | AD30: =AB30*V30*Q30 -> 0 | AE30: =AC30*premiepct2028 -> 1369.7824 | AF30: =AD30*premiepct2028*premiekort_ouderschapsverlof2028 -> 0 | AG30: =AE30-AF30 -> 1369.7824 | AH30: =IF(exc_regeling_jn,MAX(MIN(X30,AA30)-Z30, 0),"") -> 16800 | AI30: =IF(exc_regeling_jn,AH30*U30*Q30,"") -> 807.69231 | AJ30: =IF(exc_regeling_jn,AI30*gekozen_premie_exc2028,"") -> 225.99231 | AK30: 18000 | AL30: =AK30/1000*VLOOKUP(leeftijd_deelnemer+1,'premie ANW-hiaat'!A$2:C$54,2,0)*VLOOKUP(leeftijd_partner+1,'premie ANW-hiaat'!A$2:C$54,3,0)*Q30 -> 33.242358 | AM30: =AG30 -> 1369.7824 | AN30: =IF(exc_regeling_jn,AJ30,"") -> 225.99231 | AO30: =AL30 -> 33.242358 | AP30: =SUM(AM30:AO30) -> 1629.0171
A31: =IF(AND($B$5=12, COUNTIF($A$14:A30, 12)>1), "",IF(OR(AND($B$5=12, A30=12),AND($B$5=13, A30=13), A30 = "Periode"), 1, A30+1)) -> 4 | B31: =IF(OR(IF($B$5=13, rekenwaarden!D19, rekenwaarden!I19)<$B$6,IF($B$5=13, rekenwaarden!C19, rekenwaarden!H19)>$B$7),"",IF(A31="", "", IF($B$5=13, rekenwaarden!C19, rekenwaarden!H19))) -> 46839 | C31: =IF(B31="", "", IF($B$5=13, rekenwaarden!D19, rekenwaarden!I19)) -> 46866 | D31: 140000 | E31: 1250 | F31: 100 | G31: 0 | H31: nee | I31: 0 | J31: nee | K31: 0 | L31: 40 | M31: =IF(OR(MAX($B$6, B31)>C31, MIN($B$7, C31)<B31),"", MAX($B$6, B31)) -> 46839 | N31: =IF(OR(MAX($B$6, B31)>C31, MIN($B$7, C31)<B31),"", MIN($B$7, C31)) -> 46866 | O31: =IF(M31="","",IF($B$4=2,N31-M31+1,NETWORKDAYS(M31, N31))) -> 28 | P31: =IF(M31="", "", O31 / IF($B$4=2,(C31-B31+1), NETWORKDAYS(B31,C31))) -> 1 | Q31: =IF(M31="","", IF($B$4=2,P31/$B$5, IF($B$4=1,(O31/NETWORKDAYS(DATE(YEAR(M31),1,1), DATE(YEAR(N31),12,31))),0) )) -> 0.076923077 | R31: =IF(M31="", "", L31*IF($B$4=2, 52/$B$5*P31, O31/5)) -> 160 | S31: =MIN(F31,R31) -> 100 | T31: =IF(M31<>"", AND(D31<>"", F31<>"", L31<>""), AND(D31="", F31="", L31="")) -> TRUE | U31: =S31/R31 -> 0.625 | V31: =IF(H31="ja",I31,0)/R31 -> 0 | W31: =(E31/U31)/Q31 -> 26000 | X31: =W31+D31 -> 166000 | Y31: =franchise2028 -> 19172 | Z31: =MIN(maxloon2028+W31, maxloonexc2028) -> 121000 | AA31: =maxloonexc2028 -> 137800 | AB31: =MIN(X31,Z31,AA31)-Y31 -> 101828 | AC31: =AB31*U31*Q31 -> 4895.5769 | AD31: =AB31*V31*Q31 -> 0 | AE31: =AC31*premiepct2028 -> 1369.7824 | AF31: =AD31*premiepct2028*premiekort_ouderschapsverlof2028 -> 0 | AG31: =AE31-AF31 -> 1369.7824 | AH31: =IF(exc_regeling_jn,MAX(MIN(X31,AA31)-Z31, 0),"") -> 16800 | AI31: =IF(exc_regeling_jn,AH31*U31*Q31,"") -> 807.69231 | AJ31: =IF(exc_regeling_jn,AI31*gekozen_premie_exc2028,"") -> 225.99231 | AK31: 18000 | AL31: =AK31/1000*VLOOKUP(leeftijd_deelnemer+1,'premie ANW-hiaat'!A$2:C$54,2,0)*VLOOKUP(leeftijd_partner+1,'premie ANW-hiaat'!A$2:C$54,3,0)*Q31 -> 33.242358 | AM31: =AG31 -> 1369.7824 | AN31: =IF(exc_regeling_jn,AJ31,"") -> 225.99231 | AO31: =AL31 -> 33.242358 | AP31: =SUM(AM31:AO31) -> 1629.0171
A32: =IF(AND($B$5=12, COUNTIF($A$14:A31, 12)>1), "",IF(OR(AND($B$5=12, A31=12),AND($B$5=13, A31=13), A31 = "Periode"), 1, A31+1)) -> 5 | B32: =IF(OR(IF($B$5=13, rekenwaarden!D20, rekenwaarden!I20)<$B$6,IF($B$5=13, rekenwaarden!C20, rekenwaarden!H20)>$B$7),"",IF(A32="", "", IF($B$5=13, rekenwaarden!C20, rekenwaarden!H20))) -> 46867 | C32: =IF(B32="", "", IF($B$5=13, rekenwaarden!D20, rekenwaarden!I20)) -> 46894 | D32: 140000 | E32: 1250 | F32: 100 | G32: 0 | H32: nee | I32: 0 | J32: nee | K32: 0 | L32: 40 | M32: =IF(OR(MAX($B$6, B32)>C32, MIN($B$7, C32)<B32),"", MAX($B$6, B32)) -> 46867 | N32: =IF(OR(MAX($B$6, B32)>C32, MIN($B$7, C32)<B32),"", MIN($B$7, C32)) -> 46894 | O32: =IF(M32="","",IF($B$4=2,N32-M32+1,NETWORKDAYS(M32, N32))) -> 28 | P32: =IF(M32="", "", O32 / IF($B$4=2,(C32-B32+1), NETWORKDAYS(B32,C32))) -> 1 | Q32: =IF(M32="","", IF($B$4=2,P32/$B$5, IF($B$4=1,(O32/NETWORKDAYS(DATE(YEAR(M32),1,1), DATE(YEAR(N32),12,31))),0) )) -> 0.076923077 | R32: =IF(M32="", "", L32*IF($B$4=2, 52/$B$5*P32, O32/5)) -> 160 | S32: =MIN(F32,R32) -> 100 | T32: =IF(M32<>"", AND(D32<>"", F32<>"", L32<>""), AND(D32="", F32="", L32="")) -> TRUE | U32: =S32/R32 -> 0.625 | V32: =IF(H32="ja",I32,0)/R32 -> 0 | W32: =(E32/U32)/Q32 -> 26000 | X32: =W32+D32 -> 166000 | Y32: =franchise2028 -> 19172 | Z32: =MIN(maxloon2028+W32, maxloonexc2028) -> 121000 | AA32: =maxloonexc2028 -> 137800 | AB32: =MIN(X32,Z32,AA32)-Y32 -> 101828 | AC32: =AB32*U32*Q32 -> 4895.5769 | AD32: =AB32*V32*Q32 -> 0 | AE32: =AC32*premiepct2028 -> 1369.7824 | AF32: =AD32*premiepct2028*premiekort_ouderschapsverlof2028 -> 0 | AG32: =AE32-AF32 -> 1369.7824 | AH32: =IF(exc_regeling_jn,MAX(MIN(X32,AA32)-Z32, 0),"") -> 16800 | AI32: =IF(exc_regeling_jn,AH32*U32*Q32,"") -> 807.69231 | AJ32: =IF(exc_regeling_jn,AI32*gekozen_premie_exc2028,"") -> 225.99231 | AK32: 18000 | AL32: =AK32/1000*VLOOKUP(leeftijd_deelnemer+1,'premie ANW-hiaat'!A$2:C$54,2,0)*VLOOKUP(leeftijd_partner+1,'premie ANW-hiaat'!A$2:C$54,3,0)*Q32 -> 33.242358 | AM32: =AG32 -> 1369.7824 | AN32: =IF(exc_regeling_jn,AJ32,"") -> 225.99231 | AO32: =AL32 -> 33.242358 | AP32: =SUM(AM32:AO32) -> 1629.0171
A33: =IF(AND($B$5=12, COUNTIF($A$14:A32, 12)>1), "",IF(OR(AND($B$5=12, A32=12),AND($B$5=13, A32=13), A32 = "Periode"), 1, A32+1)) -> 6 | B33: =IF(OR(IF($B$5=13, rekenwaarden!D21, rekenwaarden!I21)<$B$6,IF($B$5=13, rekenwaarden!C21, rekenwaarden!H21)>$B$7),"",IF(A33="", "", IF($B$5=13, rekenwaarden!C21, rekenwaarden!H21))) -> 46895 | C33: =IF(B33="", "", IF($B$5=13, rekenwaarden!D21, rekenwaarden!I21)) -> 46922 | D33: 140000 | E33: 3750 | F33: 150 | G33: 0 | H33: nee | I33: 0 | J33: nee | K33: 0 | L33: 40 | M33: =IF(OR(MAX($B$6, B33)>C33, MIN($B$7, C33)<B33),"", MAX($B$6, B33)) -> 46895 | N33: =IF(OR(MAX($B$6, B33)>C33, MIN($B$7, C33)<B33),"", MIN($B$7, C33)) -> 46922 | O33: =IF(M33="","",IF($B$4=2,N33-M33+1,NETWORKDAYS(M33, N33))) -> 28 | P33: =IF(M33="", "", O33 / IF($B$4=2,(C33-B33+1), NETWORKDAYS(B33,C33))) -> 1 | Q33: =IF(M33="","", IF($B$4=2,P33/$B$5, IF($B$4=1,(O33/NETWORKDAYS(DATE(YEAR(M33),1,1), DATE(YEAR(N33),12,31))),0) )) -> 0.076923077 | R33: =IF(M33="", "", L33*IF($B$4=2, 52/$B$5*P33, O33/5)) -> 160 | S33: =MIN(F33,R33) -> 150 | T33: =IF(M33<>"", AND(D33<>"", F33<>"", L33<>""), AND(D33="", F33="", L33="")) -> TRUE | U33: =S33/R33 -> 0.9375 | V33: =IF(H33="ja",I33,0)/R33 -> 0 | W33: =(E33/U33)/Q33 -> 52000 | X33: =W33+D33 -> 192000 | Y33: =franchise2028 -> 19172 | Z33: =MIN(maxloon2028+W33, maxloonexc2028) -> 137800 | AA33: =maxloonexc2028 -> 137800 | AB33: =MIN(X33,Z33,AA33)-Y33 -> 118628 | AC33: =AB33*U33*Q33 -> 8554.9038 | AD33: =AB33*V33*Q33 -> 0 | AE33: =AC33*premiepct2028 -> 2393.6621 | AF33: =AD33*premiepct2028*premiekort_ouderschapsverlof2028 -> 0 | AG33: =AE33-AF33 -> 2393.6621 | AH33: =IF(exc_regeling_jn,MAX(MIN(X33,AA33)-Z33, 0),"") -> 0 | AI33: =IF(exc_regeling_jn,AH33*U33*Q33,"") -> 0 | AJ33: =IF(exc_regeling_jn,AI33*gekozen_premie_exc2028,"") -> 0 | AK33: 18000 | AL33: =AK33/1000*VLOOKUP(leeftijd_deelnemer+1,'premie ANW-hiaat'!A$2:C$54,2,0)*VLOOKUP(leeftijd_partner+1,'premie ANW-hiaat'!A$2:C$54,3,0)*Q33 -> 33.242358 | AM33: =AG33 -> 2393.6621 | AN33: =IF(exc_regeling_jn,AJ33,"") -> 0 | AO33: =AL33 -> 33.242358 | AP33: =SUM(AM33:AO33) -> 2426.9045
A34: =IF(AND($B$5=12, COUNTIF($A$14:A33, 12)>1), "",IF(OR(AND($B$5=12, A33=12),AND($B$5=13, A33=13), A33 = "Periode"), 1, A33+1)) -> 7 | B34: =IF(OR(IF($B$5=13, rekenwaarden!D22, rekenwaarden!I22)<$B$6,IF($B$5=13, rekenwaarden!C22, rekenwaarden!H22)>$B$7),"",IF(A34="", "", IF($B$5=13, rekenwaarden!C22, rekenwaarden!H22))) -> 46923 | C34: =IF(B34="", "", IF($B$5=13, rekenwaarden!D22, rekenwaarden!I22)) -> 46950 | D34: 140000 | E34: 3750 | F34: 150 | G34: 0 | H34: nee | I34: 0 | J34: nee | K34: 0 | L34: 40 | M34: =IF(OR(MAX($B$6, B34)>C34, MIN($B$7, C34)<B34),"", MAX($B$6, B34)) -> 46923 | N34: =IF(OR(MAX($B$6, B34)>C34, MIN($B$7, C34)<B34),"", MIN($B$7, C34)) -> 46950 | O34: =IF(M34="","",IF($B$4=2,N34-M34+1,NETWORKDAYS(M34, N34))) -> 28 | P34: =IF(M34="", "", O34 / IF($B$4=2,(C34-B34+1), NETWORKDAYS(B34,C34))) -> 1 | Q34: =IF(M34="","", IF($B$4=2,P34/$B$5, IF($B$4=1,(O34/NETWORKDAYS(DATE(YEAR(M34),1,1), DATE(YEAR(N34),12,31))),0) )) -> 0.076923077 | R34: =IF(M34="", "", L34*IF($B$4=2, 52/$B$5*P34, O34/5)) -> 160 | S34: =MIN(F34,R34) -> 150 | T34: =IF(M34<>"", AND(D34<>"", F34<>"", L34<>""), AND(D34="", F34="", L34="")) -> TRUE | U34: =S34/R34 -> 0.9375 | V34: =IF(H34="ja",I34,0)/R34 -> 0 | W34: =(E34/U34)/Q34 -> 52000 | X34: =W34+D34 -> 192000 | Y34: =franchise2028 -> 19172 | Z34: =MIN(maxloon2028+W34, maxloonexc2028) -> 137800 | AA34: =maxloonexc2028 -> 137800 | AB34: =MIN(X34,Z34,AA34)-Y34 -> 118628 | AC34: =AB34*U34*Q34 -> 8554.9038 | AD34: =AB34*V34*Q34 -> 0 | AE34: =AC34*premiepct2028 -> 2393.6621 | AF34: =AD34*premiepct2028*premiekort_ouderschapsverlof2028 -> 0 | AG34: =AE34-AF34 -> 2393.6621 | AH34: =IF(exc_regeling_jn,MAX(MIN(X34,AA34)-Z34, 0),"") -> 0 | AI34: =IF(exc_regeling_jn,AH34*U34*Q34,"") -> 0 | AJ34: =IF(exc_regeling_jn,AI34*gekozen_premie_exc2028,"") -> 0 | AK34: 18000 | AL34: =AK34/1000*VLOOKUP(leeftijd_deelnemer+1,'premie ANW-hiaat'!A$2:C$54,2,0)*VLOOKUP(leeftijd_partner+1,'premie ANW-hiaat'!A$2:C$54,3,0)*Q34 -> 33.242358 | AM34: =AG34 -> 2393.6621 | AN34: =IF(exc_regeling_jn,AJ34,"") -> 0 | AO34: =AL34 -> 33.242358 | AP34: =SUM(AM34:AO34) -> 2426.9045
A35: =IF(AND($B$5=12, COUNTIF($A$14:A34, 12)>1), "",IF(OR(AND($B$5=12, A34=12),AND($B$5=13, A34=13), A34 = "Periode"), 1, A34+1)) -> 8 | B35: =IF(OR(IF($B$5=13, rekenwaarden!D23, rekenwaarden!I23)<$B$6,IF($B$5=13, rekenwaarden!C23, rekenwaarden!H23)>$B$7),"",IF(A35="", "", IF($B$5=13, rekenwaarden!C23, rekenwaarden!H23))) -> 46951 | C35: =IF(B35="", "", IF($B$5=13, rekenwaarden!D23, rekenwaarden!I23)) -> 46978 | D35: 140000 | E35: 250 | F35: 60 | G35: 0 | H35: nee | I35: 0 | J35: nee | K35: 0 | L35: 40 | M35: =IF(OR(MAX($B$6, B35)>C35, MIN($B$7, C35)<B35),"", MAX($B$6, B35)) -> 46951 | N35: =IF(OR(MAX($B$6, B35)>C35, MIN($B$7, C35)<B35),"", MIN($B$7, C35)) -> 46978 | O35: =IF(M35="","",IF($B$4=2,N35-M35+1,NETWORKDAYS(M35, N35))) -> 28 | P35: =IF(M35="", "", O35 / IF($B$4=2,(C35-B35+1), NETWORKDAYS(B35,C35))) -> 1 | Q35: =IF(M35="","", IF($B$4=2,P35/$B$5, IF($B$4=1,(O35/NETWORKDAYS(DATE(YEAR(M35),1,1), DATE(YEAR(N35),12,31))),0) )) -> 0.076923077 | R35: =IF(M35="", "", L35*IF($B$4=2, 52/$B$5*P35, O35/5)) -> 160 | S35: =MIN(F35,R35) -> 60 | T35: =IF(M35<>"", AND(D35<>"", F35<>"", L35<>""), AND(D35="", F35="", L35="")) -> TRUE | U35: =S35/R35 -> 0.375 | V35: =IF(H35="ja",I35,0)/R35 -> 0 | W35: =(E35/U35)/Q35 -> 8666.6667 | X35: =W35+D35 -> 148666.67 | Y35: =franchise2028 -> 19172 | Z35: =MIN(maxloon2028+W35, maxloonexc2028) -> 103666.67 | AA35: =maxloonexc2028 -> 137800 | AB35: =MIN(X35,Z35,AA35)-Y35 -> 84494.667 | AC35: =AB35*U35*Q35 -> 2437.3462 | AD35: =AB35*V35*Q35 -> 0 | AE35: =AC35*premiepct2028 -> 681.96945 | AF35: =AD35*premiepct2028*premiekort_ouderschapsverlof2028 -> 0 | AG35: =AE35-AF35 -> 681.96945 | AH35: =IF(exc_regeling_jn,MAX(MIN(X35,AA35)-Z35, 0),"") -> 34133.333 | AI35: =IF(exc_regeling_jn,AH35*U35*Q35,"") -> 984.61538 | AJ35: =IF(exc_regeling_jn,AI35*gekozen_premie_exc2028,"") -> 275.49538 | AK35: 18000 | AL35: =AK35/1000*VLOOKUP(leeftijd_deelnemer+1,'premie ANW-hiaat'!A$2:C$54,2,0)*VLOOKUP(leeftijd_partner+1,'premie ANW-hiaat'!A$2:C$54,3,0)*Q35 -> 33.242358 | AM35: =AG35 -> 681.96945 | AN35: =IF(exc_regeling_jn,AJ35,"") -> 275.49538 | AO35: =AL35 -> 33.242358 | AP35: =SUM(AM35:AO35) -> 990.7072
A36: =IF(AND($B$5=12, COUNTIF($A$14:A35, 12)>1), "",IF(OR(AND($B$5=12, A35=12),AND($B$5=13, A35=13), A35 = "Periode"), 1, A35+1)) -> 9 | B36: =IF(OR(IF($B$5=13, rekenwaarden!D24, rekenwaarden!I24)<$B$6,IF($B$5=13, rekenwaarden!C24, rekenwaarden!H24)>$B$7),"",IF(A36="", "", IF($B$5=13, rekenwaarden!C24, rekenwaarden!H24))) -> 46979 | C36: =IF(B36="", "", IF($B$5=13, rekenwaarden!D24, rekenwaarden!I24)) -> 47006 | D36: 140000 | E36: 250 | F36: 60 | G36: 0 | H36: nee | I36: 0 | J36: nee | K36: 0 | L36: 40 | M36: =IF(OR(MAX($B$6, B36)>C36, MIN($B$7, C36)<B36),"", MAX($B$6, B36)) -> 46979 | N36: =IF(OR(MAX($B$6, B36)>C36, MIN($B$7, C36)<B36),"", MIN($B$7, C36)) -> 47006 | O36: =IF(M36="","",IF($B$4=2,N36-M36+1,NETWORKDAYS(M36, N36))) -> 28 | P36: =IF(M36="", "", O36 / IF($B$4=2,(C36-B36+1), NETWORKDAYS(B36,C36))) -> 1 | Q36: =IF(M36="","", IF($B$4=2,P36/$B$5, IF($B$4=1,(O36/NETWORKDAYS(DATE(YEAR(M36),1,1), DATE(YEAR(N36),12,31))),0) )) -> 0.076923077 | R36: =IF(M36="", "", L36*IF($B$4=2, 52/$B$5*P36, O36/5)) -> 160 | S36: =MIN(F36,R36) -> 60 | T36: =IF(M36<>"", AND(D36<>"", F36<>"", L36<>""), AND(D36="", F36="", L36="")) -> TRUE | U36: =S36/R36 -> 0.375 | V36: =IF(H36="ja",I36,0)/R36 -> 0 | W36: =(E36/U36)/Q36 -> 8666.6667 | X36: =W36+D36 -> 148666.67 | Y36: =franchise2028 -> 19172 | Z36: =MIN(maxloon2028+W36, maxloonexc2028) -> 103666.67 | AA36: =maxloonexc2028 -> 137800 | AB36: =MIN(X36,Z36,AA36)-Y36 -> 84494.667 | AC36: =AB36*U36*Q36 -> 2437.3462 | AD36: =AB36*V36*Q36 -> 0 | AE36: =AC36*premiepct2028 -> 681.96945 | AF36: =AD36*premiepct2028*premiekort_ouderschapsverlof2028 -> 0 | AG36: =AE36-AF36 -> 681.96945 | AH36: =IF(exc_regeling_jn,MAX(MIN(X36,AA36)-Z36, 0),"") -> 34133.333 | AI36: =IF(exc_regeling_jn,AH36*U36*Q36,"") -> 984.61538 | AJ36: =IF(exc_regeling_jn,AI36*gekozen_premie_exc2028,"") -> 275.49538 | AK36: 18000 | AL36: =AK36/1000*VLOOKUP(leeftijd_deelnemer+1,'premie ANW-hiaat'!A$2:C$54,2,0)*VLOOKUP(leeftijd_partner+1,'premie ANW-hiaat'!A$2:C$54,3,0)*Q36 -> 33.242358 | AM36: =AG36 -> 681.96945 | AN36: =IF(exc_regeling_jn,AJ36,"") -> 275.49538 | AO36: =AL36 -> 33.242358 | AP36: =SUM(AM36:AO36) -> 990.7072
A37: =IF(AND($B$5=12, COUNTIF($A$14:A36, 12)>1), "",IF(OR(AND($B$5=12, A36=12),AND($B$5=13, A36=13), A36 = "Periode"), 1, A36+1)) -> 10 | B37: =IF(OR(IF($B$5=13, rekenwaarden!D25, rekenwaarden!I25)<$B$6,IF($B$5=13, rekenwaarden!C25, rekenwaarden!H25)>$B$7),"",IF(A37="", "", IF($B$5=13, rekenwaarden!C25, rekenwaarden!H25))) -> 47007 | C37: =IF(B37="", "", IF($B$5=13, rekenwaarden!D25, rekenwaarden!I25)) -> 47034 | D37: 140000 | E37: 0 | F37: 100 | G37: 0 | H37: nee | I37: 0 | J37: nee | K37: 0 | L37: 40 | M37: =IF(OR(MAX($B$6, B37)>C37, MIN($B$7, C37)<B37),"", MAX($B$6, B37)) -> 47007 | N37: =IF(OR(MAX($B$6, B37)>C37, MIN($B$7, C37)<B37),"", MIN($B$7, C37)) -> 47034 | O37: =IF(M37="","",IF($B$4=2,N37-M37+1,NETWORKDAYS(M37, N37))) -> 28 | P37: =IF(M37="", "", O37 / IF($B$4=2,(C37-B37+1), NETWORKDAYS(B37,C37))) -> 1 | Q37: =IF(M37="","", IF($B$4=2,P37/$B$5, IF($B$4=1,(O37/NETWORKDAYS(DATE(YEAR(M37),1,1), DATE(YEAR(N37),12,31))),0) )) -> 0.076923077 | R37: =IF(M37="", "", L37*IF($B$4=2, 52/$B$5*P37, O37/5)) -> 160 | S37: =MIN(F37,R37) -> 100 | T37: =IF(M37<>"", AND(D37<>"", F37<>"", L37<>""), AND(D37="", F37="", L37="")) -> TRUE | U37: =S37/R37 -> 0.625 | V37: =IF(H37="ja",I37,0)/R37 -> 0 | W37: =(E37/U37)/Q37 -> 0 | X37: =W37+D37 -> 140000 | Y37: =franchise2028 -> 19172 | Z37: =MIN(maxloon2028+W37, maxloonexc2028) -> 95000 | AA37: =maxloonexc2028 -> 137800 | AB37: =MIN(X37,Z37,AA37)-Y37 -> 75828 | AC37: =AB37*U37*Q37 -> 3645.5769 | AD37: =AB37*V37*Q37 -> 0 | AE37: =AC37*premiepct2028 -> 1020.0324 | AF37: =AD37*premiepct2028*premiekort_ouderschapsverlof2028 -> 0 | AG37: =AE37-AF37 -> 1020.0324 | AH37: =IF(exc_regeling_jn,MAX(MIN(X37,AA37)-Z37, 0),"") -> 42800 | AI37: =IF(exc_regeling_jn,AH37*U37*Q37,"") -> 2057.6923 | AJ37: =IF(exc_regeling_jn,AI37*gekozen_premie_exc2028,"") -> 575.74231 | AK37: 18000 | AL37: =AK37/1000*VLOOKUP(leeftijd_deelnemer+1,'premie ANW-hiaat'!A$2:C$54,2,0)*VLOOKUP(leeftijd_partner+1,'premie ANW-hiaat'!A$2:C$54,3,0)*Q37 -> 33.242358 | AM37: =AG37 -> 1020.0324 | AN37: =IF(exc_regeling_jn,AJ37,"") -> 575.74231 | AO37: =AL37 -> 33.242358 | AP37: =SUM(AM37:AO37) -> 1629.0171
A38: =IF(AND($B$5=12, COUNTIF($A$14:A37, 12)>1), "",IF(OR(AND($B$5=12, A37=12),AND($B$5=13, A37=13), A37 = "Periode"), 1, A37+1)) -> 11 | B38: =IF(OR(IF($B$5=13, rekenwaarden!D26, rekenwaarden!I26)<$B$6,IF($B$5=13, rekenwaarden!C26, rekenwaarden!H26)>$B$7),"",IF(A38="", "", IF($B$5=13, rekenwaarden!C26, rekenwaarden!H26))) -> 47035 | C38: =IF(B38="", "", IF($B$5=13, rekenwaarden!D26, rekenwaarden!I26)) -> 47062 | D38: 85000 | E38: 0 | F38: 100 | G38: 0 | H38: nee | I38: 0 | J38: nee | K38: 0 | L38: 40 | M38: =IF(OR(MAX($B$6, B38)>C38, MIN($B$7, C38)<B38),"", MAX($B$6, B38)) -> 47035 | N38: =IF(OR(MAX($B$6, B38)>C38, MIN($B$7, C38)<B38),"", MIN($B$7, C38)) -> 47062 | O38: =IF(M38="","",IF($B$4=2,N38-M38+1,NETWORKDAYS(M38, N38))) -> 28 | P38: =IF(M38="", "", O38 / IF($B$4=2,(C38-B38+1), NETWORKDAYS(B38,C38))) -> 1 | Q38: =IF(M38="","", IF($B$4=2,P38/$B$5, IF($B$4=1,(O38/NETWORKDAYS(DATE(YEAR(M38),1,1), DATE(YEAR(N38),12,31))),0) )) -> 0.076923077 | R38: =IF(M38="", "", L38*IF($B$4=2, 52/$B$5*P38, O38/5)) -> 160 | S38: =MIN(F38,R38) -> 100 | T38: =IF(M38<>"", AND(D38<>"", F38<>"", L38<>""), AND(D38="", F38="", L38="")) -> TRUE | U38: =S38/R38 -> 0.625 | V38: =IF(H38="ja",I38,0)/R38 -> 0 | W38: =(E38/U38)/Q38 -> 0 | X38: =W38+D38 -> 85000 | Y38: =franchise2028 -> 19172 | Z38: =MIN(maxloon2028+W38, maxloonexc2028) -> 95000 | AA38: =maxloonexc2028 -> 137800 | AB38: =MIN(X38,Z38,AA38)-Y38 -> 65828 | AC38: =AB38*U38*Q38 -> 3164.8077 | AD38: =AB38*V38*Q38 -> 0 | AE38: =AC38*premiepct2028 -> 885.51319 | AF38: =AD38*premiepct2028*premiekort_ouderschapsverlof2028 -> 0 | AG38: =AE38-AF38 -> 885.51319 | AH38: =IF(exc_regeling_jn,MAX(MIN(X38,AA38)-Z38, 0),"") -> 0 | AI38: =IF(exc_regeling_jn,AH38*U38*Q38,"") -> 0 | AJ38: =IF(exc_regeling_jn,AI38*gekozen_premie_exc2028,"") -> 0 | AK38: 18000 | AL38: =AK38/1000*VLOOKUP(leeftijd_deelnemer+1,'premie ANW-hiaat'!A$2:C$54,2,0)*VLOOKUP(leeftijd_partner+1,'premie ANW-hiaat'!A$2:C$54,3,0)*Q38 -> 33.242358 | AM38: =AG38 -> 885.51319 | AN38: =IF(exc_regeling_jn,AJ38,"") -> 0 | AO38: =AL38 -> 33.242358 | AP38: =SUM(AM38:AO38) -> 918.75555
A39: =IF(AND($B$5=12, COUNTIF($A$14:A38, 12)>1), "",IF(OR(AND($B$5=12, A38=12),AND($B$5=13, A38=13), A38 = "Periode"), 1, A38+1)) -> 12 | B39: =IF(OR(IF($B$5=13, rekenwaarden!D27, rekenwaarden!I27)<$B$6,IF($B$5=13, rekenwaarden!C27, rekenwaarden!H27)>$B$7),"",IF(A39="", "", IF($B$5=13, rekenwaarden!C27, rekenwaarden!H27))) -> 47063 | C39: =IF(B39="", "", IF($B$5=13, rekenwaarden!D27, rekenwaarden!I27)) -> 47090 | D39: 85000 | E39: 0 | F39: 100 | G39: 0 | H39: nee | I39: 0 | J39: nee | K39: 0 | L39: 40 | M39: =IF(OR(MAX($B$6, B39)>C39, MIN($B$7, C39)<B39),"", MAX($B$6, B39)) -> 47063 | N39: =IF(OR(MAX($B$6, B39)>C39, MIN($B$7, C39)<B39),"", MIN($B$7, C39)) -> 47090 | O39: =IF(M39="","",IF($B$4=2,N39-M39+1,NETWORKDAYS(M39, N39))) -> 28 | P39: =IF(M39="", "", O39 / IF($B$4=2,(C39-B39+1), NETWORKDAYS(B39,C39))) -> 1 | Q39: =IF(M39="","", IF($B$4=2,P39/$B$5, IF($B$4=1,(O39/NETWORKDAYS(DATE(YEAR(M39),1,1), DATE(YEAR(N39),12,31))),0) )) -> 0.076923077 | R39: =IF(M39="", "", L39*IF($B$4=2, 52/$B$5*P39, O39/5)) -> 160 | S39: =MIN(F39,R39) -> 100 | T39: =IF(M39<>"", AND(D39<>"", F39<>"", L39<>""), AND(D39="", F39="", L39="")) -> TRUE | U39: =S39/R39 -> 0.625 | V39: =IF(H39="ja",I39,0)/R39 -> 0 | W39: =(E39/U39)/Q39 -> 0 | X39: =W39+D39 -> 85000 | Y39: =franchise2028 -> 19172 | Z39: =MIN(maxloon2028+W39, maxloonexc2028) -> 95000 | AA39: =maxloonexc2028 -> 137800 | AB39: =MIN(X39,Z39,AA39)-Y39 -> 65828 | AC39: =AB39*U39*Q39 -> 3164.8077 | AD39: =AB39*V39*Q39 -> 0 | AE39: =AC39*premiepct2028 -> 885.51319 | AF39: =AD39*premiepct2028*premiekort_ouderschapsverlof2028 -> 0 | AG39: =AE39-AF39 -> 885.51319 | AH39: =IF(exc_regeling_jn,MAX(MIN(X39,AA39)-Z39, 0),"") -> 0 | AI39: =IF(exc_regeling_jn,AH39*U39*Q39,"") -> 0 | AJ39: =IF(exc_regeling_jn,AI39*gekozen_premie_exc2028,"") -> 0 | AK39: 18000 | AL39: =AK39/1000*VLOOKUP(leeftijd_deelnemer+1,'premie ANW-hiaat'!A$2:C$54,2,0)*VLOOKUP(leeftijd_partner+1,'premie ANW-hiaat'!A$2:C$54,3,0)*Q39 -> 33.242358 | AM39: =AG39 -> 885.51319 | AN39: =IF(exc_regeling_jn,AJ39,"") -> 0 | AO39: =AL39 -> 33.242358 | AP39: =SUM(AM39:AO39) -> 918.75555
A40: =IF(AND($B$5=12, COUNTIF($A$14:A39, 12)>1), "",IF(OR(AND($B$5=12, A39=12),AND($B$5=13, A39=13), A39 = "Periode"), 1, A39+1)) -> 13 | B40: =IF(OR(IF($B$5=13, rekenwaarden!D28, rekenwaarden!I28)<$B$6,IF($B$5=13, rekenwaarden!C28, rekenwaarden!H28)>$B$7),"",IF(A40="", "", IF($B$5=13, rekenwaarden!C28, rekenwaarden!H28))) -> 47091 | C40: =IF(B40="", "", IF($B$5=13, rekenwaarden!D28, rekenwaarden!I28)) -> 47118 | D40: 85000 | E40: 0 | F40: 50 | G40: 0 | H40: nee | I40: 0 | J40: nee | K40: 0 | L40: 40 | M40: =IF(OR(MAX($B$6, B40)>C40, MIN($B$7, C40)<B40),"", MAX($B$6, B40)) -> 47091 | N40: =IF(OR(MAX($B$6, B40)>C40, MIN($B$7, C40)<B40),"", MIN($B$7, C40)) -> 47097 | O40: =IF(M40="","",IF($B$4=2,N40-M40+1,NETWORKDAYS(M40, N40))) -> 7 | P40: =IF(M40="", "", O40 / IF($B$4=2,(C40-B40+1), NETWORKDAYS(B40,C40))) -> 0.25 | Q40: =IF(M40="","", IF($B$4=2,P40/$B$5, IF($B$4=1,(O40/NETWORKDAYS(DATE(YEAR(M40),1,1), DATE(YEAR(N40),12,31))),0) )) -> 0.019230769 | R40: =IF(M40="", "", L40*IF($B$4=2, 52/$B$5*P40, O40/5)) -> 40 | S40: =MIN(F40,R40) -> 40 | T40: =IF(M40<>"", AND(D40<>"", F40<>"", L40<>""), AND(D40="", F40="", L40="")) -> TRUE | U40: =S40/R40 -> 1 | V40: =IF(H40="ja",I40,0)/R40 -> 0 | W40: =(E40/U40)/Q40 -> 0 | X40: =W40+D40 -> 85000 | Y40: =franchise2028 -> 19172 | Z40: =MIN(maxloon2028+W40, maxloonexc2028) -> 95000 | AA40: =maxloonexc2028 -> 137800 | AB40: =MIN(X40,Z40,AA40)-Y40 -> 65828 | AC40: =AB40*U40*Q40 -> 1265.9231 | AD40: =AB40*V40*Q40 -> 0 | AE40: =AC40*premiepct2028 -> 354.20528 | AF40: =AD40*premiepct2028*premiekort_ouderschapsverlof2028 -> 0 | AG40: =AE40-AF40 -> 354.20528 | AH40: =IF(exc_regeling_jn,MAX(MIN(X40,AA40)-Z40, 0),"") -> 0 | AI40: =IF(exc_regeling_jn,AH40*U40*Q40,"") -> 0 | AJ40: =IF(exc_regeling_jn,AI40*gekozen_premie_exc2028,"") -> 0 | AK40: 18000 | AL40: =AK40/1000*VLOOKUP(leeftijd_deelnemer+1,'premie ANW-hiaat'!A$2:C$54,2,0)*VLOOKUP(leeftijd_partner+1,'premie ANW-hiaat'!A$2:C$54,3,0)*Q40 -> 8.3105896 | AM40: =AG40 -> 354.20528 | AN40: =IF(exc_regeling_jn,AJ40,"") -> 0 | AO40: =AL40 -> 8.3105896 | AP40: =SUM(AM40:AO40) -> 362.51587

Sheet rekenwaarden
A1: 4-Wekelijkse kalender | F1: Maandelijkse kalender
C2: ingang | D2: eind | H2: ingang | I2: eind | L2: franchise | M2: max loon | N2: max loon exc | O2: premiepercentage | P2: premiekorting vzt onbetaald ouderschapsverlof | Q2: max bijdrage werknemer basis | R2: max bijdrage werknemer excedent | S2: gekozen premie excedent (14-32%)
A3: 2027 | B3: 1 | C3: =DATE(A3, 1,1) -> 46388 | D3: =C4-1 -> 46418 | F3: =A3 -> 2027 | G3: 1 | H3: =DATE(F3, 1, 1) -> 46388 | I3: =DATE(YEAR(H3), MONTH(H3)+1, 1-1) -> 46418 | K3: =F3 -> 2027 | L3: 19172 | M3: 75000 | N3: 137800 | O3: 0.2798 | P3: 0.5 | Q3: 0.1089 | R3: 0.099 | S3: 0.2798
B4: 2 | C4: =IF(B4=1,DATE(A4,B4,1),C3 + 28 + IF(B4=2, 4 - WEEKDAY(C3,15), 0)) -> 46419 | D4: =C5-1 -> 46446 | G4: 2 | H4: =I3+1 -> 46419 | I4: =DATE(YEAR(H4), MONTH(H4)+1, 1-1) -> 46446 | K4: =F15 -> 2028 | L4: 19172 | M4: 95000 | N4: 137800 | O4: 0.2798 | P4: 0.5 | Q4: 0.1089 | R4: 0.099 | S4: 0.2798
B5: 3 | C5: =IF(B5=1,DATE(A5,B5,1),C4 + 28 + IF(B5=2, 4 - WEEKDAY(C4,15), 0)) -> 46447 | D5: =C6-1 -> 46474 | G5: 3 | H5: =I4+1 -> 46447 | I5: =DATE(YEAR(H5), MONTH(H5)+1, 1-1) -> 46477
B6: 4 | C6: =IF(B6=1,DATE(A6,B6,1),C5 + 28 + IF(B6=2, 4 - WEEKDAY(C5,15), 0)) -> 46475 | D6: =C7-1 -> 46502 | G6: 4 | H6: =I5+1 -> 46478 | I6: =DATE(YEAR(H6), MONTH(H6)+1, 1-1) -> 46507
B7: 5 | C7: =IF(B7=1,DATE(A7,B7,1),C6 + 28 + IF(B7=2, 4 - WEEKDAY(C6,15), 0)) -> 46503 | D7: =C8-1 -> 46530 | G7: 5 | H7: =I6+1 -> 46508 | I7: =DATE(YEAR(H7), MONTH(H7)+1, 1-1) -> 46538
B8: 6 | C8: =IF(B8=1,DATE(A8,B8,1),C7 + 28 + IF(B8=2, 4 - WEEKDAY(C7,15), 0)) -> 46531 | D8: =C9-1 -> 46558 | G8: 6 | H8: =I7+1 -> 46539 | I8: =DATE(YEAR(H8), MONTH(H8)+1, 1-1) -> 46568
B9: 7 | C9: =IF(B9=1,DATE(A9,B9,1),C8 + 28 + IF(B9=2, 4 - WEEKDAY(C8,15), 0)) -> 46559 | D9: =C10-1 -> 46586 | G9: 7 | H9: =I8+1 -> 46569 | I9: =DATE(YEAR(H9), MONTH(H9)+1, 1-1) -> 46599
B10: 8 | C10: =IF(B10=1,DATE(A10,B10,1),C9 + 28 + IF(B10=2, 4 - WEEKDAY(C9,15), 0)) -> 46587 | D10: =C11-1 -> 46614 | G10: 8 | H10: =I9+1 -> 46600 | I10: =DATE(YEAR(H10), MONTH(H10)+1, 1-1) -> 46630
B11: 9 | C11: =IF(B11=1,DATE(A11,B11,1),C10 + 28 + IF(B11=2, 4 - WEEKDAY(C10,15), 0)) -> 46615 | D11: =C12-1 -> 46642 | G11: 9 | H11: =I10+1 -> 46631 | I11: =DATE(YEAR(H11), MONTH(H11)+1, 1-1) -> 46660
B12: 10 | C12: =IF(B12=1,DATE(A12,B12,1),C11 + 28 + IF(B12=2, 4 - WEEKDAY(C11,15), 0)) -> 46643 | D12: =C13-1 -> 46670 | G12: 10 | H12: =I11+1 -> 46661 | I12: =DATE(YEAR(H12), MONTH(H12)+1, 1-1) -> 46691
B13: 11 | C13: =IF(B13=1,DATE(A13,B13,1),C12 + 28 + IF(B13=2, 4 - WEEKDAY(C12,15), 0)) -> 46671 | D13: =C14-1 -> 46698 | G13: 11 | H13: =I12+1 -> 46692 | I13: =DATE(YEAR(H13), MONTH(H13)+1, 1-1) -> 46721
B14: 12 | C14: =IF(B14=1,DATE(A14,B14,1),C13 + 28 + IF(B14=2, 4 - WEEKDAY(C13,15), 0)) -> 46699 | D14: =C15-1 -> 46726 | G14: 12 | H14: =I13+1 -> 46722 | I14: =DATE(YEAR(H14), MONTH(H14)+1, 1-1) -> 46752
B15: 13 | C15: =IF(B15=1,DATE(A15,B15,1),C14 + 28 + IF(B15=2, 4 - WEEKDAY(C14,15), 0)) -> 46727 | D15: =C16-1 -> 46752 | F15: =A16 -> 2028 | G15: 1 | H15: =DATE(F15, 1, 1) -> 46753 | I15: =DATE(YEAR(H15), MONTH(H15)+1, 1-1) -> 46783
A16: =A3+1 -> 2028 | B16: 1 | C16: =IF(B16=1,DATE(A16,B16,1),C15 + 28 + IF(B16=2, 4 - WEEKDAY(C15,15), 0)) -> 46753 | D16: =C17-1 -> 46782 | G16: 2 | H16: =I15+1 -> 46784 | I16: =DATE(YEAR(H16), MONTH(H16)+1, 1-1) -> 46812
B17: 2 | C17: =IF(B17=1,DATE(A17,B17,1),C16 + 28 + IF(B17=2, 4 - WEEKDAY(C16,15), 0)) -> 46783 | D17: =C18-1 -> 46810 | G17: 3 | H17: =I16+1 -> 46813 | I17: =DATE(YEAR(H17), MONTH(H17)+1, 1-1) -> 46843
B18: 3 | C18: =IF(B18=1,DATE(A18,B18,1),C17 + 28 + IF(B18=2, 4 - WEEKDAY(C17,15), 0)) -> 46811 | D18: =C19-1 -> 46838 | G18: 4 | H18: =I17+1 -> 46844 | I18: =DATE(YEAR(H18), MONTH(H18)+1, 1-1) -> 46873
B19: 4 | C19: =IF(B19=1,DATE(A19,B19,1),C18 + 28 + IF(B19=2, 4 - WEEKDAY(C18,15), 0)) -> 46839 | D19: =C20-1 -> 46866 | G19: 5 | H19: =I18+1 -> 46874 | I19: =DATE(YEAR(H19), MONTH(H19)+1, 1-1) -> 46904
B20: 5 | C20: =IF(B20=1,DATE(A20,B20,1),C19 + 28 + IF(B20=2, 4 - WEEKDAY(C19,15), 0)) -> 46867 | D20: =C21-1 -> 46894 | G20: 6 | H20: =I19+1 -> 46905 | I20: =DATE(YEAR(H20), MONTH(H20)+1, 1-1) -> 46934
B21: 6 | C21: =IF(B21=1,DATE(A21,B21,1),C20 + 28 + IF(B21=2, 4 - WEEKDAY(C20,15), 0)) -> 46895 | D21: =C22-1 -> 46922 | G21: 7 | H21: =I20+1 -> 46935 | I21: =DATE(YEAR(H21), MONTH(H21)+1, 1-1) -> 46965
B22: 7 | C22: =IF(B22=1,DATE(A22,B22,1),C21 + 28 + IF(B22=2, 4 - WEEKDAY(C21,15), 0)) -> 46923 | D22: =C23-1 -> 46950 | G22: 8 | H22: =I21+1 -> 46966 | I22: =DATE(YEAR(H22), MONTH(H22)+1, 1-1) -> 46996
B23: 8 | C23: =IF(B23=1,DATE(A23,B23,1),C22 + 28 + IF(B23=2, 4 - WEEKDAY(C22,15), 0)) -> 46951 | D23: =C24-1 -> 46978 | G23: 9 | H23: =I22+1 -> 46997 | I23: =DATE(YEAR(H23), MONTH(H23)+1, 1-1) -> 47026
B24: 9 | C24: =IF(B24=1,DATE(A24,B24,1),C23 + 28 + IF(B24=2, 4 - WEEKDAY(C23,15), 0)) -> 46979 | D24: =C25-1 -> 47006 | G24: 10 | H24: =I23+1 -> 47027 | I24: =DATE(YEAR(H24), MONTH(H24)+1, 1-1) -> 47057
B25: 10 | C25: =IF(B25=1,DATE(A25,B25,1),C24 + 28 + IF(B25=2, 4 - WEEKDAY(C24,15), 0)) -> 47007 | D25: =C26-1 -> 47034 | G25: 11 | H25: =I24+1 -> 47058 | I25: =DATE(YEAR(H25), MONTH(H25)+1, 1-1) -> 47087
B26: 11 | C26: =IF(B26=1,DATE(A26,B26,1),C25 + 28 + IF(B26=2, 4 - WEEKDAY(C25,15), 0)) -> 47035 | D26: =C27-1 -> 47062 | G26: 12 | H26: =I25+1 -> 47088 | I26: =DATE(YEAR(H26), MONTH(H26)+1, 1-1) -> 47118
B27: 12 | C27: =IF(B27=1,DATE(A27,B27,1),C26 + 28 + IF(B27=2, 4 - WEEKDAY(C26,15), 0)) -> 47063 | D27: =C28-1 -> 47090
B28: 13 | C28: =IF(B28=1,DATE(A28,B28,1),C27 + 28 + IF(B28=2, 4 - WEEKDAY(C27,15), 0)) -> 47091 | D28: =C29-1 -> 47118
A29: =A16+1 -> 2029 | B29: 1 | C29: =IF(B29=1,DATE(A29,B29,1),C28 + 28 + IF(B29=2, 4 - WEEKDAY(C28,15), 0)) -> 47119 | D29: =C30-1 -> 47146
B30: 2 | C30: =IF(B30=1,DATE(A30,B30,1),C29 + 28 + IF(B30=2, 4 - WEEKDAY(C29,15), 0)) -> 47147
F91: =WEEKDAY(#REF!,2) -> #REF!

Sheet premie ANW-hiaat
A1: Leeftijd | B1: Premietarief | C1: Koopsomtarief
A2: 18 | B2: 0 | C2: 0
A3: 19 | B3: 0.09 | C3: 31.191
A4: 20 | B4: 0.1 | C4: 30.832
A5: 21 | B5: 0.11 | C5: 30.465
A6: 22 | B6: 0.11 | C6: 30.09
A7: 23 | B7: 0.12 | C7: 29.707
A8: 24 | B8: 0.12 | C8: 29.317
A9: 25 | B9: 0.13 | C9: 28.918
A10: 26 | B10: 0.13 | C10: 28.511
A11: 27 | B11: 0.13 | C11: 28.095
A12: 28 | B12: 0.14 | C12: 27.638
A13: 29 | B13: 0.15 | C13: 27.137
... A54: 70 | B54: 8.74 | C54: 0

Sheet VCR regulier
B1: Franchise | C1: 14750
B2: Normuren | C2: 1976
B3: Max Loon | C3: 100000
B4: Uurfranchise | C4: =Franchise1/Normuren1 -> #NAME?
B5: Max Uurloon | C5: =MaxLoon1/Normuren1 -> #NAME?
B6: WN bijdrage | C6: 0
B7: Premie% | C7: 0.22
B9: Periode
B10: Van | C10: Tot | D10: Uren | E10: Cum uren | F10: Loon | G10: Uurloon | H10: Cum Loon | I10: PGL | J10: Franchise | K10: Cum PG | L10: Cum Premie | M10: Premie | O10: PGL(var) | P10: PGL | Q10: PGLmax | R10: Franchise | S10: Cum PG | T10: Cum premie | U10: Premie
A11: 1 | B11: 44562 | C11: 44592 | D11: 158 | E11: =D11 -> 158 | F11: =ROUND(D11*G11,2) -> 11850 | G11: 75 | H11: =F11 -> 11850 | I11: =ROUND(MIN(H11,MIN(E11,Normuren1)*MaxUurloon1),2) -> #NAME? | J11: =ROUND(MIN(E11,Normuren1)*Uurfranchise1,2) -> #NAME? | K11: =I11-J11 -> #NAME? | L11: =ROUND(K11*PremiePct1,2) -> #NAME? | M11: =L11 -> #NAME? | O11: =ROUND((H11-Uurfranchise1*E11*WnBijdrage1)/(1-WnBijdrage1),2) -> #NAME? | P11: =ROUND(O11-MAX(0,O11-(MaxUurloon1*MIN(E11,Normuren1)))*WnBijdrage1-MIN(0,O11-(Uurfranchise1*MIN(E11,Normuren1)))*WnBijdrage1,2) -> #NAME? | Q11: =ROUND(MIN(MaxUurloon1*MIN(E11,Normuren1),P11),2) -> #NAME? | R11: =ROUND(MIN(E11,Normuren1)*Uurfranchise1,2) -> #NAME? | S11: =Q11-R11 -> #NAME? | T11: =ROUND(S11*PremiePct1,2) -> #NAME? | U11: =T11 -> #NAME?
A12: 2 | B12: 44593 | C12: 44620 | D12: 134 | E12: =IF(D12="","",D12+E11) -> 292 | F12: =ROUND(D12*G12,2) -> 10050 | G12: 75 | H12: =F12+H11 -> 21900 | I12: =ROUND(MIN(H12,MIN(E12,Normuren1)*MaxUurloon1),2) -> #NAME? | J12: =ROUND(MIN(E12,Normuren1)*Uurfranchise1,2) -> #NAME? | K12: =I12-J12 -> #NAME? | L12: =ROUND(K12*PremiePct1,2) -> #NAME? | M12: =L12-L11 -> #NAME? | O12: =ROUND((H12-Uurfranchise1*E12*WnBijdrage1)/(1-WnBijdrage1),2) -> #NAME? | P12: =ROUND(O12-MAX(0,O12-(MaxUurloon1*MIN(E12,Normuren1)))*WnBijdrage1-MIN(0,O12-(Uurfranchise1*MIN(E12,Normuren1)))*WnBijdrage1,2) -> #NAME? | Q12: =ROUND(MIN(MaxUurloon1*MIN(E12,Normuren1),P12),2) -> #NAME? | R12: =ROUND(MIN(E12,Normuren1)*Uurfranchise1,2) -> #NAME? | S12: =Q12-R12 -> #NAME? | T12: =ROUND(S12*PremiePct1,2) -> #NAME? | U12: =T12-T11 -> #NAME?
A13: 3 | B13: 44621 | C13: 44651 | D13: 159 | E13: =IF(D13="","",D13+E12) -> 451 | F13: =ROUND(D13*G13,2) -> 11925 | G13: 75 | H13: =F13+H12 -> 33825 | I13: =ROUND(MIN(H13,MIN(E13,Normuren1)*MaxUurloon1),2) -> #NAME? | J13: =ROUND(MIN(E13,Normuren1)*Uurfranchise1,2) -> #NAME? | K13: =I13-J13 -> #NAME? | L13: =ROUND(K13*PremiePct1,2) -> #NAME? | M13: =L13-L12 -> #NAME? | O13: =ROUND((H13-Uurfranchise1*E13*WnBijdrage1)/(1-WnBijdrage1),2) -> #NAME? | P13: =ROUND(O13-MAX(0,O13-(MaxUurloon1*MIN(E13,Normuren1)))*WnBijdrage1-MIN(0,O13-(Uurfranchise1*MIN(E13,Normuren1)))*WnBijdrage1,2) -> #NAME? | Q13: =ROUND(MIN(MaxUurloon1*MIN(E13,Normuren1),P13),2) -> #NAME? | R13: =ROUND(MIN(E13,Normuren1)*Uurfranchise1,2) -> #NAME? | S13: =Q13-R13 -> #NAME? | T13: =ROUND(S13*PremiePct1,2) -> #NAME? | U13: =T13-T12 -> #NAME?
A14: 4 | B14: 44652 | C14: 44681 | D14: 142 | E14: =IF(D14="","",D14+E13) -> 593 | F14: =ROUND(D14*G14,2) -> 10650 | G14: 75 | H14: =F14+H13 -> 44475 | I14: =ROUND(MIN(H14,MIN(E14,Normuren1)*MaxUurloon1),2) -> #NAME? | J14: =ROUND(MIN(E14,Normuren1)*Uurfranchise1,2) -> #NAME? | K14: =I14-J14 -> #NAME? | L14: =ROUND(K14*PremiePct1,2) -> #NAME? | M14: =L14-L13 -> #NAME? | O14: =ROUND((H14-Uurfranchise1*E14*WnBijdrage1)/(1-WnBijdrage1),2) -> #NAME? | P14: =ROUND(O14-MAX(0,O14-(MaxUurloon1*MIN(E14,Normuren1)))*WnBijdrage1-MIN(0,O14-(Uurfranchise1*MIN(E14,Normuren1)))*WnBijdrage1,2) -> #NAME? | Q14: =ROUND(MIN(MaxUurloon1*MIN(E14,Normuren1),P14),2) -> #NAME? | R14: =ROUND(MIN(E14,Normuren1)*Uurfranchise1,2) -> #NAME? | S14: =Q14-R14 -> #NAME? | T14: =ROUND(S14*PremiePct1,2) -> #NAME? | U14: =T14-T13 -> #NAME?
A15: 5 | B15: 44682 | C15: 44712 | D15: 156 | E15: =IF(D15="","",D15+E14) -> 749 | F15: =ROUND(D15*G15,2) -> 11700 | G15: 75 | H15: =F15+H14 -> 56175 | I15: =ROUND(MIN(H15,MIN(E15,Normuren1)*MaxUurloon1),2) -> #NAME? | J15: =ROUND(MIN(E15,Normuren1)*Uurfranchise1,2) -> #NAME? | K15: =I15-J15 -> #NAME? | L15: =ROUND(K15*PremiePct1,2) -> #NAME? | M15: =L15-L14 -> #NAME? | O15: =ROUND((H15-Uurfranchise1*E15*WnBijdrage1)/(1-WnBijdrage1),2) -> #NAME? | P15: =ROUND(O15-MAX(0,O15-(MaxUurloon1*MIN(E15,Normuren1)))*WnBijdrage1-MIN(0,O15-(Uurfranchise1*MIN(E15,Normuren1)))*WnBijdrage1,2) -> #NAME? | Q15: =ROUND(MIN(MaxUurloon1*MIN(E15,Normuren1),P15),2) -> #NAME? | R15: =ROUND(MIN(E15,Normuren1)*Uurfranchise1,2) -> #NAME? | S15: =Q15-R15 -> #NAME? | T15: =ROUND(S15*PremiePct1,2) -> #NAME? | U15: =T15-T14 -> #NAME?
A16: 6 | B16: 44713 | C16: 44742 | D16: 127 | E16: =IF(D16="","",D16+E15) -> 876 | F16: =ROUND(D16*G16,2) -> 9525 | G16: 75 | H16: =F16+H15 -> 65700 | I16: =ROUND(MIN(H16,MIN(E16,Normuren1)*MaxUurloon1),2) -> #NAME? | J16: =ROUND(MIN(E16,Normuren1)*Uurfranchise1,2) -> #NAME? | K16: =I16-J16 -> #NAME? | L16: =ROUND(K16*PremiePct1,2) -> #NAME? | M16: =L16-L15 -> #NAME? | O16: =ROUND((H16-Uurfranchise1*E16*WnBijdrage1)/(1-WnBijdrage1),2) -> #NAME? | P16: =ROUND(O16-MAX(0,O16-(MaxUurloon1*MIN(E16,Normuren1)))*WnBijdrage1-MIN(0,O16-(Uurfranchise1*MIN(E16,Normuren1)))*WnBijdrage1,2) -> #NAME? | Q16: =ROUND(MIN(MaxUurloon1*MIN(E16,Normuren1),P16),2) -> #NAME? | R16: =ROUND(MIN(E16,Normuren1)*Uurfranchise1,2) -> #NAME? | S16: =Q16-R16 -> #NAME? | T16: =ROUND(S16*PremiePct1,2) -> #NAME? | U16: =T16-T15 -> #NAME?
A17: 7 | B17: 44743 | C17: 44773 | D17: 164 | E17: =IF(D17="","",D17+E16) -> 1040 | F17: =ROUND(D17*G17,2) -> 12300 | G17: 75 | H17: =F17+H16 -> 78000 | I17: =ROUND(MIN(H17,MIN(E17,Normuren1)*MaxUurloon1),2) -> #NAME? | J17: =ROUND(MIN(E17,Normuren1)*Uurfranchise1,2) -> #NAME? | K17: =I17-J17 -> #NAME? | L17: =ROUND(K17*PremiePct1,2) -> #NAME? | M17: =L17-L16 -> #NAME? | O17: =ROUND((H17-Uurfranchise1*E17*WnBijdrage1)/(1-WnBijdrage1),2) -> #NAME? | P17: =ROUND(O17-MAX(0,O17-(MaxUurloon1*MIN(E17,Normuren1)))*WnBijdrage1-MIN(0,O17-(Uurfranchise1*MIN(E17,Normuren1)))*WnBijdrage1,2) -> #NAME? | Q17: =ROUND(MIN(MaxUurloon1*MIN(E17,Normuren1),P17),2) -> #NAME? | R17: =ROUND(MIN(E17,Normuren1)*Uurfranchise1,2) -> #NAME? | S17: =Q17-R17 -> #NAME? | T17: =ROUND(S17*PremiePct1,2) -> #NAME? | U17: =T17-T16 -> #NAME?
A18: 8 | B18: 44774 | C18: 44804 | D18: 135 | E18: =IF(D18="","",D18+E17) -> 1175 | F18: =ROUND(D18*G18,2) -> 10125 | G18: 75 | H18: =F18+H17 -> 88125 | I18: =ROUND(MIN(H18,MIN(E18,Normuren1)*MaxUurloon1),2) -> #NAME? | J18: =ROUND(MIN(E18,Normuren1)*Uurfranchise1,2) -> #NAME? | K18: =I18-J18 -> #NAME? | L18: =ROUND(K18*PremiePct1,2) -> #NAME? | M18: =L18-L17 -> #NAME? | O18: =ROUND((H18-Uurfranchise1*E18*WnBijdrage1)/(1-WnBijdrage1),2) -> #NAME? | P18: =ROUND(O18-MAX(0,O18-(MaxUurloon1*MIN(E18,Normuren1)))*WnBijdrage1-MIN(0,O18-(Uurfranchise1*MIN(E18,Normuren1)))*WnBijdrage1,2) -> #NAME? | Q18: =ROUND(MIN(MaxUurloon1*MIN(E18,Normuren1),P18),2) -> #NAME? | R18: =ROUND(MIN(E18,Normuren1)*Uurfranchise1,2) -> #NAME? | S18: =Q18-R18 -> #NAME? | T18: =ROUND(S18*PremiePct1,2) -> #NAME? | U18: =T18-T17 -> #NAME?
A19: 9 | B19: 44805 | C19: 44834 | D19: 136 | E19: =IF(D19="","",D19+E18) -> 1311 | F19: =ROUND(D19*G19,2) -> 10200 | G19: 75 | H19: =F19+H18 -> 98325 | I19: =ROUND(MIN(H19,MIN(E19,Normuren1)*MaxUurloon1),2) -> #NAME? | J19: =ROUND(MIN(E19,Normuren1)*Uurfranchise1,2) -> #NAME? | K19: =I19-J19 -> #NAME? | L19: =ROUND(K19*PremiePct1,2) -> #NAME? | M19: =L19-L18 -> #NAME? | O19: =ROUND((H19-Uurfranchise1*E19*WnBijdrage1)/(1-WnBijdrage1),2) -> #NAME? | P19: =ROUND(O19-MAX(0,O19-(MaxUurloon1*MIN(E19,Normuren1)))*WnBijdrage1-MIN(0,O19-(Uurfranchise1*MIN(E19,Normuren1)))*WnBijdrage1,2) -> #NAME? | Q19: =ROUND(MIN(MaxUurloon1*MIN(E19,Normuren1),P19),2) -> #NAME? | R19: =ROUND(MIN(E19,Normuren1)*Uurfranchise1,2) -> #NAME? | S19: =Q19-R19 -> #NAME? | T19: =ROUND(S19*PremiePct1,2) -> #NAME? | U19: =T19-T18 -> #NAME?
A20: 10 | B20: 44835 | C20: 44865 | D20: 244 | E20: =IF(D20="","",D20+E19) -> 1555 | F20: =ROUND(D20*G20,2) -> 18300 | G20: 75 | H20: =F20+H19 -> 116625 | I20: =ROUND(MIN(H20,MIN(E20,Normuren1)*MaxUurloon1),2) -> #NAME? | J20: =ROUND(MIN(E20,Normuren1)*Uurfranchise1,2) -> #NAME? | K20: =I20-J20 -> #NAME? | L20: =ROUND(K20*PremiePct1,2) -> #NAME? | M20: =L20-L19 -> #NAME? | O20: =ROUND((H20-Uurfranchise1*E20*WnBijdrage1)/(1-WnBijdrage1),2) -> #NAME? | P20: =ROUND(O20-MAX(0,O20-(MaxUurloon1*MIN(E20,Normuren1)))*WnBijdrage1-MIN(0,O20-(Uurfranchise1*MIN(E20,Normuren1)))*WnBijdrage1,2) -> #NAME? | Q20: =ROUND(MIN(MaxUurloon1*MIN(E20,Normuren1),P20),2) -> #NAME? | R20: =ROUND(MIN(E20,Normuren1)*Uurfranchise1,2) -> #NAME? | S20: =Q20-R20 -> #NAME? | T20: =ROUND(S20*PremiePct1,2) -> #NAME? | U20: =T20-T19 -> #NAME?
A21: 11 | B21: 44866 | C21: 44895 | D21: 229 | E21: =IF(D21="","",D21+E20) -> 1784 | F21: =ROUND(D21*G21,2) -> 17175 | G21: 75 | H21: =F21+H20 -> 133800 | I21: =ROUND(MIN(H21,MIN(E21,Normuren1)*MaxUurloon1),2) -> #NAME? | J21: =ROUND(MIN(E21,Normuren1)*Uurfranchise1,2) -> #NAME? | K21: =I21-J21 -> #NAME? | L21: =ROUND(K21*PremiePct1,2) -> #NAME? | M21: =L21-L20 -> #NAME? | O21: =ROUND((H21-Uurfranchise1*E21*WnBijdrage1)/(1-WnBijdrage1),2) -> #NAME? | P21: =ROUND(O21-MAX(0,O21-(MaxUurloon1*MIN(E21,Normuren1)))*WnBijdrage1-MIN(0,O21-(Uurfranchise1*MIN(E21,Normuren1)))*WnBijdrage1,2) -> #NAME? | Q21: =ROUND(MIN(MaxUurloon1*MIN(E21,Normuren1),P21),2) -> #NAME? | R21: =ROUND(MIN(E21,Normuren1)*Uurfranchise1,2) -> #NAME? | S21: =Q21-R21 -> #NAME? | T21: =ROUND(S21*PremiePct1,2) -> #NAME? | U21: =T21-T20 -> #NAME?
A22: 12 | B22: 44896 | C22: 44926 | D22: 239 | E22: =IF(D22="","",D22+E21) -> 2023 | F22: =ROUND(D22*G22,2) -> 17925 | G22: 75 | H22: =F22+H21 -> 151725 | I22: =ROUND(MIN(H22,MIN(E22,Normuren1)*MaxUurloon1),2) -> #NAME? | J22: =ROUND(MIN(E22,Normuren1)*Uurfranchise1,2) -> #NAME? | K22: =I22-J22 -> #NAME? | L22: =ROUND(K22*PremiePct1,2) -> #NAME? | M22: =L22-L21 -> #NAME? | O22: =ROUND((H22-Uurfranchise1*E22*WnBijdrage1)/(1-WnBijdrage1),2) -> #NAME? | P22: =ROUND(O22-MAX(0,O22-(MaxUurloon1*MIN(E22,Normuren1)))*WnBijdrage1-MIN(0,O22-(Uurfranchise1*MIN(E22,Normuren1)))*WnBijdrage1,2) -> #NAME? | Q22: =ROUND(MIN(MaxUurloon1*MIN(E22,Normuren1),P22),2) -> #NAME? | R22: =ROUND(MIN(E22,Normuren1)*Uurfranchise1,2) -> #NAME? | S22: =Q22-R22 -> #NAME? | T22: =ROUND(S22*PremiePct1,2) -> #NAME? | U22: =T22-T21 -> #NAME?
B29: Periode
B30: Van | C30: Tot | D30: Loon | E30: Cumulatief loon | F30: Gewerkte uren | G30: Cumulatief gewerkte uren | H30: Normuren periode | I30: Cumulatieve normuren | J30: PT% | K30: Cumulatieve Franchise | L30: PG | M30: Premie
A31: 1 | B31: 44562 | C31: 44591 | D31: 3450 | E31: =D31 -> 3450 | F31: 140 | G31: =F31 -> 140 | H31: =Normuren1/13 -> #NAME? | I31: =H31 -> #NAME? | J31: =MIN(G31/I31,1) -> #NAME? | K31: =Franchise1/(52*38)*MIN(G31,I31) -> #NAME? | L31: =MIN((MaxLoon1/13),(E31/J31)-K31) -> #NAME? | M31: =L31*PremiePct1 -> #NAME?
A32: 2 | B32: 44592 | C32: 44619 | D32: 3450 | E32: =E31+D32 -> 6900 | F32: 140 | G32: =G31+F32 -> 280 | H32: =Normuren1/13 -> #NAME? | I32: =I31+H32 -> #NAME? | J32: =MIN(G32/I32,1) -> #NAME? | K32: =Franchise1/(52*38)*MIN(G32,I32) -> #NAME? | L32: =MIN((MaxLoon1/13),(E32/J32)-K32) -> #NAME? | M32: =L32*PremiePct1 -> #NAME?
A33: 3 | B33: 44620 | C33: 44647
A34: 4 | B34: 44648 | C34: 44675
A35: 5 | B35: 44676 | C35: 44703
A36: 6 | B36: 44704 | C36: 44731
A37: 7 | B37: 44732 | C37: 44759
A38: 8 | B38: 44760 | C38: 44787
A39: 9 | B39: 44788 | C39: 44815
A40: 10 | B40: 44816 | C40: 44843
A41: 11 | B41: 44844 | C41: 44871
A42: 12 | B42: 44872 | C42: 44899
A43: 13 | B43: 44900 | C43: 44926

Sheet VCR met WN bijdrage
A2: Franchise | B2: 10309
A3: Normuren | B3: 1976
A4: Max Loon | B4: 32369
A5: Uurfranchise | B5: =franchise/Normuren -> #NAME?
A6: Max Uurloon | B6: =MaxLoon/Normuren -> #NAME?
A7: WN bijdrage | B7: 0.0715
A8: Premie% | B8: 0.143
A10: Periode
A11: Van | B11: Tot | C11: Uren | D11: Cum uren | E11: Loon | F11: Uurloon | G11: Cum Loon | H11: PGL(var) | I11: PGL | J11: PGLmax | K11: Franchise | L11: Cum PG | M11: Cum premie | N11: Premie
A12: 44562 | B12: 44592 | C12: 158 | D12: =C12 -> 158 | E12: 2509.04 | F12: =E12/C12 -> 15.88 | G12: =E12 -> 2509.04 | H12: =ROUND((G12-UurFranchise*D12*WN_bijdrage)/(1-WN_bijdrage),2) -> #NAME? | I12: =ROUND(H12-MAX(0,H12-(MaxUurloon*MIN(D12,Normuren)))*WN_bijdrage-MIN(0,H12-(UurFranchise*MIN(D12,Normuren)))*WN_bijdrage,2) -> #NAME? | J12: =ROUND(MIN(MaxUurloon*MIN(D12,Normuren),I12),2) -> #NAME? | K12: =ROUND(MIN(D12,Normuren)*UurFranchise,2) -> #NAME? | L12: =J12-K12 -> #NAME? | M12: =ROUND(L12*PremiePct,2) -> #NAME? | N12: =M12 -> #NAME?
A13: 44593 | B13: 44620 | C13: 134 | D13: =IF(C13="","",C13+D12) -> 292 | E13: 2127.92 | F13: =E13/C13 -> 15.88 | G13: =E13+G12 -> 4636.96 | H13: =ROUND((G13-UurFranchise*D13*WN_bijdrage)/(1-WN_bijdrage),2) -> #NAME? | I13: =ROUND(H13-MAX(0,H13-(MaxUurloon*MIN(D13,Normuren)))*WN_bijdrage-MIN(0,H13-(UurFranchise*MIN(D13,Normuren)))*WN_bijdrage,2) -> #NAME? | J13: =ROUND(MIN(MaxUurloon*MIN(D13,Normuren),I13),2) -> #NAME? | K13: =ROUND(MIN(D13,Normuren)*UurFranchise,2) -> #NAME? | L13: =J13-K13 -> #NAME? | M13: =ROUND(L13*PremiePct,2) -> #NAME? | N13: =M13-M12 -> #NAME?
A14: 44621 | B14: 44651 | C14: 159 | D14: =IF(C14="","",C14+D13) -> 451 | E14: 2524.92 | F14: =E14/C14 -> 15.88 | G14: =E14+G13 -> 7161.88 | H14: =ROUND((G14-UurFranchise*D14*WN_bijdrage)/(1-WN_bijdrage),2) -> #NAME? | I14: =ROUND(H14-MAX(0,H14-(MaxUurloon*MIN(D14,Normuren)))*WN_bijdrage-MIN(0,H14-(UurFranchise*MIN(D14,Normuren)))*WN_bijdrage,2) -> #NAME? | J14: =ROUND(MIN(MaxUurloon*MIN(D14,Normuren),I14),2) -> #NAME? | K14: =ROUND(MIN(D14,Normuren)*UurFranchise,2) -> #NAME? | L14: =J14-K14 -> #NAME? | M14: =ROUND(L14*PremiePct,2) -> #NAME? | N14: =M14-M13 -> #NAME?
A15: 44652 | B15: 44681 | C15: 142 | D15: =IF(C15="","",C15+D14) -> 593 | E15: 2254.96 | F15: =E15/C15 -> 15.88 | G15: =E15+G14 -> 9416.84 | H15: =ROUND((G15-UurFranchise*D15*WN_bijdrage)/(1-WN_bijdrage),2) -> #NAME? | I15: =ROUND(H15-MAX(0,H15-(MaxUurloon*MIN(D15,Normuren)))*WN_bijdrage-MIN(0,H15-(UurFranchise*MIN(D15,Normuren)))*WN_bijdrage,2) -> #NAME? | J15: =ROUND(MIN(MaxUurloon*MIN(D15,Normuren),I15),2) -> #NAME? | K15: =ROUND(MIN(D15,Normuren)*UurFranchise,2) -> #NAME? | L15: =J15-K15 -> #NAME? | M15: =ROUND(L15*PremiePct,2) -> #NAME? | N15: =M15-M14 -> #NAME?
A16: 44682 | B16: 44712 | C16: 156 | D16: =IF(C16="","",C16+D15) -> 749 | E16: 2477.28 | F16: =E16/C16 -> 15.88 | G16: =E16+G15 -> 11894.12 | H16: =ROUND((G16-UurFranchise*D16*WN_bijdrage)/(1-WN_bijdrage),2) -> #NAME? | I16: =ROUND(H16-MAX(0,H16-(MaxUurloon*MIN(D16,Normuren)))*WN_bijdrage-MIN(0,H16-(UurFranchise*MIN(D16,Normuren)))*WN_bijdrage,2) -> #NAME? | J16: =ROUND(MIN(MaxUurloon*MIN(D16,Normuren),I16),2) -> #NAME? | K16: =ROUND(MIN(D16,Normuren)*UurFranchise,2) -> #NAME? | L16: =J16-K16 -> #NAME? | M16: =ROUND(L16*PremiePct,2) -> #NAME? | N16: =M16-M15 -> #NAME?
A17: 44713 | B17: 44742 | C17: 127 | D17: =IF(C17="","",C17+D16) -> 876 | E17: 2016.76 | F17: =E17/C17 -> 15.88 | G17: =E17+G16 -> 13910.88 | H17: =ROUND((G17-UurFranchise*D17*WN_bijdrage)/(1-WN_bijdrage),2) -> #NAME? | I17: =ROUND(H17-MAX(0,H17-(MaxUurloon*MIN(D17,Normuren)))*WN_bijdrage-MIN(0,H17-(UurFranchise*MIN(D17,Normuren)))*WN_bijdrage,2) -> #NAME? | J17: =ROUND(MIN(MaxUurloon*MIN(D17,Normuren),I17),2) -> #NAME? | K17: =ROUND(MIN(D17,Normuren)*UurFranchise,2) -> #NAME? | L17: =J17-K17 -> #NAME? | M17: =ROUND(L17*PremiePct,2) -> #NAME? | N17: =M17-M16 -> #NAME?
A18: 44743 | B18: 44773 | C18: 164 | D18: =IF(C18="","",C18+D17) -> 1040 | E18: 2604.32 | F18: =E18/C18 -> 15.88 | G18: =E18+G17 -> 16515.2 | H18: =ROUND((G18-UurFranchise*D18*WN_bijdrage)/(1-WN_bijdrage),2) -> #NAME? | I18: =ROUND(H18-MAX(0,H18-(MaxUurloon*MIN(D18,Normuren)))*WN_bijdrage-MIN(0,H18-(UurFranchise*MIN(D18,Normuren)))*WN_bijdrage,2) -> #NAME? | J18: =ROUND(MIN(MaxUurloon*MIN(D18,Normuren),I18),2) -> #NAME? | K18: =ROUND(MIN(D18,Normuren)*UurFranchise,2) -> #NAME? | L18: =J18-K18 -> #NAME? | M18: =ROUND(L18*PremiePct,2) -> #NAME? | N18: =M18-M17 -> #NAME?
A19: 44774 | B19: 44804 | C19: 135 | D19: =IF(C19="","",C19+D18) -> 1175 | E19: 2143.8 | F19: =E19/C19 -> 15.88 | G19: =E19+G18 -> 18659 | H19: =ROUND((G19-UurFranchise*D19*WN_bijdrage)/(1-WN_bijdrage),2) -> #NAME? | I19: =ROUND(H19-MAX(0,H19-(MaxUurloon*MIN(D19,Normuren)))*WN_bijdrage-MIN(0,H19-(UurFranchise*MIN(D19,Normuren)))*WN_bijdrage,2) -> #NAME? | J19: =ROUND(MIN(MaxUurloon*MIN(D19,Normuren),I19),2) -> #NAME? | K19: =ROUND(MIN(D19,Normuren)*UurFranchise,2) -> #NAME? | L19: =J19-K19 -> #NAME? | M19: =ROUND(L19*PremiePct,2) -> #NAME? | N19: =M19-M18 -> #NAME?
A20: 44805 | B20: 44834 | C20: 136 | D20: =IF(C20="","",C20+D19) -> 1311 | E20: 2159.68 | F20: =E20/C20 -> 15.88 | G20: =E20+G19 -> 20818.68 | H20: =ROUND((G20-UurFranchise*D20*WN_bijdrage)/(1-WN_bijdrage),2) -> #NAME? | I20: =ROUND(H20-MAX(0,H20-(MaxUurloon*MIN(D20,Normuren)))*WN_bijdrage-MIN(0,H20-(UurFranchise*MIN(D20,Normuren)))*WN_bijdrage,2) -> #NAME? | J20: =ROUND(MIN(MaxUurloon*MIN(D20,Normuren),I20),2) -> #NAME? | K20: =ROUND(MIN(D20,Normuren)*UurFranchise,2) -> #NAME? | L20: =J20-K20 -> #NAME? | M20: =ROUND(L20*PremiePct,2) -> #NAME? | N20: =M20-M19 -> #NAME?
A21: 44835 | B21: 44865 | C21: 244 | D21: =IF(C21="","",C21+D20) -> 1555 | E21: 3874.72 | F21: =E21/C21 -> 15.88 | G21: =E21+G20 -> 24693.4 | H21: =ROUND((G21-UurFranchise*D21*WN_bijdrage)/(1-WN_bijdrage),2) -> #NAME? | I21: =ROUND(H21-MAX(0,H21-(MaxUurloon*MIN(D21,Normuren)))*WN_bijdrage-MIN(0,H21-(UurFranchise*MIN(D21,Normuren)))*WN_bijdrage,2) -> #NAME? | J21: =ROUND(MIN(MaxUurloon*MIN(D21,Normuren),I21),2) -> #NAME? | K21: =ROUND(MIN(D21,Normuren)*UurFranchise,2) -> #NAME? | L21: =J21-K21 -> #NAME? | M21: =ROUND(L21*PremiePct,2) -> #NAME? | N21: =M21-M20 -> #NAME?
A22: 44866 | B22: 44895 | C22: 229 | D22: =IF(C22="","",C22+D21) -> 1784 | E22: 3636.52 | F22: =E22/C22 -> 15.88 | G22: =E22+G21 -> 28329.92 | H22: =ROUND((G22-UurFranchise*D22*WN_bijdrage)/(1-WN_bijdrage),2) -> #NAME? | I22: =ROUND(H22-MAX(0,H22-(MaxUurloon*MIN(D22,Normuren)))*WN_bijdrage-MIN(0,H22-(UurFranchise*MIN(D22,Normuren)))*WN_bijdrage,2) -> #NAME? | J22: =ROUND(MIN(MaxUurloon*MIN(D22,Normuren),I22),2) -> #NAME? | K22: =ROUND(MIN(D22,Normuren)*UurFranchise,2) -> #NAME? | L22: =J22-K22 -> #NAME? | M22: =ROUND(L22*PremiePct,2) -> #NAME? | N22: =M22-M21 -> #NAME?
A23: 44896 | B23: 44926 | C23: 239 | D23: =IF(C23="","",C23+D22) -> 2023 | E23: 3795.32 | F23: =E23/C23 -> 15.88 | G23: =E23+G22 -> 32125.24 | H23: =ROUND((G23-UurFranchise*D23*WN_bijdrage)/(1-WN_bijdrage),2) -> #NAME? | I23: =ROUND(H23-MAX(0,H23-(MaxUurloon*MIN(D23,Normuren)))*WN_bijdrage-MIN(0,H23-(UurFranchise*MIN(D23,Normuren)))*WN_bijdrage,2) -> #NAME? | J23: =ROUND(MIN(MaxUurloon*MIN(D23,Normuren),I23),2) -> #NAME? | K23: =ROUND(MIN(D23,Normuren)*UurFranchise,2) -> #NAME? | L23: =J23-K23 -> #NAME? | M23: =ROUND(L23*PremiePct,2) -> #NAME? | N23: =M23-M22 -> #NAME?

Sheet VCR dagen
A1: Franchise | B1: 14856
A2: Jaar | B2: 2022
A3: Max Dagen | B3: =IF(OR(MOD(B2,400)=0,AND(MOD(B2,4)=0,MOD(B2,100)<>0)),366,365) -> 365
A4: Max Loon | B4: 114688
A5: Dagfranchise | B5: =B1/B3 -> 40.70137
A6: Max Dagloon | B6: =B4/B3 -> 314.2137
A7: WN bijdrage | B7: 0
A8: Premie% | B8: 0.25
A10: Kalenderdagen
A11: Periode
A12: Van | B12: Tot | C12: Dagen | D12: Cum dagen | E12: Loon | F12: Dagloon | G12: Cum Loon | H12: PGL | I12: Franchise | J12: Cum PG | K12: Cum Premie | L12: Premie
A13: 44562 | B13: 44592 | C13: =DATEDIF(A13,B13,"D")+1 -> 31 | D13: =C13 -> 31 | E13: =ROUND(C13*F13,2) -> 4185 | F13: 135 | G13: =E13 -> 4185 | H13: =ROUND(MIN(G13,MIN(D13,MaxDagen)*Maxdagloon),2) -> #NAME? | I13: =ROUND(MIN(D13,MaxDagen)*Dagfranchise,2) -> #NAME? | J13: =H13-I13 -> #NAME? | K13: =ROUND(J13*Premiepct2,2) -> #NAME? | L13: =K13 -> #NAME?
A14: 44593 | B14: 44620 | C14: =DATEDIF(A14,B14,"D")+1 -> 28 | D14: =IF(C14="","",C14+D13) -> 59 | E14: =ROUND(C14*F14,2) -> 3780 | F14: 135 | G14: =E14+G13 -> 7965 | H14: =ROUND(MIN(G14,MIN(D14,MaxDagen)*Maxdagloon),2) -> #NAME? | I14: =ROUND(MIN(D14,MaxDagen)*Dagfranchise,2) -> #NAME? | J14: =H14-I14 -> #NAME? | K14: =ROUND(J14*Premiepct2,2) -> #NAME? | L14: =K14-K13 -> #NAME?
A15: 44621 | B15: 44651 | C15: =DATEDIF(A15,B15,"D")+1 -> 31 | D15: =IF(C15="","",C15+D14) -> 90 | E15: =ROUND(C15*F15,2) -> 4185 | F15: 135 | G15: =E15+G14 -> 12150 | H15: =ROUND(MIN(G15,MIN(D15,MaxDagen)*Maxdagloon),2) -> #NAME? | I15: =ROUND(MIN(D15,MaxDagen)*Dagfranchise,2) -> #NAME? | J15: =H15-I15 -> #NAME? | K15: =ROUND(J15*Premiepct2,2) -> #NAME? | L15: =K15-K14 -> #NAME?
A16: 44652 | B16: 44681 | C16: =DATEDIF(A16,B16,"D")+1 -> 30 | D16: =IF(C16="","",C16+D15) -> 120 | E16: =ROUND(C16*F16,2) -> 4050 | F16: 135 | G16: =E16+G15 -> 16200 | H16: =ROUND(MIN(G16,MIN(D16,MaxDagen)*Maxdagloon),2) -> #NAME? | I16: =ROUND(MIN(D16,MaxDagen)*Dagfranchise,2) -> #NAME? | J16: =H16-I16 -> #NAME? | K16: =ROUND(J16*Premiepct2,2) -> #NAME? | L16: =K16-K15 -> #NAME?
A17: 44682 | B17: 44712 | C17: =DATEDIF(A17,B17,"D")+1 -> 31 | D17: =IF(C17="","",C17+D16) -> 151 | E17: =ROUND(C17*F17,2) -> 4185 | F17: 135 | G17: =E17+G16 -> 20385 | H17: =ROUND(MIN(G17,MIN(D17,MaxDagen)*Maxdagloon),2) -> #NAME? | I17: =ROUND(MIN(D17,MaxDagen)*Dagfranchise,2) -> #NAME? | J17: =H17-I17 -> #NAME? | K17: =ROUND(J17*Premiepct2,2) -> #NAME? | L17: =K17-K16 -> #NAME?
A18: 44713 | B18: 44742 | C18: =DATEDIF(A18,B18,"D")+1 -> 30 | D18: =IF(C18="","",C18+D17) -> 181 | E18: =ROUND(C18*F18,2) -> 4050 | F18: 135 | G18: =E18+G17 -> 24435 | H18: =ROUND(MIN(G18,MIN(D18,MaxDagen)*Maxdagloon),2) -> #NAME? | I18: =ROUND(MIN(D18,MaxDagen)*Dagfranchise,2) -> #NAME? | J18: =H18-I18 -> #NAME? | K18: =ROUND(J18*Premiepct2,2) -> #NAME? | L18: =K18-K17 -> #NAME?
A19: 44743 | B19: 44773 | C19: =DATEDIF(A19,B19,"D")+1 -> 31 | D19: =IF(C19="","",C19+D18) -> 212 | E19: =ROUND(C19*F19,2) -> 4185 | F19: 135 | G19: =E19+G18 -> 28620 | H19: =ROUND(MIN(G19,MIN(D19,MaxDagen)*Maxdagloon),2) -> #NAME? | I19: =ROUND(MIN(D19,MaxDagen)*Dagfranchise,2) -> #NAME? | J19: =H19-I19 -> #NAME? | K19: =ROUND(J19*Premiepct2,2) -> #NAME? | L19: =K19-K18 -> #NAME?
A20: 44774 | B20: 44804 | C20: =DATEDIF(A20,B20,"D")+1 -> 31 | D20: =IF(C20="","",C20+D19) -> 243 | E20: =ROUND(C20*F20,2) -> 4185 | F20: 135 | G20: =E20+G19 -> 32805 | H20: =ROUND(MIN(G20,MIN(D20,MaxDagen)*Maxdagloon),2) -> #NAME? | I20: =ROUND(MIN(D20,MaxDagen)*Dagfranchise,2) -> #NAME? | J20: =H20-I20 -> #NAME? | K20: =ROUND(J20*Premiepct2,2) -> #NAME? | L20: =K20-K19 -> #NAME?
A21: 44805 | B21: 44834 | C21: =DATEDIF(A21,B21,"D")+1 -> 30 | D21: =IF(C21="","",C21+D20) -> 273 | E21: =ROUND(C21*F21,2) -> 4050 | F21: 135 | G21: =E21+G20 -> 36855 | H21: =ROUND(MIN(G21,MIN(D21,MaxDagen)*Maxdagloon),2) -> #NAME? | I21: =ROUND(MIN(D21,MaxDagen)*Dagfranchise,2) -> #NAME? | J21: =H21-I21 -> #NAME? | K21: =ROUND(J21*Premiepct2,2) -> #NAME? | L21: =K21-K20 -> #NAME?
A22: 44835 | B22: 44865 | C22: =DATEDIF(A22,B22,"D")+1 -> 31 | D22: =IF(C22="","",C22+D21) -> 304 | E22: =ROUND(C22*F22,2) -> 4185 | F22: 135 | G22: =E22+G21 -> 41040 | H22: =ROUND(MIN(G22,MIN(D22,MaxDagen)*Maxdagloon),2) -> #NAME? | I22: =ROUND(MIN(D22,MaxDagen)*Dagfranchise,2) -> #NAME? | J22: =H22-I22 -> #NAME? | K22: =ROUND(J22*Premiepct2,2) -> #NAME? | L22: =K22-K21 -> #NAME?
A23: 44866 | B23: 44895 | C23: =DATEDIF(A23,B23,"D")+1 -> 30 | D23: =IF(C23="","",C23+D22) -> 334 | E23: =ROUND(C23*F23,2) -> 4050 | F23: 135 | G23: =E23+G22 -> 45090 | H23: =ROUND(MIN(G23,MIN(D23,MaxDagen)*Maxdagloon),2) -> #NAME? | I23: =ROUND(MIN(D23,MaxDagen)*Dagfranchise,2) -> #NAME? | J23: =H23-I23 -> #NAME? | K23: =ROUND(J23*Premiepct2,2) -> #NAME? | L23: =K23-K22 -> #NAME?
A24: 44896 | B24: 44926 | C24: =DATEDIF(A24,B24,"D")+1 -> 31 | D24: =IF(C24="","",C24+D23) -> 365 | E24: =ROUND(C24*F24,2) -> 4185 | F24: 135 | G24: =E24+G23 -> 49275 | H24: =ROUND(MIN(G24,MIN(D24,MaxDagen)*Maxdagloon),2) -> #NAME? | I24: =ROUND(MIN(D24,MaxDagen)*Dagfranchise,2) -> #NAME? | J24: =H24-I24 -> #NAME? | K24: =ROUND(J24*Premiepct2,2) -> #NAME? | L24: =K24-K23 -> #NAME?
A27: Werkbare dagen
A28: Periode
A29: Van | B29: Tot | C29: Dagen | D29: Cum dagen | E29: Loon | F29: Dagloon | G29: Cum Loon | H29: PGL | I29: Franchise | J29: Cum PG | K29: Cum Premie | L29: Premie
A30: 44562 | B30: 44592 | C30: =NETWORKDAYS(A30,B30) -> 21 | D30: =C30 -> 21 | E30: =ROUND(C30*F30,2) -> 2835 | F30: 135 | G30: =E30 -> 2835 | H30: =ROUND(MIN(G30,MIN(D30,MaxDagen)*Maxdagloon),2) -> #NAME? | I30: =ROUND(MIN(D30,MaxDagen)*Dagfranchise,2) -> #NAME? | J30: =H30-I30 -> #NAME? | K30: =ROUND(J30*Premiepct2,2) -> #NAME? | L30: =K30 -> #NAME?
A31: 44593 | B31: 44620 | C31: =NETWORKDAYS(A31,B31) -> 20 | D31: =IF(C31="","",C31+D30) -> 41 | E31: =ROUND(C31*F31,2) -> 2700 | F31: 135 | G31: =E31+G30 -> 5535 | H31: =ROUND(MIN(G31,MIN(D31,MaxDagen)*Maxdagloon),2) -> #NAME? | I31: =ROUND(MIN(D31,MaxDagen)*Dagfranchise,2) -> #NAME? | J31: =H31-I31 -> #NAME? | K31: =ROUND(J31*Premiepct2,2) -> #NAME? | L31: =K31-K30 -> #NAME?
A32: 44621 | B32: 44651 | C32: =NETWORKDAYS(A32,B32) -> 23 | D32: =IF(C32="","",C32+D31) -> 64 | E32: =ROUND(C32*F32,2) -> 3105 | F32: 135 | G32: =E32+G31 -> 8640 | H32: =ROUND(MIN(G32,MIN(D32,MaxDagen)*Maxdagloon),2) -> #NAME? | I32: =ROUND(MIN(D32,MaxDagen)*Dagfranchise,2) -> #NAME? | J32: =H32-I32 -> #NAME? | K32: =ROUND(J32*Premiepct2,2) -> #NAME? | L32: =K32-K31 -> #NAME?
A33: 44652 | B33: 44681 | C33: =NETWORKDAYS(A33,B33) -> 21 | D33: =IF(C33="","",C33+D32) -> 85 | E33: =ROUND(C33*F33,2) -> 2835 | F33: 135 | G33: =E33+G32 -> 11475 | H33: =ROUND(MIN(G33,MIN(D33,MaxDagen)*Maxdagloon),2) -> #NAME? | I33: =ROUND(MIN(D33,MaxDagen)*Dagfranchise,2) -> #NAME? | J33: =H33-I33 -> #NAME? | K33: =ROUND(J33*Premiepct2,2) -> #NAME? | L33: =K33-K32 -> #NAME?
A34: 44682 | B34: 44712 | C34: =NETWORKDAYS(A34,B34) -> 22 | D34: =IF(C34="","",C34+D33) -> 107 | E34: =ROUND(C34*F34,2) -> 2970 | F34: 135 | G34: =E34+G33 -> 14445 | H34: =ROUND(MIN(G34,MIN(D34,MaxDagen)*Maxdagloon),2) -> #NAME? | I34: =ROUND(MIN(D34,MaxDagen)*Dagfranchise,2) -> #NAME? | J34: =H34-I34 -> #NAME? | K34: =ROUND(J34*Premiepct2,2) -> #NAME? | L34: =K34-K33 -> #NAME?
A35: 44713 | B35: 44742 | C35: =NETWORKDAYS(A35,B35) -> 22 | D35: =IF(C35="","",C35+D34) -> 129 | E35: =ROUND(C35*F35,2) -> 2970 | F35: 135 | G35: =E35+G34 -> 17415 | H35: =ROUND(MIN(G35,MIN(D35,MaxDagen)*Maxdagloon),2) -> #NAME? | I35: =ROUND(MIN(D35,MaxDagen)*Dagfranchise,2) -> #NAME? | J35: =H35-I35 -> #NAME? | K35: =ROUND(J35*Premiepct2,2) -> #NAME? | L35: =K35-K34 -> #NAME?
A36: 44743 | B36: 44773 | C36: =NETWORKDAYS(A36,B36) -> 21 | D36: =IF(C36="","",C36+D35) -> 150 | E36: =ROUND(C36*F36,2) -> 2835 | F36: 135 | G36: =E36+G35 -> 20250 | H36: =ROUND(MIN(G36,MIN(D36,MaxDagen)*Maxdagloon),2) -> #NAME? | I36: =ROUND(MIN(D36,MaxDagen)*Dagfranchise,2) -> #NAME? | J36: =H36-I36 -> #NAME? | K36: =ROUND(J36*Premiepct2,2) -> #NAME? | L36: =K36-K35 -> #NAME?
A37: 44774 | B37: 44804 | C37: =NETWORKDAYS(A37,B37) -> 23 | D37: =IF(C37="","",C37+D36) -> 173 | E37: =ROUND(C37*F37,2) -> 3105 | F37: 135 | G37: =E37+G36 -> 23355 | H37: =ROUND(MIN(G37,MIN(D37,MaxDagen)*Maxdagloon),2) -> #NAME? | I37: =ROUND(MIN(D37,MaxDagen)*Dagfranchise,2) -> #NAME? | J37: =H37-I37 -> #NAME? | K37: =ROUND(J37*Premiepct2,2) -> #NAME? | L37: =K37-K36 -> #NAME?
A38: 44805 | B38: 44834 | C38: =NETWORKDAYS(A38,B38) -> 22 | D38: =IF(C38="","",C38+D37) -> 195 | E38: =ROUND(C38*F38,2) -> 2970 | F38: 135 | G38: =E38+G37 -> 26325 | H38: =ROUND(MIN(G38,MIN(D38,MaxDagen)*Maxdagloon),2) -> #NAME? | I38: =ROUND(MIN(D38,MaxDagen)*Dagfranchise,2) -> #NAME? | J38: =H38-I38 -> #NAME? | K38: =ROUND(J38*Premiepct2,2) -> #NAME? | L38: =K38-K37 -> #NAME?
A39: 44835 | B39: 44865 | C39: =NETWORKDAYS(A39,B39) -> 21 | D39: =IF(C39="","",C39+D38) -> 216 | E39: =ROUND(C39*F39,2) -> 2835 | F39: 135 | G39: =E39+G38 -> 29160 | H39: =ROUND(MIN(G39,MIN(D39,MaxDagen)*Maxdagloon),2) -> #NAME? | I39: =ROUND(MIN(D39,MaxDagen)*Dagfranchise,2) -> #NAME? | J39: =H39-I39 -> #NAME? | K39: =ROUND(J39*Premiepct2,2) -> #NAME? | L39: =K39-K38 -> #NAME?
A40: 44866 | B40: 44895 | C40: =NETWORKDAYS(A40,B40) -> 22 | D40: =IF(C40="","",C40+D39) -> 238 | E40: =ROUND(C40*F40,2) -> 2970 | F40: 135 | G40: =E40+G39 -> 32130 | H40: =ROUND(MIN(G40,MIN(D40,MaxDagen)*Maxdagloon),2) -> #NAME? | I40: =ROUND(MIN(D40,MaxDagen)*Dagfranchise,2) -> #NAME? | J40: =H40-I40 -> #NAME? | K40: =ROUND(J40*Premiepct2,2) -> #NAME? | L40: =K40-K39 -> #NAME?
A41: 44896 | B41: 44926 | C41: =NETWORKDAYS(A41,B41) -> 22 | D41: =IF(C41="","",C41+D40) -> 260 | E41: =ROUND(C41*F41,2) -> 2970 | F41: 135 | G41: =E41+G40 -> 35100 | H41: =ROUND(MIN(G41,MIN(D41,MaxDagen)*Maxdagloon),2) -> #NAME? | I41: =ROUND(MIN(D41,MaxDagen)*Dagfranchise,2) -> #NAME? | J41: =H41-I41 -> #NAME? | K41: =ROUND(J41*Premiepct2,2) -> #NAME? | L41: =K41-K40 -> #NAME?
A44: Dagen360
A45: Periode
A46: Van | B46: Tot | C46: Dagen | D46: Cum dagen | E46: Loon | F46: Dagloon | G46: Cum Loon | H46: PGL | I46: Franchise | J46: Cum PG | K46: Cum Premie | L46: Premie
A47: 44562 | B47: 44592 | C47: 30 | D47: =C47 -> 30 | E47: =ROUND(C47*F47,2) -> 4050 | F47: 135 | G47: =E47 -> 4050 | H47: =ROUND(MIN(G47,MIN(D47,MaxDagen)*Maxdagloon),2) -> #NAME? | I47: =ROUND(MIN(D47,MaxDagen)*Dagfranchise,2) -> #NAME? | J47: =H47-I47 -> #NAME? | K47: =ROUND(J47*Premiepct2,2) -> #NAME? | L47: =K47 -> #NAME?
A48: 44593 | B48: 44620 | C48: 30 | D48: =IF(C48="","",C48+D47) -> 60 | E48: =ROUND(C48*F48,2) -> 4050 | F48: 135 | G48: =E48+G47 -> 8100 | H48: =ROUND(MIN(G48,MIN(D48,MaxDagen)*Maxdagloon),2) -> #NAME? | I48: =ROUND(MIN(D48,MaxDagen)*Dagfranchise,2) -> #NAME? | J48: =H48-I48 -> #NAME? | K48: =ROUND(J48*Premiepct2,2) -> #NAME? | L48: =K48-K47 -> #NAME?
A49: 44621 | B49: 44651 | C49: 30 | D49: =IF(C49="","",C49+D48) -> 90 | E49: =ROUND(C49*F49,2) -> 4050 | F49: 135 | G49: =E49+G48 -> 12150 | H49: =ROUND(MIN(G49,MIN(D49,MaxDagen)*Maxdagloon),2) -> #NAME? | I49: =ROUND(MIN(D49,MaxDagen)*Dagfranchise,2) -> #NAME? | J49: =H49-I49 -> #NAME? | K49: =ROUND(J49*Premiepct2,2) -> #NAME? | L49: =K49-K48 -> #NAME?
A50: 44652 | B50: 44681 | C50: 30 | D50: =IF(C50="","",C50+D49) -> 120 | E50: =ROUND(C50*F50,2) -> 4050 | F50: 135 | G50: =E50+G49 -> 16200 | H50: =ROUND(MIN(G50,MIN(D50,MaxDagen)*Maxdagloon),2) -> #NAME? | I50: =ROUND(MIN(D50,MaxDagen)*Dagfranchise,2) -> #NAME? | J50: =H50-I50 -> #NAME? | K50: =ROUND(J50*Premiepct2,2) -> #NAME? | L50: =K50-K49 -> #NAME?
A51: 44682 | B51: 44712 | C51: 30 | D51: =IF(C51="","",C51+D50) -> 150 | E51: =ROUND(C51*F51,2) -> 4050 | F51: 135 | G51: =E51+G50 -> 20250 | H51: =ROUND(MIN(G51,MIN(D51,MaxDagen)*Maxdagloon),2) -> #NAME? | I51: =ROUND(MIN(D51,MaxDagen)*Dagfranchise,2) -> #NAME? | J51: =H51-I51 -> #NAME? | K51: =ROUND(J51*Premiepct2,2) -> #NAME? | L51: =K51-K50 -> #NAME?
A52: 44713 | B52: 44742 | C52: 30 | D52: =IF(C52="","",C52+D51) -> 180 | E52: =ROUND(C52*F52,2) -> 4050 | F52: 135 | G52: =E52+G51 -> 24300 | H52: =ROUND(MIN(G52,MIN(D52,MaxDagen)*Maxdagloon),2) -> #NAME? | I52: =ROUND(MIN(D52,MaxDagen)*Dagfranchise,2) -> #NAME? | J52: =H52-I52 -> #NAME? | K52: =ROUND(J52*Premiepct2,2) -> #NAME? | L52: =K52-K51 -> #NAME?
A53: 44743 | B53: 44773 | C53: 30 | D53: =IF(C53="","",C53+D52) -> 210 | E53: =ROUND(C53*F53,2) -> 4050 | F53: 135 | G53: =E53+G52 -> 28350 | H53: =ROUND(MIN(G53,MIN(D53,MaxDagen)*Maxdagloon),2) -> #NAME? | I53: =ROUND(MIN(D53,MaxDagen)*Dagfranchise,2) -> #NAME? | J53: =H53-I53 -> #NAME? | K53: =ROUND(J53*Premiepct2,2) -> #NAME? | L53: =K53-K52 -> #NAME?
A54: 44774 | B54: 44804 | C54: 30 | D54: =IF(C54="","",C54+D53) -> 240 | E54: =ROUND(C54*F54,2) -> 4050 | F54: 135 | G54: =E54+G53 -> 32400 | H54: =ROUND(MIN(G54,MIN(D54,MaxDagen)*Maxdagloon),2) -> #NAME? | I54: =ROUND(MIN(D54,MaxDagen)*Dagfranchise,2) -> #NAME? | J54: =H54-I54 -> #NAME? | K54: =ROUND(J54*Premiepct2,2) -> #NAME? | L54: =K54-K53 -> #NAME?
A55: 44805 | B55: 44834 | C55: 30 | D55: =IF(C55="","",C55+D54) -> 270 | E55: =ROUND(C55*F55,2) -> 4050 | F55: 135 | G55: =E55+G54 -> 36450 | H55: =ROUND(MIN(G55,MIN(D55,MaxDagen)*Maxdagloon),2) -> #NAME? | I55: =ROUND(MIN(D55,MaxDagen)*Dagfranchise,2) -> #NAME? | J55: =H55-I55 -> #NAME? | K55: =ROUND(J55*Premiepct2,2) -> #NAME? | L55: =K55-K54 -> #NAME?
A56: 44835 | B56: 44865 | C56: 30 | D56: =IF(C56="","",C56+D55) -> 300 | E56: =ROUND(C56*F56,2) -> 4050 | F56: 135 | G56: =E56+G55 -> 40500 | H56: =ROUND(MIN(G56,MIN(D56,MaxDagen)*Maxdagloon),2) -> #NAME? | I56: =ROUND(MIN(D56,MaxDagen)*Dagfranchise,2) -> #NAME? | J56: =H56-I56 -> #NAME? | K56: =ROUND(J56*Premiepct2,2) -> #NAME? | L56: =K56-K55 -> #NAME?
A57: 44866 | B57: 44895 | C57: 30 | D57: =IF(C57="","",C57+D56) -> 330 | E57: =ROUND(C57*F57,2) -> 4050 | F57: 135 | G57: =E57+G56 -> 44550 | H57: =ROUND(MIN(G57,MIN(D57,MaxDagen)*Maxdagloon),2) -> #NAME? | I57: =ROUND(MIN(D57,MaxDagen)*Dagfranchise,2) -> #NAME? | J57: =H57-I57 -> #NAME? | K57: =ROUND(J57*Premiepct2,2) -> #NAME? | L57: =K57-K56 -> #NAME?
A58: 44896 | B58: 44926 | C58: 30 | D58: =IF(C58="","",C58+D57) -> 360 | E58: =ROUND(C58*F58,2) -> 4050 | F58: 135 | G58: =E58+G57 -> 48600 | H58: =ROUND(MIN(G58,MIN(D58,MaxDagen)*Maxdagloon),2) -> #NAME? | I58: =ROUND(MIN(D58,MaxDagen)*Dagfranchise,2) -> #NAME? | J58: =H58-I58 -> #NAME? | K58: =ROUND(J58*Premiepct2,2) -> #NAME? | L58: =K58-K57 -> #NAME?
C60: =SUM(C47:C58) -> 360
