Workbook
Name exc_regeling_4wk_jn: 'Grondslagbepaling 4wk'!$B$8
Name exc_regeling_jn: 'Grondslagbepaling mnd'!$B$8
Name franchise2027: rekenwaarden!$L$3
Name franchise2028: rekenwaarden!$L$4
Name gekozen_premie_exc2027: rekenwaarden!$S$3
Name gekozen_premie_exc2028: rekenwaarden!$S$4
Name leeftijd_deelnemer: 'Grondslagbepaling mnd'!$B$9
Name leeftijd_deelnemer: 'Grondslagbepaling 4wk'!$B$9
Name leeftijd_partner: 'Grondslagbepaling mnd'!$B$10
Name leeftijd_partner: 'Grondslagbepaling 4wk'!$B$10
Name max_bijdrage_wkn_basis2027: rekenwaarden!$Q$3
Name max_bijdrage_wkn_basis2028: rekenwaarden!$Q$4
Name max_bijdrage_wkn_exc2027: rekenwaarden!$R$3
Name max_bijdrage_wkn_exc2028: rekenwaarden!$R$4
Name maxloon2027: rekenwaarden!$M$3
Name maxloon2028: rekenwaarden!$M$4
Name maxloonexc2027: rekenwaarden!$N$3
Name maxloonexc2028: rekenwaarden!$N$4
Name ploegendiensttoeslag2027: rekenwaarden!#REF!
Name ploegendiensttoeslag2028: rekenwaarden!#REF!
Name premiekort_ouderschapsverlof2027: rekenwaarden!$P$3
Name premiekort_ouderschapsverlof2028: rekenwaarden!$P$4
Name premiepct2027: rekenwaarden!$O$3
Name premiepct2028: rekenwaarden!$O$4
Name rekenwaarden_tabel: rekenwaarden!$K$3:$N$4

Sheet Toelichting
A1: Omschrijving | B1: Toelichting | D1: Uitgangspunten
A2: Soort grondslag | B2: De premieberekening wordt berekend op de aanlevering van een jaarsalaris
A3: Interpolatiemethode | B3: 1 = SV-dagen, 2 = kalenderdagen
A4: Verloningen per jaar | B4: 12 = maandelijks, 13 = 4 wekelijks
A5: Ingangsdatum dvb | B5: Laatste dag van dienstverband, in berekening inclusief
A6: Einddatum dvb | B6: Datum start dienstverband, in berekening inclusief
A7: Excedentregeling | B7: Geeft aan of een excedentregeling aanwezig is. Bij afwezigheid wordt er geen excedent grondslag bepaald.
A8: Leeftijd deelnemer | B8: De leeftijd van de deelnemer op 1 januari van het premiejaar, tbv ANW-hiaat premie
A9: Leeftijd partner | B9: De leeftijd van de partner van de deelnemer op 1 januari van het premiejaar, tbv ANW-hiaat premie
A10: Per periode
A11: Periode | B11: Periode in jaar, bij maandelijkse verloning zijn er 12 periodes en bij 4-wekelijkse verloning zijn er 13 periodes.
A12: Ingangsdatum | B12: Ingansdatum van de periode.
A13: Einddatum | B13: Einddatum van de periode.
A14: Peilloon (ft per jaar) | B14: Fulltime pensioengevend jaarsalaris - verplichte loonbestanddelen plus gekozen in variabel loon regeling, excl ploegendiensttoeslag
A15: Ploegen dienst toeslag | B15: Deel van de ploegendiensttoeslag dat meetelt in de Basisregeling. Dit zijn de verplichte delen volgens de cao plus gekozen in aanvullende ploegendiensttoeslag regeling
A16: Contract uren | B16: Het aantal uren van het vast dienstverband
A17: Uren voor regeling | B17: De pensioengevende uren per periode welke binnenkomen bij het pensioenfonds.
A18: Verlofuren voor regeling | B18: Het totaal aantal uren onbetaald verlof in de periode waarvoor met de Werknemer is afgesproken dat de pensioenopbouw wordt voortgezet.
A19: Voortzetting tijdens onbetaald ouderschapsverlof | B19: Indicatie of de uren voor onbetaald ouderschapsverlof worden voortgezet
A20: Verlof uren onbetaald ouderschapsverlof | B20: Het aantal uren onbetaald ouderschapsverlof
A21: Voortzetting tijdens overig onbetaald verlof | B21: Indicatie of de uren voor overig onbetaald verlof worden voortgezet
A22: Verlof uren overig onbetaald verlof | B22: Het aantal uren overig onbetaald verlof
... A33: deeltijdfactor onbetaald ouderschapsverlof | B33: De verhouding tussen het aantal uren Onbetaald Ouderschapsverlof en de het maximum aantal uren naar rato van de deelname.
A34: Salaris & grenswaarden
A35: FT jaarbasis ploegendiensttoeslag | B35: De ploegendiensttoelsag omgerekend naar een fulltime jaarsalaris.
A36: FT jaarsalaris incl ploegendiensttoeslag | B36: Het opgegeven salaris (peilloon (ft per jaar)) plus het fulltime jaarsalaris voor de ploegendiensttoeslag
A37: FT franchise | B37: Jaarlijks franchise uitgedrukt in een fulltime waarde
A38: FT max loon | B38: Jaarlijks maximum loon uitgedrukt in een fulltime waarde, bovengrens van de basis regeling en ondergrens van de basisregeling. De ploegendiensttoeslag is volledig onderdeel van de basisregeling, daarom wordt het maximum loon verhoogt met de ploegendiensttoeslag.
A39: FT max loon exc | B39: Jaarlijks fiscaal maximum loon uitgedrukt in een fulltime waarde, bovengrens van de excedent regeling.
A40: Basisregeling
A41: fulltime premiegrondslag basis | B41: Het opgegeven regelingloon wordt gemaximeerd op het maximum salaris dat geldt voor de Basisregeling minus de franchise.
A42: parttime premiegrondslag periode | B42: De grondslag per periode rekening houdend met het parttimerpercentage.
A43: parttime premiegrondslag onbetaald ouderschapsverlof per periode | B43: De grondslag per periode rekening houdend met het parttimerpercentage behorende bij de uren voortzetting oudershapsverlof.
A44: premie basisregeling | B44: De premie per periode
A45: premiekorting onbetaald ouderschapsverlof per periode | B45: De premiekorting voor het voortzetten van het ouderschapsverlof per periode
A46: totaal premie basisregeling periode | B46: De totale premie minus de premiekorting.
A47: Excedentregeling
A48: fulltime premiegrondslag excedent | B48: Het opgegeven regelingloon wordt gemaximeerd op het maximum fiscaal salaris dat geldt voor de Excedentregeling minus de maximum loon.
A49: premiegrondslag excedent periode | B49: De grondslag per periode rekening houdend met het parttimerpercentage.
A50: premie excedent periode | B50: De premie per periode voor excedent regeling.
...

Sheet Grondslagbepaling mnd
A3: Soort grondslag | B3: jaarsalaris | H3: =IF(AND(H4="", H5=""), "", "Fout sheet:")
A4: Interpolatiemethode | B4: 2 | C4: --> | D4: 1 = SV-dagen, 2 = kalenderdagen | H4: =IF(AND($T$15:$T$38),"", "Gegevens komen niet overeen met dienstverbandlengte. Input wijzigen of ingang/einde dienstverband verplaatsen")
A5: Verloningen per jaar | B5: 12 | C5: --> | D5: 12 = maandelijks, 13 = 4 wekelijks | H5: =IF(B6<=B7,"", "Ingang dienstverband kan niet voor einddatum dienstverband liggen")
A6: Ingangsdatum dvb | B6: 46388
A7: Einddatum dvb | B7: 47097
A8: Excedentregeling | B8: TRUE | E8: = | F8: aan te passen veld
A9: Leeftijd deelnemer | B9: 51
A10: Leeftijd partner | B10: 44
D12: Aangeleverd salaris, uren en verlof | M12: Berekening voor gebroken periodes | U12: Parttimepercentages | W12: Fulltime rekenwaarden | AB12: Basisregeling | AC12: RegKnmrk | AD12: U0757-2010 | AH12: Excedentregeling | AJ12: U0757-2020 | AK12: ANW-hiaat | AM12: Samenvatting
D13: RegLn | E13: OnrTsl | G13: VerlofUReg | I13: UrenVerl (OSP) | K13: UrenVerl | L13: AantUNormWk
A14: periode | B14: ingangsdatum | C14: einddatum | D14: peilloon (ft per jaar) | E14: ploegen dienst toeslag | F14: uren voor regeling | G14: verlofuren voor regeling | H14: voortzetting tijdens onbetaald ouderschapsverlof | I14: verlof uren onbetaald ouderschapsverlof | J14: voortzetting tijdens overig onbetaald verlof | K14: verlof uren overig onbetaald verlof | L14: normuren per week | M14: startdatum | N14: einddatum | O14: gewerkte dagen in periode | P14: deel periode | Q14: deel van jaar berekening | R14: normuren periode | S14: uren voor regeling, gemaximeerd | T14: gegevens correct? | U14: deeltijdfactor regeling | V14: deeltijdfactor onbetaald ouderschapsverlof | W14: FT jaarbasis ploegendiensttoeslag | X14: FT jaarsalaris incl ploegendiensttoeslag | Y14: FT franchise | Z14: FT max loon | AA14: FT max loon exc | AB14: fulltime premiegrondslag basis | AC14: parttime premiegrondslag periode | AD14: parttime premiegrondslag onbetaald ouderschapsverlof per periode | AE14: premie basisregeling | AF14: premiekorting onbetaald ouderschapsverlof per periode | AG14: totaal premie basisregeling periode | AH14: fulltime premiegrondslag excedent | AI14: premiegrondslag excedent periode | AJ14: premie excedent periode | AK14: verzekerd bedrag (gekozen) | AL14: premie volgens tabel | AM14: premie basisregeling totaal | AN14: premie excedent-regeling totaal | AO14: premie ANW-hiaat | AP14: totaal
A15: =IF(AND($B$5=12, COUNTIF($A$14:A14, 12)>1), "",IF(OR(AND($B$5=12, A14=12),AND($B$5=13, A14=13), A14 = "Periode"), 1, A14+1)) -> 1 | B15: =IF(OR(IF($B$5=13, rekenwaarden!D3, rekenwaarden!I3)<$B$6,IF($B$5=13, rekenwaarden!C3, rekenwaarden!H3)>$B$7),"",IF(A15="", "", IF($B$5=13, rekenwaarden!C3, rekenwaarden!H3))) -> 46388 | C15: =IF(B15="", "", IF($B$5=13, rekenwaarden!D3, rekenwaarden!I3)) -> 46418 | D15: 23328 | E15: 1000 | F15: 138.67 | G15: 20 | H15: ja | I15: 20 | J15: nee | K15: 0 | L15: 40 | M15: =IF(OR(MAX($B$6, B15)>C15, MIN($B$7, C15)<B15),"", MAX($B$6, B15)) -> 46388 | N15: =IF(OR(MAX($B$6, B15)>C15, MIN($B$7, C15)<B15),"", MIN($B$7, C15)) -> 46418 | O15: =IF(M15="","",IF($B$4=2,N15-M15+1,NETWORKDAYS(M15, N15))) -> 31 | P15: =IF(M15="", "", O15 / IF($B$4=2,(C15-B15+1), NETWORKDAYS(B15,C15))) -> 1 | Q15: =IF(M15="","", IF($B$4=2,P15/$B$5, IF($B$4=1,(O15/NETWORKDAYS(DATE(YEAR(M15),1,1), DATE(YEAR(N15),12,31))),0) )) -> 0.083333333 | R15: =(IF(M15="", "", L15*IF($B$4=2, 52/$B$5*P15, O15/5))) -> 173.33333 | S15: =MIN(F15,R15) -> 138.67 | T15: =IF(M15<>"", AND(D15<>"", F15<>"", L15<>""), AND(D15="", F15="", L15="")) -> TRUE | U15: =S15/R15 -> 0.80001923 | V15: =IF(H15="ja",I15,0)/R15 -> 0.11538462 | W15: =(E15/U15)/Q15 -> 14999.639 | X15: =W15+D15 -> 38327.639 | Y15: =franchise2027 -> 19172 | Z15: =MIN(maxloon2027+W15, maxloonexc2027) -> 89999.639 | AA15: =maxloonexc2027 -> 137800 | AB15: =MIN(X15,Z15,AA15)-Y15 -> 19155.639 | AC15: =AB15*U15*Q15 -> 1277.0733 | AD15: =AB15*V15*Q15 -> 184.18884 | AE15: =AC15*premiepct2027 -> 357.32512 | AF15: =AD15*premiepct2027*premiekort_ouderschapsverlof2027 -> 25.768019 | AG15: =AE15-AF15 -> 331.5571 | AH15: =IF(exc_regeling_jn,MAX(MIN(X15,AA15)-Z15, 0),"") -> 0 | AI15: =IF(exc_regeling_jn,AH15*U15*Q15,"") -> 0 | AJ15: =IF(exc_regeling_jn,AI15*gekozen_premie_exc2027,"") -> 0 | AK15: 18000 | AL15: =AK15/1000*VLOOKUP(leeftijd_deelnemer,'premie ANW-hiaat'!A$2:C$54,2,0)*VLOOKUP(leeftijd_partner,'premie ANW-hiaat'!A$2:C$54,3,0)*Q15 -> 33.22215 | AM15: =AG15 -> 331.5571 | AN15: =IF(exc_regeling_jn,AJ15,"") -> 0 | AO15: =AL15 -> 33.22215 | AP15: =SUM(AM15:AO15) -> 364.77925
A16: =IF(AND($B$5=12, COUNTIF($A$14:A15, 12)>1), "",IF(OR(AND($B$5=12, A15=12),AND($B$5=13, A15=13), A15 = "Periode"), 1, A15+1)) -> 2 | B16: =IF(OR(IF($B$5=13, rekenwaarden!D4, rekenwaarden!I4)<$B$6,IF($B$5=13, rekenwaarden!C4, rekenwaarden!H4)>$B$7),"",IF(A16="", "", IF($B$5=13, rekenwaarden!C4, rekenwaarden!H4))) -> 46419 | C16: =IF(B16="", "", IF($B$5=13, rekenwaarden!D4, rekenwaarden!I4)) -> 46446 | D16: 23328 | E16: 1000 | F16: 138.67 | G16: 0 | H16: nee | I16: 0 | J16: nee | K16: 0 | L16: 40 | M16: =IF(OR(MAX($B$6, B16)>C16, MIN($B$7, C16)<B16),"", MAX($B$6, B16)) -> 46419 | N16: =IF(OR(MAX($B$6, B16)>C16, MIN($B$7, C16)<B16),"", MIN($B$7, C16)) -> 46446 | O16: =IF(M16="","",IF($B$4=2,N16-M16+1,NETWORKDAYS(M16, N16))) -> 28 | P16: =IF(M16="", "", O16 / IF($B$4=2,(C16-B16+1), NETWORKDAYS(B16,C16))) -> 1 | Q16: =IF(M16="","", IF($B$4=2,P16/$B$5, IF($B$4=1,(O16/NETWORKDAYS(DATE(YEAR(M16),1,1), DATE(YEAR(N16),12,31))),0) )) -> 0.083333333 | R16: =ROUND((IF(M16="", "", L16*IF($B$4=2, 52/$B$5*P16, O16/5))),2) -> 173.33 | S16: =MIN(F16,R16) -> 138.67 | T16: =IF(M16<>"", AND(D16<>"", F16<>"", L16<>""), AND(D16="", F16="", L16="")) -> TRUE | U16: =S16/R16 -> 0.80003462 | V16: =IF(H16="ja",I16,0)/R16 -> 0 | W16: =(E16/U16)/Q16 -> 14999.351 | X16: =W16+D16 -> 38327.351 | Y16: =franchise2027 -> 19172 | Z16: =MIN(maxloon2027+W16, maxloonexc2027) -> 89999.351 | AA16: =maxloonexc2027 -> 137800 | AB16: =MIN(X16,Z16,AA16)-Y16 -> 19155.351 | AC16: =AB16*U16*Q16 -> 1277.0787 | AD16: =AB16*V16*Q16 -> 0 | AE16: =AC16*premiepct2027 -> 357.32661 | AF16: =AD16*premiepct2027*premiekort_ouderschapsverlof2027 -> 0 | AG16: =AE16-AF16 -> 357.32661 | AH16: =IF(exc_regeling_jn,MAX(MIN(X16,AA16)-Z16, 0),"") -> 0 | AI16: =IF(exc_regeling_jn,AH16*U16*Q16,"") -> 0 | AJ16: =IF(exc_regeling_jn,AI16*gekozen_premie_exc2027,"") -> 0 | AK16: 18000 | AL16: =AK16/1000*VLOOKUP(leeftijd_deelnemer,'premie ANW-hiaat'!A$2:C$54,2,0)*VLOOKUP(leeftijd_partner,'premie ANW-hiaat'!A$2:C$54,3,0)*Q16 -> 33.22215 | AM16: =AG16 -> 357.32661 | AN16: =IF(exc_regeling_jn,AJ16,"") -> 0 | AO16: =AL16 -> 33.22215 | AP16: =SUM(AM16:AO16) -> 390.54876
A17: =IF(AND($B$5=12, COUNTIF($A$14:A16, 12)>1), "",IF(OR(AND($B$5=12, A16=12),AND($B$5=13, A16=13), A16 = "Periode"), 1, A16+1)) -> 3 | B17: =IF(OR(IF($B$5=13, rekenwaarden!D5, rekenwaarden!I5)<$B$6,IF($B$5=13, rekenwaarden!C5, rekenwaarden!H5)>$B$7),"",IF(A17="", "", IF($B$5=13, rekenwaarden!C5, rekenwaarden!H5))) -> 46447 | C17: =IF(B17="", "", IF($B$5=13, rekenwaarden!D5, rekenwaarden!I5)) -> 46477 | D17: 23328 | E17: 1000 | F17: 138.67 | G17: 0 | H17: nee | I17: 0 | J17: nee | K17: 0 | L17: 40 | M17: =IF(OR(MAX($B$6, B17)>C17, MIN($B$7, C17)<B17),"", MAX($B$6, B17)) -> 46447 | N17: =IF(OR(MAX($B$6, B17)>C17, MIN($B$7, C17)<B17),"", MIN($B$7, C17)) -> 46477 | O17: =IF(M17="","",IF($B$4=2,N17-M17+1,NETWORKDAYS(M17, N17))) -> 31 | P17: =IF(M17="", "", O17 / IF($B$4=2,(C17-B17+1), NETWORKDAYS(B17,C17))) -> 1 | Q17: =IF(M17="","", IF($B$4=2,P17/$B$5, IF($B$4=1,(O17/NETWORKDAYS(DATE(YEAR(M17),1,1), DATE(YEAR(N17),12,31))),0) )) -> 0.083333333 | R17: =ROUND((IF(M17="", "", L17*IF($B$4=2, 52/$B$5*P17, O17/5))),2) -> 173.33 | S17: =MIN(F17,R17) -> 138.67 | T17: =IF(M17<>"", AND(D17<>"", F17<>"", L17<>""), AND(D17="", F17="", L17="")) -> TRUE | U17: =S17/R17 -> 0.80003462 | V17: =IF(H17="ja",I17,0)/R17 -> 0 | W17: =(E17/U17)/Q17 -> 14999.351 | X17: =W17+D17 -> 38327.351 | Y17: =franchise2027 -> 19172 | Z17: =MIN(maxloon2027+W17, maxloonexc2027) -> 89999.351 | AA17: =maxloonexc2027 -> 137800 | AB17: =MIN(X17,Z17,AA17)-Y17 -> 19155.351 | AC17: =AB17*U17*Q17 -> 1277.0787 | AD17: =AB17*V17*Q17 -> 0 | AE17: =AC17*premiepct2027 -> 357.32661 | AF17: =AD17*premiepct2027*premiekort_ouderschapsverlof2027 -> 0 | AG17: =AE17-AF17 -> 357.32661 | AH17: =IF(exc_regeling_jn,MAX(MIN(X17,AA17)-Z17, 0),"") -> 0 | AI17: =IF(exc_regeling_jn,AH17*U17*Q17,"") -> 0 | AJ17: =IF(exc_regeling_jn,AI17*gekozen_premie_exc2027,"") -> 0 | AK17: 18000 | AL17: =AK17/1000*VLOOKUP(leeftijd_deelnemer,'premie ANW-hiaat'!A$2:C$54,2,0)*VLOOKUP(leeftijd_partner,'premie ANW-hiaat'!A$2:C$54,3,0)*Q17 -> 33.22215 | AM17: =AG17 -> 357.32661 | AN17: =IF(exc_regeling_jn,AJ17,"") -> 0 | AO17: =AL17 -> 33.22215 | AP17: =SUM(AM17:AO17) -> 390.54876
A18: =IF(AND($B$5=12, COUNTIF($A$14:A17, 12)>1), "",IF(OR(AND($B$5=12, A17=12),AND($B$5=13, A17=13), A17 = "Periode"), 1, A17+1)) -> 4 | B18: =IF(OR(IF($B$5=13, rekenwaarden!D6, rekenwaarden!I6)<$B$6,IF($B$5=13, rekenwaarden!C6, rekenwaarden!H6)>$B$7),"",IF(A18="", "", IF($B$5=13, rekenwaarden!C6, rekenwaarden!H6))) -> 46478 | C18: =IF(B18="", "", IF($B$5=13, rekenwaarden!D6, rekenwaarden!I6)) -> 46507 | D18: 23328 | E18: 1000 | F18: 138.67 | G18: 20 | H18: nee | I18: 20 | J18: ja | K18: 20 | L18: 40 | M18: =IF(OR(MAX($B$6, B18)>C18, MIN($B$7, C18)<B18),"", MAX($B$6, B18)) -> 46478 | N18: =IF(OR(MAX($B$6, B18)>C18, MIN($B$7, C18)<B18),"", MIN($B$7, C18)) -> 46507 | O18: =IF(M18="","",IF($B$4=2,N18-M18+1,NETWORKDAYS(M18, N18))) -> 30 | P18: =IF(M18="", "", O18 / IF($B$4=2,(C18-B18+1), NETWORKDAYS(B18,C18))) -> 1 | Q18: =IF(M18="","", IF($B$4=2,P18/$B$5, IF($B$4=1,(O18/NETWORKDAYS(DATE(YEAR(M18),1,1), DATE(YEAR(N18),12,31))),0) )) -> 0.083333333 | R18: =ROUND((IF(M18="", "", L18*IF($B$4=2, 52/$B$5*P18, O18/5))),2) -> 173.33 | S18: =MIN(F18,R18) -> 138.67 | T18: =IF(M18<>"", AND(D18<>"", F18<>"", L18<>""), AND(D18="", F18="", L18="")) -> TRUE | U18: =S18/R18 -> 0.80003462 | V18: =IF(H18="ja",I18,0)/R18 -> 0 | W18: =(E18/U18)/Q18 -> 14999.351 | X18: =W18+D18 -> 38327.351 | Y18: =franchise2027 -> 19172 | Z18: =MIN(maxloon2027+W18, maxloonexc2027) -> 89999.351 | AA18: =maxloonexc2027 -> 137800 | AB18: =MIN(X18,Z18,AA18)-Y18 -> 19155.351 | AC18: =AB18*U18*Q18 -> 1277.0787 | AD18: =AB18*V18*Q18 -> 0 | AE18: =AC18*premiepct2027 -> 357.32661 | AF18: =AD18*premiepct2027*premiekort_ouderschapsverlof2027 -> 0 | AG18: =AE18-AF18 -> 357.32661 | AH18: =IF(exc_regeling_jn,MAX(MIN(X18,AA18)-Z18, 0),"") -> 0 | AI18: =IF(exc_regeling_jn,AH18*U18*Q18,"") -> 0 | AJ18: =IF(exc_regeling_jn,AI18*gekozen_premie_exc2027,"") -> 0 | AK18: 18000 | AL18: =AK18/1000*VLOOKUP(leeftijd_deelnemer,'premie ANW-hiaat'!A$2:C$54,2,0)*VLOOKUP(leeftijd_partner,'premie ANW-hiaat'!A$2:C$54,3,0)*Q18 -> 33.22215 | AM18: =AG18 -> 357.32661 | AN18: =IF(exc_regeling_jn,AJ18,"") -> 0 | AO18: =AL18 -> 33.22215 | AP18: =SUM(AM18:AO18) -> 390.54876
A19: =IF(AND($B$5=12, COUNTIF($A$14:A18, 12)>1), "",IF(OR(AND($B$5=12, A18=12),AND($B$5=13, A18=13), A18 = "Periode"), 1, A18+1)) -> 5 | B19: =IF(OR(IF($B$5=13, rekenwaarden!D7, rekenwaarden!I7)<$B$6,IF($B$5=13, rekenwaarden!C7, rekenwaarden!H7)>$B$7),"",IF(A19="", "", IF($B$5=13, rekenwaarden!C7, rekenwaarden!H7))) -> 46508 | C19: =IF(B19="", "", IF($B$5=13, rekenwaarden!D7, rekenwaarden!I7)) -> 46538 | D19: 23328 | E19: 1000 | F19: 138.67 | G19: 40 | H19: ja | I19: 20 | J19: ja | K19: 20 | L19: 40 | M19: =IF(OR(MAX($B$6, B19)>C19, MIN($B$7, C19)<B19),"", MAX($B$6, B19)) -> 46508 | N19: =IF(OR(MAX($B$6, B19)>C19, MIN($B$7, C19)<B19),"", MIN($B$7, C19)) -> 46538 | O19: =IF(M19="","",IF($B$4=2,N19-M19+1,NETWORKDAYS(M19, N19))) -> 31 | P19: =IF(M19="", "", O19 / IF($B$4=2,(C19-B19+1), NETWORKDAYS(B19,C19))) -> 1 | Q19: =IF(M19="","", IF($B$4=2,P19/$B$5, IF($B$4=1,(O19/NETWORKDAYS(DATE(YEAR(M19),1,1), DATE(YEAR(N19),12,31))),0) )) -> 0.083333333 | R19: =ROUND((IF(M19="", "", L19*IF($B$4=2, 52/$B$5*P19, O19/5))),2) -> 173.33 | S19: =MIN(F19,R19) -> 138.67 | T19: =IF(M19<>"", AND(D19<>"", F19<>"", L19<>""), AND(D19="", F19="", L19="")) -> TRUE | U19: =S19/R19 -> 0.80003462 | V19: =IF(H19="ja",I19,0)/R19 -> 0.11538683 | W19: =(E19/U19)/Q19 -> 14999.351 | X19: =W19+D19 -> 38327.351 | Y19: =franchise2027 -> 19172 | Z19: =MIN(maxloon2027+W19, maxloonexc2027) -> 89999.351 | AA19: =maxloonexc2027 -> 137800 | AB19: =MIN(X19,Z19,AA19)-Y19 -> 19155.351 | AC19: =AB19*U19*Q19 -> 1277.0787 | AD19: =AB19*V19*Q19 -> 184.18961 | AE19: =AC19*premiepct2027 -> 357.32661 | AF19: =AD19*premiepct2027*premiekort_ouderschapsverlof2027 -> 25.768126 | AG19: =AE19-AF19 -> 331.55848 | AH19: =IF(exc_regeling_jn,MAX(MIN(X19,AA19)-Z19, 0),"") -> 0 | AI19: =IF(exc_regeling_jn,AH19*U19*Q19,"") -> 0 | AJ19: =IF(exc_regeling_jn,AI19*gekozen_premie_exc2027,"") -> 0 | AK19: 18000 | AL19: =AK19/1000*VLOOKUP(leeftijd_deelnemer,'premie ANW-hiaat'!A$2:C$54,2,0)*VLOOKUP(leeftijd_partner,'premie ANW-hiaat'!A$2:C$54,3,0)*Q19 -> 33.22215 | AM19: =AG19 -> 331.55848 | AN19: =IF(exc_regeling_jn,AJ19,"") -> 0 | AO19: =AL19 -> 33.22215 | AP19: =SUM(AM19:AO19) -> 364.78063
A20: =IF(AND($B$5=12, COUNTIF($A$14:A19, 12)>1), "",IF(OR(AND($B$5=12, A19=12),AND($B$5=13, A19=13), A19 = "Periode"), 1, A19+1)) -> 6 | B20: =IF(OR(IF($B$5=13, rekenwaarden!D8, rekenwaarden!I8)<$B$6,IF($B$5=13, rekenwaarden!C8, rekenwaarden!H8)>$B$7),"",IF(A20="", "", IF($B$5=13, rekenwaarden!C8, rekenwaarden!H8))) -> 46539 | C20: =IF(B20="", "", IF($B$5=13, rekenwaarden!D8, rekenwaarden!I8)) -> 46568 | D20: 23328 | E20: 1000 | F20: 138.67 | G20: 20 | H20: nee | I20: 20 | J20: ja | K20: 20 | L20: 40 | M20: =IF(OR(MAX($B$6, B20)>C20, MIN($B$7, C20)<B20),"", MAX($B$6, B20)) -> 46539 | N20: =IF(OR(MAX($B$6, B20)>C20, MIN($B$7, C20)<B20),"", MIN($B$7, C20)) -> 46568 | O20: =IF(M20="","",IF($B$4=2,N20-M20+1,NETWORKDAYS(M20, N20))) -> 30 | P20: =IF(M20="", "", O20 / IF($B$4=2,(C20-B20+1), NETWORKDAYS(B20,C20))) -> 1 | Q20: =IF(M20="","", IF($B$4=2,P20/$B$5, IF($B$4=1,(O20/NETWORKDAYS(DATE(YEAR(M20),1,1), DATE(YEAR(N20),12,31))),0) )) -> 0.083333333 | R20: =ROUND((IF(M20="", "", L20*IF($B$4=2, 52/$B$5*P20, O20/5))),2) -> 173.33 | S20: =MIN(F20,R20) -> 138.67 | T20: =IF(M20<>"", AND(D20<>"", F20<>"", L20<>""), AND(D20="", F20="", L20="")) -> TRUE | U20: =S20/R20 -> 0.80003462 | V20: =IF(H20="ja",I20,0)/R20 -> 0 | W20: =(E20/U20)/Q20 -> 14999.351 | X20: =W20+D20 -> 38327.351 | Y20: =franchise2027 -> 19172 | Z20: =MIN(maxloon2027+W20, maxloonexc2027) -> 89999.351 | AA20: =maxloonexc2027 -> 137800 | AB20: =MIN(X20,Z20,AA20)-Y20 -> 19155.351 | AC20: =AB20*U20*Q20 -> 1277.0787 | AD20: =AB20*V20*Q20 -> 0 | AE20: =AC20*premiepct2027 -> 357.32661 | AF20: =AD20*premiepct2027*premiekort_ouderschapsverlof2027 -> 0 | AG20: =AE20-AF20 -> 357.32661 | AH20: =IF(exc_regeling_jn,MAX(MIN(X20,AA20)-Z20, 0),"") -> 0 | AI20: =IF(exc_regeling_jn,AH20*U20*Q20,"") -> 0 | AJ20: =IF(exc_regeling_jn,AI20*gekozen_premie_exc2027,"") -> 0 | AK20: 18000 | AL20: =AK20/1000*VLOOKUP(leeftijd_deelnemer,'premie ANW-hiaat'!A$2:C$54,2,0)*VLOOKUP(leeftijd_partner,'premie ANW-hiaat'!A$2:C$54,3,0)*Q20 -> 33.22215 | AM20: =AG20 -> 357.32661 | AN20: =IF(exc_regeling_jn,AJ20,"") -> 0 | AO20: =AL20 -> 33.22215 | AP20: =SUM(AM20:AO20) -> 390.54876
A21: =IF(AND($B$5=12, COUNTIF($A$14:A20, 12)>1), "",IF(OR(AND($B$5=12, A20=12),AND($B$5=13, A20=13), A20 = "Periode"), 1, A20+1)) -> 7 | B21: =IF(OR(IF($B$5=13, rekenwaarden!D9, rekenwaarden!I9)<$B$6,IF($B$5=13, rekenwaarden!C9, rekenwaarden!H9)>$B$7),"",IF(A21="", "", IF($B$5=13, rekenwaarden!C9, rekenwaarden!H9))) -> 46569 | C21: =IF(B21="", "", IF($B$5=13, rekenwaarden!D9, rekenwaarden!I9)) -> 46599 | D21: 23328 | E21: 1000 | F21: 138.67 | G21: 20 | H21: ja | I21: 20 | J21: nee | K21: 20 | L21: 40 | M21: =IF(OR(MAX($B$6, B21)>C21, MIN($B$7, C21)<B21),"", MAX($B$6, B21)) -> 46569 | N21: =IF(OR(MAX($B$6, B21)>C21, MIN($B$7, C21)<B21),"", MIN($B$7, C21)) -> 46599 | O21: =IF(M21="","",IF($B$4=2,N21-M21+1,NETWORKDAYS(M21, N21))) -> 31 | P21: =IF(M21="", "", O21 / IF($B$4=2,(C21-B21+1), NETWORKDAYS(B21,C21))) -> 1 | Q21: =IF(M21="","", IF($B$4=2,P21/$B$5, IF($B$4=1,(O21/NETWORKDAYS(DATE(YEAR(M21),1,1), DATE(YEAR(N21),12,31))),0) )) -> 0.083333333 | R21: =ROUND((IF(M21="", "", L21*IF($B$4=2, 52/$B$5*P21, O21/5))),2) -> 173.33 | S21: =MIN(F21,R21) -> 138.67 | T21: =IF(M21<>"", AND(D21<>"", F21<>"", L21<>""), AND(D21="", F21="", L21="")) -> TRUE | U21: =S21/R21 -> 0.80003462 | V21: =IF(H21="ja",I21,0)/R21 -> 0.11538683 | W21: =(E21/U21)/Q21 -> 14999.351 | X21: =W21+D21 -> 38327.351 | Y21: =franchise2027 -> 19172 | Z21: =MIN(maxloon2027+W21, maxloonexc2027) -> 89999.351 | AA21: =maxloonexc2027 -> 137800 | AB21: =MIN(X21,Z21,AA21)-Y21 -> 19155.351 | AC21: =AB21*U21*Q21 -> 1277.0787 | AD21: =AB21*V21*Q21 -> 184.18961 | AE21: =AC21*premiepct2027 -> 357.32661 | AF21: =AD21*premiepct2027*premiekort_ouderschapsverlof2027 -> 25.768126 | AG21: =AE21-AF21 -> 331.55848 | AH21: =IF(exc_regeling_jn,MAX(MIN(X21,AA21)-Z21, 0),"") -> 0 | AI21: =IF(exc_regeling_jn,AH21*U21*Q21,"") -> 0 | AJ21: =IF(exc_regeling_jn,AI21*gekozen_premie_exc2027,"") -> 0 | AK21: 18000 | AL21: =AK21/1000*VLOOKUP(leeftijd_deelnemer,'premie ANW-hiaat'!A$2:C$54,2,0)*VLOOKUP(leeftijd_partner,'premie ANW-hiaat'!A$2:C$54,3,0)*Q21 -> 33.22215 | AM21: =AG21 -> 331.55848 | AN21: =IF(exc_regeling_jn,AJ21,"") -> 0 | AO21: =AL21 -> 33.22215 | AP21: =SUM(AM21:AO21) -> 364.78063
A22: =IF(AND($B$5=12, COUNTIF($A$14:A21, 12)>1), "",IF(OR(AND($B$5=12, A21=12),AND($B$5=13, A21=13), A21 = "Periode"), 1, A21+1)) -> 8 | B22: =IF(OR(IF($B$5=13, rekenwaarden!D10, rekenwaarden!I10)<$B$6,IF($B$5=13, rekenwaarden!C10, rekenwaarden!H10)>$B$7),"",IF(A22="", "", IF($B$5=13, rekenwaarden!C10, rekenwaarden!H10))) -> 46600 | C22: =IF(B22="", "", IF($B$5=13, rekenwaarden!D10, rekenwaarden!I10)) -> 46630 | D22: 23328 | E22: 1000 | F22: 138.67 | G22: 40 | H22: ja | I22: 40 | J22: nee | K22: 0 | L22: 40 | M22: =IF(OR(MAX($B$6, B22)>C22, MIN($B$7, C22)<B22),"", MAX($B$6, B22)) -> 46600 | N22: =IF(OR(MAX($B$6, B22)>C22, MIN($B$7, C22)<B22),"", MIN($B$7, C22)) -> 46630 | O22: =IF(M22="","",IF($B$4=2,N22-M22+1,NETWORKDAYS(M22, N22))) -> 31 | P22: =IF(M22="", "", O22 / IF($B$4=2,(C22-B22+1), NETWORKDAYS(B22,C22))) -> 1 | Q22: =IF(M22="","", IF($B$4=2,P22/$B$5, IF($B$4=1,(O22/NETWORKDAYS(DATE(YEAR(M22),1,1), DATE(YEAR(N22),12,31))),0) )) -> 0.083333333 | R22: =ROUND((IF(M22="", "", L22*IF($B$4=2, 52/$B$5*P22, O22/5))),2) -> 173.33 | S22: =MIN(F22,R22) -> 138.67 | T22: =IF(M22<>"", AND(D22<>"", F22<>"", L22<>""), AND(D22="", F22="", L22="")) -> TRUE | U22: =S22/R22 -> 0.80003462 | V22: =IF(H22="ja",I22,0)/R22 -> 0.23077367 | W22: =(E22/U22)/Q22 -> 14999.351 | X22: =W22+D22 -> 38327.351 | Y22: =franchise2027 -> 19172 | Z22: =MIN(maxloon2027+W22, maxloonexc2027) -> 89999.351 | AA22: =maxloonexc2027 -> 137800 | AB22: =MIN(X22,Z22,AA22)-Y22 -> 19155.351 | AC22: =AB22*U22*Q22 -> 1277.0787 | AD22: =AB22*V22*Q22 -> 368.37922 | AE22: =AC22*premiepct2027 -> 357.32661 | AF22: =AD22*premiepct2027*premiekort_ouderschapsverlof2027 -> 51.536253 | AG22: =AE22-AF22 -> 305.79036 | AH22: =IF(exc_regeling_jn,MAX(MIN(X22,AA22)-Z22, 0),"") -> 0 | AI22: =IF(exc_regeling_jn,AH22*U22*Q22,"") -> 0 | AJ22: =IF(exc_regeling_jn,AI22*gekozen_premie_exc2027,"") -> 0 | AK22: 18000 | AL22: =AK22/1000*VLOOKUP(leeftijd_deelnemer,'premie ANW-hiaat'!A$2:C$54,2,0)*VLOOKUP(leeftijd_partner,'premie ANW-hiaat'!A$2:C$54,3,0)*Q22 -> 33.22215 | AM22: =AG22 -> 305.79036 | AN22: =IF(exc_regeling_jn,AJ22,"") -> 0 | AO22: =AL22 -> 33.22215 | AP22: =SUM(AM22:AO22) -> 339.01251
A23: =IF(AND($B$5=12, COUNTIF($A$14:A22, 12)>1), "",IF(OR(AND($B$5=12, A22=12),AND($B$5=13, A22=13), A22 = "Periode"), 1, A22+1)) -> 9 | B23: =IF(OR(IF($B$5=13, rekenwaarden!D11, rekenwaarden!I11)<$B$6,IF($B$5=13, rekenwaarden!C11, rekenwaarden!H11)>$B$7),"",IF(A23="", "", IF($B$5=13, rekenwaarden!C11, rekenwaarden!H11))) -> 46631 | C23: =IF(B23="", "", IF($B$5=13, rekenwaarden!D11, rekenwaarden!I11)) -> 46660 | D23: 23328 | E23: 1000 | F23: 138.67 | G23: 0 | H23: nee | I23: 0 | J23: nee | K23: 0 | L23: 40 | M23: =IF(OR(MAX($B$6, B23)>C23, MIN($B$7, C23)<B23),"", MAX($B$6, B23)) -> 46631 | N23: =IF(OR(MAX($B$6, B23)>C23, MIN($B$7, C23)<B23),"", MIN($B$7, C23)) -> 46660 | O23: =IF(M23="","",IF($B$4=2,N23-M23+1,NETWORKDAYS(M23, N23))) -> 30 | P23: =IF(M23="", "", O23 / IF($B$4=2,(C23-B23+1), NETWORKDAYS(B23,C23))) -> 1 | Q23: =IF(M23="","", IF($B$4=2,P23/$B$5, IF($B$4=1,(O23/NETWORKDAYS(DATE(YEAR(M23),1,1), DATE(YEAR(N23),12,31))),0) )) -> 0.083333333 | R23: =ROUND((IF(M23="", "", L23*IF($B$4=2, 52/$B$5*P23, O23/5))),2) -> 173.33 | S23: =MIN(F23,R23) -> 138.67 | T23: =IF(M23<>"", AND(D23<>"", F23<>"", L23<>""), AND(D23="", F23="", L23="")) -> TRUE | U23: =S23/R23 -> 0.80003462 | V23: =IF(H23="ja",I23,0)/R23 -> 0 | W23: =(E23/U23)/Q23 -> 14999.351 | X23: =W23+D23 -> 38327.351 | Y23: =franchise2027 -> 19172 | Z23: =MIN(maxloon2027+W23, maxloonexc2027) -> 89999.351 | AA23: =maxloonexc2027 -> 137800 | AB23: =MIN(X23,Z23,AA23)-Y23 -> 19155.351 | AC23: =AB23*U23*Q23 -> 1277.0787 | AD23: =AB23*V23*Q23 -> 0 | AE23: =AC23*premiepct2027 -> 357.32661 | AF23: =AD23*premiepct2027*premiekort_ouderschapsverlof2027 -> 0 | AG23: =AE23-AF23 -> 357.32661 | AH23: =IF(exc_regeling_jn,MAX(MIN(X23,AA23)-Z23, 0),"") -> 0 | AI23: =IF(exc_regeling_jn,AH23*U23*Q23,"") -> 0 | AJ23: =IF(exc_regeling_jn,AI23*gekozen_premie_exc2027,"") -> 0 | AK23: 18000 | AL23: =AK23/1000*VLOOKUP(leeftijd_deelnemer,'premie ANW-hiaat'!A$2:C$54,2,0)*VLOOKUP(leeftijd_partner,'premie ANW-hiaat'!A$2:C$54,3,0)*Q23 -> 33.22215 | AM23: =AG23 -> 357.32661 | AN23: =IF(exc_regeling_jn,AJ23,"") -> 0 | AO23: =AL23 -> 33.22215 | AP23: =SUM(AM23:AO23) -> 390.54876
A24: =IF(AND($B$5=12, COUNTIF($A$14:A23, 12)>1), "",IF(OR(AND($B$5=12, A23=12),AND($B$5=13, A23=13), A23 = "Periode"), 1, A23+1)) -> 10 | B24: =IF(OR(IF($B$5=13, rekenwaarden!D12, rekenwaarden!I12)<$B$6,IF($B$5=13, rekenwaarden!C12, rekenwaarden!H12)>$B$7),"",IF(A24="", "", IF($B$5=13, rekenwaarden!C12, rekenwaarden!H12))) -> 46661 | C24: =IF(B24="", "", IF($B$5=13, rekenwaarden!D12, rekenwaarden!I12)) -> 46691 | D24: 23328 | E24: 1000 | F24: 138.67 | G24: 0 | H24: nee | I24: 0 | J24: nee | K24: 0 | L24: 40 | M24: =IF(OR(MAX($B$6, B24)>C24, MIN($B$7, C24)<B24),"", MAX($B$6, B24)) -> 46661 | N24: =IF(OR(MAX($B$6, B24)>C24, MIN($B$7, C24)<B24),"", MIN($B$7, C24)) -> 46691 | O24: =IF(M24="","",IF($B$4=2,N24-M24+1,NETWORKDAYS(M24, N24))) -> 31 | P24: =IF(M24="", "", O24 / IF($B$4=2,(C24-B24+1), NETWORKDAYS(B24,C24))) -> 1 | Q24: =IF(M24="","", IF($B$4=2,P24/$B$5, IF($B$4=1,(O24/NETWORKDAYS(DATE(YEAR(M24),1,1), DATE(YEAR(N24),12,31))),0) )) -> 0.083333333 | R24: =ROUND((IF(M24="", "", L24*IF($B$4=2, 52/$B$5*P24, O24/5))),2) -> 173.33 | S24: =MIN(F24,R24) -> 138.67 | T24: =IF(M24<>"", AND(D24<>"", F24<>"", L24<>""), AND(D24="", F24="", L24="")) -> TRUE | U24: =S24/R24 -> 0.80003462 | V24: =IF(H24="ja",I24,0)/R24 -> 0 | W24: =(E24/U24)/Q24 -> 14999.351 | X24: =W24+D24 -> 38327.351 | Y24: =franchise2027 -> 19172 | Z24: =MIN(maxloon2027+W24, maxloonexc2027) -> 89999.351 | AA24: =maxloonexc2027 -> 137800 | AB24: =MIN(X24,Z24,AA24)-Y24 -> 19155.351 | AC24: =AB24*U24*Q24 -> 1277.0787 | AD24: =AB24*V24*Q24 -> 0 | AE24: =AC24*premiepct2027 -> 357.32661 | AF24: =AD24*premiepct2027*premiekort_ouderschapsverlof2027 -> 0 | AG24: =AE24-AF24 -> 357.32661 | AH24: =IF(exc_regeling_jn,MAX(MIN(X24,AA24)-Z24, 0),"") -> 0 | AI24: =IF(exc_regeling_jn,AH24*U24*Q24,"") -> 0 | AJ24: =IF(exc_regeling_jn,AI24*gekozen_premie_exc2027,"") -> 0 | AK24: 18000 | AL24: =AK24/1000*VLOOKUP(leeftijd_deelnemer,'premie ANW-hiaat'!A$2:C$54,2,0)*VLOOKUP(leeftijd_partner,'premie ANW-hiaat'!A$2:C$54,3,0)*Q24 -> 33.22215 | AM24: =AG24 -> 357.32661 | AN24: =IF(exc_regeling_jn,AJ24,"") -> 0 | AO24: =AL24 -> 33.22215 | AP24: =SUM(AM24:AO24) -> 390.54876
A25: =IF(AND($B$5=12, COUNTIF($A$14:A24, 12)>1), "",IF(OR(AND($B$5=12, A24=12),AND($B$5=13, A24=13), A24 = "Periode"), 1, A24+1)) -> 11 | B25: =IF(OR(IF($B$5=13, rekenwaarden!D13, rekenwaarden!I13)<$B$6,IF($B$5=13, rekenwaarden!C13, rekenwaarden!H13)>$B$7),"",IF(A25="", "", IF($B$5=13, rekenwaarden!C13, rekenwaarden!H13))) -> 46692 | C25: =IF(B25="", "", IF($B$5=13, rekenwaarden!D13, rekenwaarden!I13)) -> 46721 | D25: 23328 | E25: 1000 | F25: 138.67 | G25: 0 | H25: nee | I25: 0 | J25: nee | K25: 0 | L25: 40 | M25: =IF(OR(MAX($B$6, B25)>C25, MIN($B$7, C25)<B25),"", MAX($B$6, B25)) -> 46692 | N25: =IF(OR(MAX($B$6, B25)>C25, MIN($B$7, C25)<B25),"", MIN($B$7, C25)) -> 46721 | O25: =IF(M25="","",IF($B$4=2,N25-M25+1,NETWORKDAYS(M25, N25))) -> 30 | P25: =IF(M25="", "", O25 / IF($B$4=2,(C25-B25+1), NETWORKDAYS(B25,C25))) -> 1 | Q25: =IF(M25="","", IF($B$4=2,P25/$B$5, IF($B$4=1,(O25/NETWORKDAYS(DATE(YEAR(M25),1,1), DATE(YEAR(N25),12,31))),0) )) -> 0.083333333 | R25: =ROUND((IF(M25="", "", L25*IF($B$4=2, 52/$B$5*P25, O25/5))),2) -> 173.33 | S25: =MIN(F25,R25) -> 138.67 | T25: =IF(M25<>"", AND(D25<>"", F25<>"", L25<>""), AND(D25="", F25="", L25="")) -> TRUE | U25: =S25/R25 -> 0.80003462 | V25: =IF(H25="ja",I25,0)/R25 -> 0 | W25: =(E25/U25)/Q25 -> 14999.351 | X25: =W25+D25 -> 38327.351 | Y25: =franchise2027 -> 19172 | Z25: =MIN(maxloon2027+W25, maxloonexc2027) -> 89999.351 | AA25: =maxloonexc2027 -> 137800 | AB25: =MIN(X25,Z25,AA25)-Y25 -> 19155.351 | AC25: =AB25*U25*Q25 -> 1277.0787 | AD25: =AB25*V25*Q25 -> 0 | AE25: =AC25*premiepct2027 -> 357.32661 | AF25: =AD25*premiepct2027*premiekort_ouderschapsverlof2027 -> 0 | AG25: =AE25-AF25 -> 357.32661 | AH25: =IF(exc_regeling_jn,MAX(MIN(X25,AA25)-Z25, 0),"") -> 0 | AI25: =IF(exc_regeling_jn,AH25*U25*Q25,"") -> 0 | AJ25: =IF(exc_regeling_jn,AI25*gekozen_premie_exc2027,"") -> 0 | AK25: 18000 | AL25: =AK25/1000*VLOOKUP(leeftijd_deelnemer,'premie ANW-hiaat'!A$2:C$54,2,0)*VLOOKUP(leeftijd_partner,'premie ANW-hiaat'!A$2:C$54,3,0)*Q25 -> 33.22215 | AM25: =AG25 -> 357.32661 | AN25: =IF(exc_regeling_jn,AJ25,"") -> 0 | AO25: =AL25 -> 33.22215 | AP25: =SUM(AM25:AO25) -> 390.54876
A26: =IF(AND($B$5=12, COUNTIF($A$14:A25, 12)>1), "",IF(OR(AND($B$5=12, A25=12),AND($B$5=13, A25=13), A25 = "Periode"), 1, A25+1)) -> 12 | B26: =IF(OR(IF($B$5=13, rekenwaarden!D14, rekenwaarden!I14)<$B$6,IF($B$5=13, rekenwaarden!C14, rekenwaarden!H14)>$B$7),"",IF(A26="", "", IF($B$5=13, rekenwaarden!C14, rekenwaarden!H14))) -> 46722 | C26: =IF(B26="", "", IF($B$5=13, rekenwaarden!D14, rekenwaarden!I14)) -> 46752 | D26: 23328 | E26: 1000 | F26: 138.67 | G26: 0 | H26: nee | I26: 0 | J26: nee | K26: 0 | L26: 40 | M26: =IF(OR(MAX($B$6, B26)>C26, MIN($B$7, C26)<B26),"", MAX($B$6, B26)) -> 46722 | N26: =IF(OR(MAX($B$6, B26)>C26, MIN($B$7, C26)<B26),"", MIN($B$7, C26)) -> 46752 | O26: =IF(M26="","",IF($B$4=2,N26-M26+1,NETWORKDAYS(M26, N26))) -> 31 | P26: =IF(M26="", "", O26 / IF($B$4=2,(C26-B26+1), NETWORKDAYS(B26,C26))) -> 1 | Q26: =IF(M26="","", IF($B$4=2,P26/$B$5, IF($B$4=1,(O26/NETWORKDAYS(DATE(YEAR(M26),1,1), DATE(YEAR(N26),12,31))),0) )) -> 0.083333333 | R26: =ROUND((IF(M26="", "", L26*IF($B$4=2, 52/$B$5*P26, O26/5))),2) -> 173.33 | S26: =MIN(F26,R26) -> 138.67 | T26: =IF(M26<>"", AND(D26<>"", F26<>"", L26<>""), AND(D26="", F26="", L26="")) -> TRUE | U26: =S26/R26 -> 0.80003462 | V26: =IF(H26="ja",I26,0)/R26 -> 0 | W26: =(E26/U26)/Q26 -> 14999.351 | X26: =W26+D26 -> 38327.351 | Y26: =franchise2027 -> 19172 | Z26: =MIN(maxloon2027+W26, maxloonexc2027) -> 89999.351 | AA26: =maxloonexc2027 -> 137800 | AB26: =MIN(X26,Z26,AA26)-Y26 -> 19155.351 | AC26: =AB26*U26*Q26 -> 1277.0787 | AD26: =AB26*V26*Q26 -> 0 | AE26: =AC26*premiepct2027 -> 357.32661 | AF26: =AD26*premiepct2027*premiekort_ouderschapsverlof2027 -> 0 | AG26: =AE26-AF26 -> 357.32661 | AH26: =IF(exc_regeling_jn,MAX(MIN(X26,AA26)-Z26, 0),"") -> 0 | AI26: =IF(exc_regeling_jn,AH26*U26*Q26,"") -> 0 | AJ26: =IF(exc_regeling_jn,AI26*gekozen_premie_exc2027,"") -> 0 | AK26: 18000 | AL26: =AK26/1000*VLOOKUP(leeftijd_deelnemer,'premie ANW-hiaat'!A$2:C$54,2,0)*VLOOKUP(leeftijd_partner,'premie ANW-hiaat'!A$2:C$54,3,0)*Q26 -> 33.22215 | AM26: =AG26 -> 357.32661 | AN26: =IF(exc_regeling_jn,AJ26,"") -> 0 | AO26: =AL26 -> 33.22215 | AP26: =SUM(AM26:AO26) -> 390.54876
A27: =IF(AND($B$5=12, COUNTIF($A$14:A26, 12)>1), "",IF(OR(AND($B$5=12, A26=12),AND($B$5=13, A26=13), A26 = "Periode"), 1, A26+1)) -> 1 | B27: =IF(OR(IF($B$5=13, rekenwaarden!D15, rekenwaarden!I15)<$B$6,IF($B$5=13, rekenwaarden!C15, rekenwaarden!H15)>$B$7),"",IF(A27="", "", IF($B$5=13, rekenwaarden!C15, rekenwaarden!H15))) -> 46753 | C27: =IF(B27="", "", IF($B$5=13, rekenwaarden!D15, rekenwaarden!I15)) -> 46783 | D27: 25000 | E27: 2000 | F27: 173.33 | G27: 0 | H27: nee | I27: 0 | J27: nee | K27: 0 | L27: 40 | M27: =IF(OR(MAX($B$6, B27)>C27, MIN($B$7, C27)<B27),"", MAX($B$6, B27)) -> 46753 | N27: =IF(OR(MAX($B$6, B27)>C27, MIN($B$7, C27)<B27),"", MIN($B$7, C27)) -> 46783 | O27: =IF(M27="","",IF($B$4=2,N27-M27+1,NETWORKDAYS(M27, N27))) -> 31 | P27: =IF(M27="", "", O27 / IF($B$4=2,(C27-B27+1), NETWORKDAYS(B27,C27))) -> 1 | Q27: =IF(M27="","", IF($B$4=2,P27/$B$5, IF($B$4=1,(O27/NETWORKDAYS(DATE(YEAR(M27),1,1), DATE(YEAR(N27),12,31))),0) )) -> 0.083333333 | R27: =ROUND((IF(M27="", "", L27*IF($B$4=2, 52/$B$5*P27, O27/5))),2) -> 173.33 | S27: =MIN(F27,R27) -> 173.33 | T27: =IF(M27<>"", AND(D27<>"", F27<>"", L27<>""), AND(D27="", F27="", L27="")) -> TRUE | U27: =S27/R27 -> 1 | V27: =IF(H27="ja",I27,0)/R27 -> 0 | W27: =(E27/U27)/Q27 -> 24000 | X27: =W27+D27 -> 49000 | Y27: =franchise2028 -> 19172 | Z27: =MIN(maxloon2028+W27, maxloonexc2028) -> 119000 | AA27: =maxloonexc2028 -> 137800 | AB27: =MIN(X27,Z27,AA27)-Y27 -> 29828 | AC27: =AB27*U27*Q27 -> 2485.6667 | AD27: =AB27*V27*Q27 -> 0 | AE27: =AC27*premiepct2028 -> 695.48953 | AF27: =AD27*premiepct2028*premiekort_ouderschapsverlof2028 -> 0 | AG27: =AE27-AF27 -> 695.48953 | AH27: =IF(exc_regeling_jn,MAX(MIN(X27,AA27)-Z27, 0),"") -> 0 | AI27: =IF(exc_regeling_jn,AH27*U27*Q27,"") -> 0 | AJ27: =IF(exc_regeling_jn,AI27*gekozen_premie_exc2028,"") -> 0 | AK27: 18000 | AL27: =AK27/1000*VLOOKUP(leeftijd_deelnemer+1,'premie ANW-hiaat'!A$2:C$54,2,0)*VLOOKUP(leeftijd_partner+1,'premie ANW-hiaat'!A$2:C$54,3,0)*Q27 -> 36.012555 | AM27: =AG27 -> 695.48953 | AN27: =IF(exc_regeling_jn,AJ27,"") -> 0 | AO27: =AL27 -> 36.012555 | AP27: =SUM(AM27:AO27) -> 731.50209
A28: =IF(AND($B$5=12, COUNTIF($A$14:A27, 12)>1), "",IF(OR(AND($B$5=12, A27=12),AND($B$5=13, A27=13), A27 = "Periode"), 1, A27+1)) -> 2 | B28: =IF(OR(IF($B$5=13, rekenwaarden!D16, rekenwaarden!I16)<$B$6,IF($B$5=13, rekenwaarden!C16, rekenwaarden!H16)>$B$7),"",IF(A28="", "", IF($B$5=13, rekenwaarden!C16, rekenwaarden!H16))) -> 46784 | C28: =IF(B28="", "", IF($B$5=13, rekenwaarden!D16, rekenwaarden!I16)) -> 46812 | D28: 25000 | E28: 2000 | F28: 173.33 | G28: 0 | H28: nee | I28: 0 | J28: nee | K28: 0 | L28: 40 | M28: =IF(OR(MAX($B$6, B28)>C28, MIN($B$7, C28)<B28),"", MAX($B$6, B28)) -> 46784 | N28: =IF(OR(MAX($B$6, B28)>C28, MIN($B$7, C28)<B28),"", MIN($B$7, C28)) -> 46812 | O28: =IF(M28="","",IF($B$4=2,N28-M28+1,NETWORKDAYS(M28, N28))) -> 29 | P28: =IF(M28="", "", O28 / IF($B$4=2,(C28-B28+1), NETWORKDAYS(B28,C28))) -> 1 | Q28: =IF(M28="","", IF($B$4=2,P28/$B$5, IF($B$4=1,(O28/NETWORKDAYS(DATE(YEAR(M28),1,1), DATE(YEAR(N28),12,31))),0) )) -> 0.083333333 | R28: =ROUND((IF(M28="", "", L28*IF($B$4=2, 52/$B$5*P28, O28/5))),2) -> 173.33 | S28: =MIN(F28,R28) -> 173.33 | T28: =IF(M28<>"", AND(D28<>"", F28<>"", L28<>""), AND(D28="", F28="", L28="")) -> TRUE | U28: =S28/R28 -> 1 | V28: =IF(H28="ja",I28,0)/R28 -> 0 | W28: =(E28/U28)/Q28 -> 24000 | X28: =W28+D28 -> 49000 | Y28: =franchise2028 -> 19172 | Z28: =MIN(maxloon2028+W28, maxloonexc2028) -> 119000 | AA28: =maxloonexc2028 -> 137800 | AB28: =MIN(X28,Z28,AA28)-Y28 -> 29828 | AC28: =AB28*U28*Q28 -> 2485.6667 | AD28: =AB28*V28*Q28 -> 0 | AE28: =AC28*premiepct2028 -> 695.48953 | AF28: =AD28*premiepct2028*premiekort_ouderschapsverlof2028 -> 0 | AG28: =AE28-AF28 -> 695.48953 | AH28: =IF(exc_regeling_jn,MAX(MIN(X28,AA28)-Z28, 0),"") -> 0 | AI28: =IF(exc_regeling_jn,AH28*U28*Q28,"") -> 0 | AJ28: =IF(exc_regeling_jn,AI28*gekozen_premie_exc2028,"") -> 0 | AK28: 18000 | AL28: =AK28/1000*VLOOKUP(leeftijd_deelnemer+1,'premie ANW-hiaat'!A$2:C$54,2,0)*VLOOKUP(leeftijd_partner+1,'premie ANW-hiaat'!A$2:C$54,3,0)*Q28 -> 36.012555 | AM28: =AG28 -> 695.48953 | AN28: =IF(exc_regeling_jn,AJ28,"") -> 0 | AO28: =AL28 -> 36.012555 | AP28: =SUM(AM28:AO28) -> 731.50209
A29: =IF(AND($B$5=12, COUNTIF($A$14:A28, 12)>1), "",IF(OR(AND($B$5=12, A28=12),AND($B$5=13, A28=13), A28 = "Periode"), 1, A28+1)) -> 3 | B29: =IF(OR(IF($B$5=13, rekenwaarden!D17, rekenwaarden!I17)<$B$6,IF($B$5=13, rekenwaarden!C17, rekenwaarden!H17)>$B$7),"",IF(A29="", "", IF($B$5=13, rekenwaarden!C17, rekenwaarden!H17))) -> 46813 | C29: =IF(B29="", "", IF($B$5=13, rekenwaarden!D17, rekenwaarden!I17)) -> 46843 | D29: 25000 | E29: 2000 | F29: 173.33 | G29: 40 | H29: ja | I29: 40 | J29: nee | K29: 0 | L29: 40 | M29: =IF(OR(MAX($B$6, B29)>C29, MIN($B$7, C29)<B29),"", MAX($B$6, B29)) -> 46813 | N29: =IF(OR(MAX($B$6, B29)>C29, MIN($B$7, C29)<B29),"", MIN($B$7, C29)) -> 46843 | O29: =IF(M29="","",IF($B$4=2,N29-M29+1,NETWORKDAYS(M29, N29))) -> 31 | P29: =IF(M29="", "", O29 / IF($B$4=2,(C29-B29+1), NETWORKDAYS(B29,C29))) -> 1 | Q29: =IF(M29="","", IF($B$4=2,P29/$B$5, IF($B$4=1,(O29/NETWORKDAYS(DATE(YEAR(M29),1,1), DATE(YEAR(N29),12,31))),0) )) -> 0.083333333 | R29: =ROUND((IF(M29="", "", L29*IF($B$4=2, 52/$B$5*P29, O29/5))),2) -> 173.33 | S29: =MIN(F29,R29) -> 173.33 | T29: =IF(M29<>"", AND(D29<>"", F29<>"", L29<>""), AND(D29="", F29="", L29="")) -> TRUE | U29: =S29/R29 -> 1 | V29: =IF(H29="ja",I29,0)/R29 -> 0.23077367 | W29: =(E29/U29)/Q29 -> 24000 | X29: =W29+D29 -> 49000 | Y29: =franchise2028 -> 19172 | Z29: =MIN(maxloon2028+W29, maxloonexc2028) -> 119000 | AA29: =maxloonexc2028 -> 137800 | AB29: =MIN(X29,Z29,AA29)-Y29 -> 29828 | AC29: =AB29*U29*Q29 -> 2485.6667 | AD29: =AB29*V29*Q29 -> 573.62642 | AE29: =AC29*premiepct2028 -> 695.48953 | AF29: =AD29*premiepct2028*premiekort_ouderschapsverlof2028 -> 80.250336 | AG29: =AE29-AF29 -> 615.2392 | AH29: =IF(exc_regeling_jn,MAX(MIN(X29,AA29)-Z29, 0),"") -> 0 | AI29: =IF(exc_regeling_jn,AH29*U29*Q29,"") -> 0 | AJ29: =IF(exc_regeling_jn,AI29*gekozen_premie_exc2028,"") -> 0 | AK29: 18000 | AL29: =AK29/1000*VLOOKUP(leeftijd_deelnemer+1,'premie ANW-hiaat'!A$2:C$54,2,0)*VLOOKUP(leeftijd_partner+1,'premie ANW-hiaat'!A$2:C$54,3,0)*Q29 -> 36.012555 | AM29: =AG29 -> 615.2392 | AN29: =IF(exc_regeling_jn,AJ29,"") -> 0 | AO29: =AL29 -> 36.012555 | AP29: =SUM(AM29:AO29) -> 651.25175
A30: =IF(AND($B$5=12, COUNTIF($A$14:A29, 12)>1), "",IF(OR(AND($B$5=12, A29=12),AND($B$5=13, A29=13), A29 = "Periode"), 1, A29+1)) -> 4 | B30: =IF(OR(IF($B$5=13, rekenwaarden!D18, rekenwaarden!I18)<$B$6,IF($B$5=13, rekenwaarden!C18, rekenwaarden!H18)>$B$7),"",IF(A30="", "", IF($B$5=13, rekenwaarden!C18, rekenwaarden!H18))) -> 46844 | C30: =IF(B30="", "", IF($B$5=13, rekenwaarden!D18, rekenwaarden!I18)) -> 46873 | D30: 25000 | E30: 2000 | F30: 113.33 | G30: 60 | H30: nee | I30: 60 | J30: nee | K30: 0 | L30: 40 | M30: =IF(OR(MAX($B$6, B30)>C30, MIN($B$7, C30)<B30),"", MAX($B$6, B30)) -> 46844 | N30: =IF(OR(MAX($B$6, B30)>C30, MIN($B$7, C30)<B30),"", MIN($B$7, C30)) -> 46873 | O30: =IF(M30="","",IF($B$4=2,N30-M30+1,NETWORKDAYS(M30, N30))) -> 30 | P30: =IF(M30="", "", O30 / IF($B$4=2,(C30-B30+1), NETWORKDAYS(B30,C30))) -> 1 | Q30: =IF(M30="","", IF($B$4=2,P30/$B$5, IF($B$4=1,(O30/NETWORKDAYS(DATE(YEAR(M30),1,1), DATE(YEAR(N30),12,31))),0) )) -> 0.083333333 | R30: =ROUND((IF(M30="", "", L30*IF($B$4=2, 52/$B$5*P30, O30/5))),2) -> 173.33 | S30: =MIN(F30,R30) -> 113.33 | T30: =IF(M30<>"", AND(D30<>"", F30<>"", L30<>""), AND(D30="", F30="", L30="")) -> TRUE | U30: =S30/R30 -> 0.6538395 | V30: =IF(H30="ja",I30,0)/R30 -> 0 | W30: =(E30/U30)/Q30 -> 36706.256 | X30: =W30+D30 -> 61706.256 | Y30: =franchise2028 -> 19172 | Z30: =MIN(maxloon2028+W30, maxloonexc2028) -> 131706.26 | AA30: =maxloonexc2028 -> 137800 | AB30: =MIN(X30,Z30,AA30)-Y30 -> 42534.256 | AC30: =AB30*U30*Q30 -> 2317.548 | AD30: =AB30*V30*Q30 -> 0 | AE30: =AC30*premiepct2028 -> 648.44994 | AF30: =AD30*premiepct2028*premiekort_ouderschapsverlof2028 -> 0 | AG30: =AE30-AF30 -> 648.44994 | AH30: =IF(exc_regeling_jn,MAX(MIN(X30,AA30)-Z30, 0),"") -> 0 | AI30: =IF(exc_regeling_jn,AH30*U30*Q30,"") -> 0 | AJ30: =IF(exc_regeling_jn,AI30*gekozen_premie_exc2028,"") -> 0 | AK30: 18000 | AL30: =AK30/1000*VLOOKUP(leeftijd_deelnemer+1,'premie ANW-hiaat'!A$2:C$54,2,0)*VLOOKUP(leeftijd_partner+1,'premie ANW-hiaat'!A$2:C$54,3,0)*Q30 -> 36.012555 | AM30: =AG30 -> 648.44994 | AN30: =IF(exc_regeling_jn,AJ30,"") -> 0 | AO30: =AL30 -> 36.012555 | AP30: =SUM(AM30:AO30) -> 684.4625
A31: =IF(AND($B$5=12, COUNTIF($A$14:A30, 12)>1), "",IF(OR(AND($B$5=12, A30=12),AND($B$5=13, A30=13), A30 = "Periode"), 1, A30+1)) -> 5 | B31: =IF(OR(IF($B$5=13, rekenwaarden!D19, rekenwaarden!I19)<$B$6,IF($B$5=13, rekenwaarden!C19, rekenwaarden!H19)>$B$7),"",IF(A31="", "", IF($B$5=13, rekenwaarden!C19, rekenwaarden!H19))) -> 46874 | C31: =IF(B31="", "", IF($B$5=13, rekenwaarden!D19, rekenwaarden!I19)) -> 46904 | D31: 25000 | E31: 1250 | F31: 173.33 | G31: 0 | H31: nee | I31: 40 | J31: nee | K31: 0 | L31: 40 | M31: =IF(OR(MAX($B$6, B31)>C31, MIN($B$7, C31)<B31),"", MAX($B$6, B31)) -> 46874 | N31: =IF(OR(MAX($B$6, B31)>C31, MIN($B$7, C31)<B31),"", MIN($B$7, C31)) -> 46904 | O31: =IF(M31="","",IF($B$4=2,N31-M31+1,NETWORKDAYS(M31, N31))) -> 31 | P31: =IF(M31="", "", O31 / IF($B$4=2,(C31-B31+1), NETWORKDAYS(B31,C31))) -> 1 | Q31: =IF(M31="","", IF($B$4=2,P31/$B$5, IF($B$4=1,(O31/NETWORKDAYS(DATE(YEAR(M31),1,1), DATE(YEAR(N31),12,31))),0) )) -> 0.083333333 | R31: =ROUND((IF(M31="", "", L31*IF($B$4=2, 52/$B$5*P31, O31/5))),2) -> 173.33 | S31: =MIN(F31,R31) -> 173.33 | T31: =IF(M31<>"", AND(D31<>"", F31<>"", L31<>""), AND(D31="", F31="", L31="")) -> TRUE | U31: =S31/R31 -> 1 | V31: =IF(H31="ja",I31,0)/R31 -> 0 | W31: =(E31/U31)/Q31 -> 15000 | X31: =W31+D31 -> 40000 | Y31: =franchise2028 -> 19172 | Z31: =MIN(maxloon2028+W31, maxloonexc2028) -> 110000 | AA31: =maxloonexc2028 -> 137800 | AB31: =MIN(X31,Z31,AA31)-Y31 -> 20828 | AC31: =AB31*U31*Q31 -> 1735.6667 | AD31: =AB31*V31*Q31 -> 0 | AE31: =AC31*premiepct2028 -> 485.63953 | AF31: =AD31*premiepct2028*premiekort_ouderschapsverlof2028 -> 0 | AG31: =AE31-AF31 -> 485.63953 | AH31: =IF(exc_regeling_jn,MAX(MIN(X31,AA31)-Z31, 0),"") -> 0 | AI31: =IF(exc_regeling_jn,AH31*U31*Q31,"") -> 0 | AJ31: =IF(exc_regeling_jn,AI31*gekozen_premie_exc2028,"") -> 0 | AK31: 18000 | AL31: =AK31/1000*VLOOKUP(leeftijd_deelnemer+1,'premie ANW-hiaat'!A$2:C$54,2,0)*VLOOKUP(leeftijd_partner+1,'premie ANW-hiaat'!A$2:C$54,3,0)*Q31 -> 36.012555 | AM31: =AG31 -> 485.63953 | AN31: =IF(exc_regeling_jn,AJ31,"") -> 0 | AO31: =AL31 -> 36.012555 | AP31: =SUM(AM31:AO31) -> 521.65209
A32: =IF(AND($B$5=12, COUNTIF($A$14:A31, 12)>1), "",IF(OR(AND($B$5=12, A31=12),AND($B$5=13, A31=13), A31 = "Periode"), 1, A31+1)) -> 6 | B32: =IF(OR(IF($B$5=13, rekenwaarden!D20, rekenwaarden!I20)<$B$6,IF($B$5=13, rekenwaarden!C20, rekenwaarden!H20)>$B$7),"",IF(A32="", "", IF($B$5=13, rekenwaarden!C20, rekenwaarden!H20))) -> 46905 | C32: =IF(B32="", "", IF($B$5=13, rekenwaarden!D20, rekenwaarden!I20)) -> 46934 | D32: 25000 | E32: 3750 | F32: 173.33 | G32: 0 | H32: nee | I32: 0 | J32: nee | K32: 0 | L32: 40 | M32: =IF(OR(MAX($B$6, B32)>C32, MIN($B$7, C32)<B32),"", MAX($B$6, B32)) -> 46905 | N32: =IF(OR(MAX($B$6, B32)>C32, MIN($B$7, C32)<B32),"", MIN($B$7, C32)) -> 46934 | O32: =IF(M32="","",IF($B$4=2,N32-M32+1,NETWORKDAYS(M32, N32))) -> 30 | P32: =IF(M32="", "", O32 / IF($B$4=2,(C32-B32+1), NETWORKDAYS(B32,C32))) -> 1 | Q32: =IF(M32="","", IF($B$4=2,P32/$B$5, IF($B$4=1,(O32/NETWORKDAYS(DATE(YEAR(M32),1,1), DATE(YEAR(N32),12,31))),0) )) -> 0.083333333 | R32: =ROUND((IF(M32="", "", L32*IF($B$4=2, 52/$B$5*P32, O32/5))),2) -> 173.33 | S32: =MIN(F32,R32) -> 173.33 | T32: =IF(M32<>"", AND(D32<>"", F32<>"", L32<>""), AND(D32="", F32="", L32="")) -> TRUE | U32: =S32/R32 -> 1 | V32: =IF(H32="ja",I32,0)/R32 -> 0 | W32: =(E32/U32)/Q32 -> 45000 | X32: =W32+D32 -> 70000 | Y32: =franchise2028 -> 19172 | Z32: =MIN(maxloon2028+W32, maxloonexc2028) -> 137800 | AA32: =maxloonexc2028 -> 137800 | AB32: =MIN(X32,Z32,AA32)-Y32 -> 50828 | AC32: =AB32*U32*Q32 -> 4235.6667 | AD32: =AB32*V32*Q32 -> 0 | AE32: =AC32*premiepct2028 -> 1185.1395 | AF32: =AD32*premiepct2028*premiekort_ouderschapsverlof2028 -> 0 | AG32: =AE32-AF32 -> 1185.1395 | AH32: =IF(exc_regeling_jn,MAX(MIN(X32,AA32)-Z32, 0),"") -> 0 | AI32: =IF(exc_regeling_jn,AH32*U32*Q32,"") -> 0 | AJ32: =IF(exc_regeling_jn,AI32*gekozen_premie_exc2028,"") -> 0 | AK32: 18000 | AL32: =AK32/1000*VLOOKUP(leeftijd_deelnemer+1,'premie ANW-hiaat'!A$2:C$54,2,0)*VLOOKUP(leeftijd_partner+1,'premie ANW-hiaat'!A$2:C$54,3,0)*Q32 -> 36.012555 | AM32: =AG32 -> 1185.1395 | AN32: =IF(exc_regeling_jn,AJ32,"") -> 0 | AO32: =AL32 -> 36.012555 | AP32: =SUM(AM32:AO32) -> 1221.1521
A33: =IF(AND($B$5=12, COUNTIF($A$14:A32, 12)>1), "",IF(OR(AND($B$5=12, A32=12),AND($B$5=13, A32=13), A32 = "Periode"), 1, A32+1)) -> 7 | B33: =IF(OR(IF($B$5=13, rekenwaarden!D21, rekenwaarden!I21)<$B$6,IF($B$5=13, rekenwaarden!C21, rekenwaarden!H21)>$B$7),"",IF(A33="", "", IF($B$5=13, rekenwaarden!C21, rekenwaarden!H21))) -> 46935 | C33: =IF(B33="", "", IF($B$5=13, rekenwaarden!D21, rekenwaarden!I21)) -> 46965 | D33: 25000 | E33: 3750 | F33: 173.33 | G33: 0 | H33: nee | I33: 0 | J33: nee | K33: 0 | L33: 40 | M33: =IF(OR(MAX($B$6, B33)>C33, MIN($B$7, C33)<B33),"", MAX($B$6, B33)) -> 46935 | N33: =IF(OR(MAX($B$6, B33)>C33, MIN($B$7, C33)<B33),"", MIN($B$7, C33)) -> 46965 | O33: =IF(M33="","",IF($B$4=2,N33-M33+1,NETWORKDAYS(M33, N33))) -> 31 | P33: =IF(M33="", "", O33 / IF($B$4=2,(C33-B33+1), NETWORKDAYS(B33,C33))) -> 1 | Q33: =IF(M33="","", IF($B$4=2,P33/$B$5, IF($B$4=1,(O33/NETWORKDAYS(DATE(YEAR(M33),1,1), DATE(YEAR(N33),12,31))),0) )) -> 0.083333333 | R33: =ROUND((IF(M33="", "", L33*IF($B$4=2, 52/$B$5*P33, O33/5))),2) -> 173.33 | S33: =MIN(F33,R33) -> 173.33 | T33: =IF(M33<>"", AND(D33<>"", F33<>"", L33<>""), AND(D33="", F33="", L33="")) -> TRUE | U33: =S33/R33 -> 1 | V33: =IF(H33="ja",I33,0)/R33 -> 0 | W33: =(E33/U33)/Q33 -> 45000 | X33: =W33+D33 -> 70000 | Y33: =franchise2028 -> 19172 | Z33: =MIN(maxloon2028+W33, maxloonexc2028) -> 137800 | AA33: =maxloonexc2028 -> 137800 | AB33: =MIN(X33,Z33,AA33)-Y33 -> 50828 | AC33: =AB33*U33*Q33 -> 4235.6667 | AD33: =AB33*V33*Q33 -> 0 | AE33: =AC33*premiepct2028 -> 1185.1395 | AF33: =AD33*premiepct2028*premiekort_ouderschapsverlof2028 -> 0 | AG33: =AE33-AF33 -> 1185.1395 | AH33: =IF(exc_regeling_jn,MAX(MIN(X33,AA33)-Z33, 0),"") -> 0 | AI33: =IF(exc_regeling_jn,AH33*U33*Q33,"") -> 0 | AJ33: =IF(exc_regeling_jn,AI33*gekozen_premie_exc2028,"") -> 0 | AK33: 18000 | AL33: =AK33/1000*VLOOKUP(leeftijd_deelnemer+1,'premie ANW-hiaat'!A$2:C$54,2,0)*VLOOKUP(leeftijd_partner+1,'premie ANW-hiaat'!A$2:C$54,3,0)*Q33 -> 36.012555 | AM33: =AG33 -> 1185.1395 | AN33: =IF(exc_regeling_jn,AJ33,"") -> 0 | AO33: =AL33 -> 36.012555 | AP33: =SUM(AM33:AO33) -> 1221.1521
A34: =IF(AND($B$5=12, COUNTIF($A$14:A33, 12)>1), "",IF(OR(AND($B$5=12, A33=12),AND($B$5=13, A33=13), A33 = "Periode"), 1, A33+1)) -> 8 | B34: =IF(OR(IF($B$5=13, rekenwaarden!D22, rekenwaarden!I22)<$B$6,IF($B$5=13, rekenwaarden!C22, rekenwaarden!H22)>$B$7),"",IF(A34="", "", IF($B$5=13, rekenwaarden!C22, rekenwaarden!H22))) -> 46966 | C34: =IF(B34="", "", IF($B$5=13, rekenwaarden!D22, rekenwaarden!I22)) -> 46996 | D34: 25000 | E34: 250 | F34: 173.33 | G34: 0 | H34: nee | I34: 0 | J34: nee | K34: 0 | L34: 40 | M34: =IF(OR(MAX($B$6, B34)>C34, MIN($B$7, C34)<B34),"", MAX($B$6, B34)) -> 46966 | N34: =IF(OR(MAX($B$6, B34)>C34, MIN($B$7, C34)<B34),"", MIN($B$7, C34)) -> 46996 | O34: =IF(M34="","",IF($B$4=2,N34-M34+1,NETWORKDAYS(M34, N34))) -> 31 | P34: =IF(M34="", "", O34 / IF($B$4=2,(C34-B34+1), NETWORKDAYS(B34,C34))) -> 1 | Q34: =IF(M34="","", IF($B$4=2,P34/$B$5, IF($B$4=1,(O34/NETWORKDAYS(DATE(YEAR(M34),1,1), DATE(YEAR(N34),12,31))),0) )) -> 0.083333333 | R34: =ROUND((IF(M34="", "", L34*IF($B$4=2, 52/$B$5*P34, O34/5))),2) -> 173.33 | S34: =MIN(F34,R34) -> 173.33 | T34: =IF(M34<>"", AND(D34<>"", F34<>"", L34<>""), AND(D34="", F34="", L34="")) -> TRUE | U34: =S34/R34 -> 1 | V34: =IF(H34="ja",I34,0)/R34 -> 0 | W34: =(E34/U34)/Q34 -> 3000 | X34: =W34+D34 -> 28000 | Y34: =franchise2028 -> 19172 | Z34: =MIN(maxloon2028+W34, maxloonexc2028) -> 98000 | AA34: =maxloonexc2028 -> 137800 | AB34: =MIN(X34,Z34,AA34)-Y34 -> 8828 | AC34: =AB34*U34*Q34 -> 735.66667 | AD34: =AB34*V34*Q34 -> 0 | AE34: =AC34*premiepct2028 -> 205.83953 | AF34: =AD34*premiepct2028*premiekort_ouderschapsverlof2028 -> 0 | AG34: =AE34-AF34 -> 205.83953 | AH34: =IF(exc_regeling_jn,MAX(MIN(X34,AA34)-Z34, 0),"") -> 0 | AI34: =IF(exc_regeling_jn,AH34*U34*Q34,"") -> 0 | AJ34: =IF(exc_regeling_jn,AI34*gekozen_premie_exc2028,"") -> 0 | AK34: 18000 | AL34: =AK34/1000*VLOOKUP(leeftijd_deelnemer+1,'premie ANW-hiaat'!A$2:C$54,2,0)*VLOOKUP(leeftijd_partner+1,'premie ANW-hiaat'!A$2:C$54,3,0)*Q34 -> 36.012555 | AM34: =AG34 -> 205.83953 | AN34: =IF(exc_regeling_jn,AJ34,"") -> 0 | AO34: =AL34 -> 36.012555 | AP34: =SUM(AM34:AO34) -> 241.85209
A35: =IF(AND($B$5=12, COUNTIF($A$14:A34, 12)>1), "",IF(OR(AND($B$5=12, A34=12),AND($B$5=13, A34=13), A34 = "Periode"), 1, A34+1)) -> 9 | B35: =IF(OR(IF($B$5=13, rekenwaarden!D23, rekenwaarden!I23)<$B$6,IF($B$5=13, rekenwaarden!C23, rekenwaarden!H23)>$B$7),"",IF(A35="", "", IF($B$5=13, rekenwaarden!C23, rekenwaarden!H23))) -> 46997 | C35: =IF(B35="", "", IF($B$5=13, rekenwaarden!D23, rekenwaarden!I23)) -> 47026 | D35: 25000 | E35: 250 | F35: 173.33 | G35: 0 | H35: nee | I35: 0 | J35: nee | K35: 0 | L35: 40 | M35: =IF(OR(MAX($B$6, B35)>C35, MIN($B$7, C35)<B35),"", MAX($B$6, B35)) -> 46997 | N35: =IF(OR(MAX($B$6, B35)>C35, MIN($B$7, C35)<B35),"", MIN($B$7, C35)) -> 47026 | O35: =IF(M35="","",IF($B$4=2,N35-M35+1,NETWORKDAYS(M35, N35))) -> 30 | P35: =IF(M35="", "", O35 / IF($B$4=2,(C35-B35+1), NETWORKDAYS(B35,C35))) -> 1 | Q35: =IF(M35="","", IF($B$4=2,P35/$B$5, IF($B$4=1,(O35/NETWORKDAYS(DATE(YEAR(M35),1,1), DATE(YEAR(N35),12,31))),0) )) -> 0.083333333 | R35: =ROUND((IF(M35="", "", L35*IF($B$4=2, 52/$B$5*P35, O35/5))),2) -> 173.33 | S35: =MIN(F35,R35) -> 173.33 | T35: =IF(M35<>"", AND(D35<>"", F35<>"", L35<>""), AND(D35="", F35="", L35="")) -> TRUE | U35: =S35/R35 -> 1 | V35: =IF(H35="ja",I35,0)/R35 -> 0 | W35: =(E35/U35)/Q35 -> 3000 | X35: =W35+D35 -> 28000 | Y35: =franchise2028 -> 19172 | Z35: =MIN(maxloon2028+W35, maxloonexc2028) -> 98000 | AA35: =maxloonexc2028 -> 137800 | AB35: =MIN(X35,Z35,AA35)-Y35 -> 8828 | AC35: =AB35*U35*Q35 -> 735.66667 | AD35: =AB35*V35*Q35 -> 0 | AE35: =AC35*premiepct2028 -> 205.83953 | AF35: =AD35*premiepct2028*premiekort_ouderschapsverlof2028 -> 0 | AG35: =AE35-AF35 -> 205.83953 | AH35: =IF(exc_regeling_jn,MAX(MIN(X35,AA35)-Z35, 0),"") -> 0 | AI35: =IF(exc_regeling_jn,AH35*U35*Q35,"") -> 0 | AJ35: =IF(exc_regeling_jn,AI35*gekozen_premie_exc2028,"") -> 0 | AK35: 18000 | AL35: =AK35/1000*VLOOKUP(leeftijd_deelnemer+1,'premie ANW-hiaat'!A$2:C$54,2,0)*VLOOKUP(leeftijd_partner+1,'premie ANW-hiaat'!A$2:C$54,3,0)*Q35 -> 36.012555 | AM35: =AG35 -> 205.83953 | AN35: =IF(exc_regeling_jn,AJ35,"") -> 0 | AO35: =AL35 -> 36.012555 | AP35: =SUM(AM35:AO35) -> 241.85209
A36: =IF(AND($B$5=12, COUNTIF($A$14:A35, 12)>1), "",IF(OR(AND($B$5=12, A35=12),AND($B$5=13, A35=13), A35 = "Periode"), 1, A35+1)) -> 10 | B36: =IF(OR(IF($B$5=13, rekenwaarden!D24, rekenwaarden!I24)<$B$6,IF($B$5=13, rekenwaarden!C24, rekenwaarden!H24)>$B$7),"",IF(A36="", "", IF($B$5=13, rekenwaarden!C24, rekenwaarden!H24))) -> 47027 | C36: =IF(B36="", "", IF($B$5=13, rekenwaarden!D24, rekenwaarden!I24)) -> 47057 | D36: 25000 | E36: 0 | F36: 173.33 | G36: 0 | H36: nee | I36: 0 | J36: nee | K36: 0 | L36: 40 | M36: =IF(OR(MAX($B$6, B36)>C36, MIN($B$7, C36)<B36),"", MAX($B$6, B36)) -> 47027 | N36: =IF(OR(MAX($B$6, B36)>C36, MIN($B$7, C36)<B36),"", MIN($B$7, C36)) -> 47057 | O36: =IF(M36="","",IF($B$4=2,N36-M36+1,NETWORKDAYS(M36, N36))) -> 31 | P36: =IF(M36="", "", O36 / IF($B$4=2,(C36-B36+1), NETWORKDAYS(B36,C36))) -> 1 | Q36: =IF(M36="","", IF($B$4=2,P36/$B$5, IF($B$4=1,(O36/NETWORKDAYS(DATE(YEAR(M36),1,1), DATE(YEAR(N36),12,31))),0) )) -> 0.083333333 | R36: =ROUND((IF(M36="", "", L36*IF($B$4=2, 52/$B$5*P36, O36/5))),2) -> 173.33 | S36: =MIN(F36,R36) -> 173.33 | T36: =IF(M36<>"", AND(D36<>"", F36<>"", L36<>""), AND(D36="", F36="", L36="")) -> TRUE | U36: =S36/R36 -> 1 | V36: =IF(H36="ja",I36,0)/R36 -> 0 | W36: =(E36/U36)/Q36 -> 0 | X36: =W36+D36 -> 25000 | Y36: =franchise2028 -> 19172 | Z36: =MIN(maxloon2028+W36, maxloonexc2028) -> 95000 | AA36: =maxloonexc2028 -> 137800 | AB36: =MIN(X36,Z36,AA36)-Y36 -> 5828 | AC36: =AB36*U36*Q36 -> 485.66667 | AD36: =AB36*V36*Q36 -> 0 | AE36: =AC36*premiepct2028 -> 135.88953 | AF36: =AD36*premiepct2028*premiekort_ouderschapsverlof2028 -> 0 | AG36: =AE36-AF36 -> 135.88953 | AH36: =IF(exc_regeling_jn,MAX(MIN(X36,AA36)-Z36, 0),"") -> 0 | AI36: =IF(exc_regeling_jn,AH36*U36*Q36,"") -> 0 | AJ36: =IF(exc_regeling_jn,AI36*gekozen_premie_exc2028,"") -> 0 | AK36: 18000 | AL36: =AK36/1000*VLOOKUP(leeftijd_deelnemer+1,'premie ANW-hiaat'!A$2:C$54,2,0)*VLOOKUP(leeftijd_partner+1,'premie ANW-hiaat'!A$2:C$54,3,0)*Q36 -> 36.012555 | AM36: =AG36 -> 135.88953 | AN36: =IF(exc_regeling_jn,AJ36,"") -> 0 | AO36: =AL36 -> 36.012555 | AP36: =SUM(AM36:AO36) -> 171.90209
A37: =IF(AND($B$5=12, COUNTIF($A$14:A36, 12)>1), "",IF(OR(AND($B$5=12, A36=12),AND($B$5=13, A36=13), A36 = "Periode"), 1, A36+1)) -> 11 | B37: =IF(OR(IF($B$5=13, rekenwaarden!D25, rekenwaarden!I25)<$B$6,IF($B$5=13, rekenwaarden!C25, rekenwaarden!H25)>$B$7),"",IF(A37="", "", IF($B$5=13, rekenwaarden!C25, rekenwaarden!H25))) -> 47058 | C37: =IF(B37="", "", IF($B$5=13, rekenwaarden!D25, rekenwaarden!I25)) -> 47087 | D37: 25000 | E37: 0 | F37: 173.33 | G37: 0 | H37: nee | I37: 0 | J37: nee | K37: 0 | L37: 40 | M37: =IF(OR(MAX($B$6, B37)>C37, MIN($B$7, C37)<B37),"", MAX($B$6, B37)) -> 47058 | N37: =IF(OR(MAX($B$6, B37)>C37, MIN($B$7, C37)<B37),"", MIN($B$7, C37)) -> 47087 | O37: =IF(M37="","",IF($B$4=2,N37-M37+1,NETWORKDAYS(M37, N37))) -> 30 | P37: =IF(M37="", "", O37 / IF($B$4=2,(C37-B37+1), NETWORKDAYS(B37,C37))) -> 1 | Q37: =IF(M37="","", IF($B$4=2,P37/$B$5, IF($B$4=1,(O37/NETWORKDAYS(DATE(YEAR(M37),1,1), DATE(YEAR(N37),12,31))),0) )) -> 0.083333333 | R37: =ROUND((IF(M37="", "", L37*IF($B$4=2, 52/$B$5*P37, O37/5))),2) -> 173.33 | S37: =MIN(F37,R37) -> 173.33 | T37: =IF(M37<>"", AND(D37<>"", F37<>"", L37<>""), AND(D37="", F37="", L37="")) -> TRUE | U37: =S37/R37 -> 1 | V37: =IF(H37="ja",I37,0)/R37 -> 0 | W37: =(E37/U37)/Q37 -> 0 | X37: =W37+D37 -> 25000 | Y37: =franchise2028 -> 19172 | Z37: =MIN(maxloon2028+W37, maxloonexc2028) -> 95000 | AA37: =maxloonexc2028 -> 137800 | AB37: =MIN(X37,Z37,AA37)-Y37 -> 5828 | AC37: =AB37*U37*Q37 -> 485.66667 | AD37: =AB37*V37*Q37 -> 0 | AE37: =AC37*premiepct2028 -> 135.88953 | AF37: =AD37*premiepct2028*premiekort_ouderschapsverlof2028 -> 0 | AG37: =AE37-AF37 -> 135.88953 | AH37: =IF(exc_regeling_jn,MAX(MIN(X37,AA37)-Z37, 0),"") -> 0 | AI37: =IF(exc_regeling_jn,AH37*U37*Q37,"") -> 0 | AJ37: =IF(exc_regeling_jn,AI37*gekozen_premie_exc2028,"") -> 0 | AK37: 18000 | AL37: =AK37/1000*VLOOKUP(leeftijd_deelnemer+1,'premie ANW-hiaat'!A$2:C$54,2,0)*VLOOKUP(leeftijd_partner+1,'premie ANW-hiaat'!A$2:C$54,3,0)*Q37 -> 36.012555 | AM37: =AG37 -> 135.88953 | AN37: =IF(exc_regeling_jn,AJ37,"") -> 0 | AO37: =AL37 -> 36.012555 | AP37: =SUM(AM37:AO37) -> 171.90209
A38: =IF(AND($B$5=12, COUNTIF($A$14:A37, 12)>1), "",IF(OR(AND($B$5=12, A37=12),AND($B$5=13, A37=13), A37 = "Periode"), 1, A37+1)) -> 12 | B38: =IF(OR(IF($B$5=13, rekenwaarden!D26, rekenwaarden!I26)<$B$6,IF($B$5=13, rekenwaarden!C26, rekenwaarden!H26)>$B$7),"",IF(A38="", "", IF($B$5=13, rekenwaarden!C26, rekenwaarden!H26))) -> 47088 | C38: =IF(B38="", "", IF($B$5=13, rekenwaarden!D26, rekenwaarden!I26)) -> 47118 | D38: 25000 | E38: 0 | F38: 173.33 | G38: 0 | H38: nee | I38: 0 | J38: nee | K38: 0 | L38: 40 | M38: =IF(OR(MAX($B$6, B38)>C38, MIN($B$7, C38)<B38),"", MAX($B$6, B38)) -> 47088 | N38: =IF(OR(MAX($B$6, B38)>C38, MIN($B$7, C38)<B38),"", MIN($B$7, C38)) -> 47097 | O38: =IF(M38="","",IF($B$4=2,N38-M38+1,NETWORKDAYS(M38, N38))) -> 10 | P38: =IF(M38="", "", O38 / IF($B$4=2,(C38-B38+1), NETWORKDAYS(B38,C38))) -> 0.32258065 | Q38: =IF(M38="","", IF($B$4=2,P38/$B$5, IF($B$4=1,(O38/NETWORKDAYS(DATE(YEAR(M38),1,1), DATE(YEAR(N38),12,31))),0) )) -> 0.02688172 | R38: =ROUND((IF(M38="", "", L38*IF($B$4=2, 52/$B$5*P38, O38/5))),2) -> 55.91 | S38: =MIN(F38,R38) -> 55.91 | T38: =IF(M38<>"", AND(D38<>"", F38<>"", L38<>""), AND(D38="", F38="", L38="")) -> TRUE | U38: =S38/R38 -> 1 | V38: =IF(H38="ja",I38,0)/R38 -> 0 | W38: =(E38/U38)/Q38 -> 0 | X38: =W38+D38 -> 25000 | Y38: =franchise2028 -> 19172 | Z38: =MIN(maxloon2028+W38, maxloonexc2028) -> 95000 | AA38: =maxloonexc2028 -> 137800 | AB38: =MIN(X38,Z38,AA38)-Y38 -> 5828 | AC38: =AB38*U38*Q38 -> 156.66667 | AD38: =AB38*V38*Q38 -> 0 | AE38: =AC38*premiepct2028 -> 43.835333 | AF38: =AD38*premiepct2028*premiekort_ouderschapsverlof2028 -> 0 | AG38: =AE38-AF38 -> 43.835333 | AH38: =IF(exc_regeling_jn,MAX(MIN(X38,AA38)-Z38, 0),"") -> 0 | AI38: =IF(exc_regeling_jn,AH38*U38*Q38,"") -> 0 | AJ38: =IF(exc_regeling_jn,AI38*gekozen_premie_exc2028,"") -> 0 | AK38: 18000 | AL38: =AK38/1000*VLOOKUP(leeftijd_deelnemer+1,'premie ANW-hiaat'!A$2:C$54,2,0)*VLOOKUP(leeftijd_partner+1,'premie ANW-hiaat'!A$2:C$54,3,0)*Q38 -> 11.616953 | AM38: =AG38 -> 43.835333 | AN38: =IF(exc_regeling_jn,AJ38,"") -> 0 | AO38: =AL38 -> 11.616953 | AP38: =SUM(AM38:AO38) -> 55.452287

Sheet Grondslagbepaling 4wk
A3: Soort grondslag | B3: jaarsalaris | H3: =IF(AND(H4="", H5=""), "", "Fout sheet:")
A4: Interpolatiemethode | B4: 2 | C4: --> | D4: 1 = SV-dagen, 2 = kalenderdagen | H4: =IF(AND($T$15:$T$40),"", "Gegevens komen niet overeen met dienstverbandlengte. Input wijzigen of ingang/einde dienstverband verplaatsen")
A5: Verloningen per jaar | B5: 13 | C5: --> | D5: 12 = maandelijks, 13 = 4 wekelijks | H5: =IF(B6<=B7,"", "Ingang dienstverband kan niet voor einddatum dienstverband liggen")
A6: Ingangsdatum dvb | B6: 46402
A7: Einddatum dvb | B7: 47097
A8: Excedentregeling | B8: TRUE | E8: = | F8: aan te passen veld
A9: Leeftijd deelnemer | B9: 51
A10: Leeftijd partner | B10: 44
